BEGIN:VCALENDAR
PRODID:http://www.kufer.de/kuferweb / DE
VERSION:2.0
METHOD:PUBLISH
CALSCALE:GREGORIAN
X-WR-TIMEZONE:Europe/Berlin
BEGIN:VTIMEZONE
TZID:Europe/Berlin
X-LIC-LOCATION:Europe/Berlin
BEGIN:DAYLIGHT
TZOFFSETFROM:+0100
TZOFFSETTO:+0200
TZNAME:CEST
DTSTART;TZID=Europe/Berlin:19700329T020000
RRULE:FREQ=YEARLY;INTERVAL=1;BYDAY=-1SU;BYMONTH=3
END:DAYLIGHT
BEGIN:STANDARD
TZOFFSETFROM:+0200
TZOFFSETTO:+0100
TZNAME:CET
DTSTART;TZID=Europe/Berlin:19701025T030000
RRULE:FREQ=YEARLY;INTERVAL=1;BYDAY=-1SU;BYMONTH=10
END:STANDARD
END:VTIMEZONE
BEGIN:VEVENT
DTSTAMP:20260421T101609
DTSTART;TZID=Europe/Berlin:20260226T201500
DTEND;TZID=Europe/Berlin:20260226T210000
UID:H146025-20260226T201500@VHSMANNHEIM
SUMMARY:Klavier (Einzelunterricht) für Anfänger/-innen und Wiedereinsteiger/-innen (H146025) 
LOCATION:U 1, Raum 314, U1, 16 - 19, 68161 Mannheim
END:VEVENT
BEGIN:VEVENT
DTSTAMP:20260421T101609
DTSTART;TZID=Europe/Berlin:20260312T201500
DTEND;TZID=Europe/Berlin:20260312T210000
UID:H146025-20260312T201500@VHSMANNHEIM
SUMMARY:Klavier (Einzelunterricht) für Anfänger/-innen und Wiedereinsteiger/-innen (H146025) 
LOCATION:U 1, Raum 314, U1, 16 - 19, 68161 Mannheim
END:VEVENT
BEGIN:VEVENT
DTSTAMP:20260421T101609
DTSTART;TZID=Europe/Berlin:20260326T201500
DTEND;TZID=Europe/Berlin:20260326T210000
UID:H146025-20260326T201500@VHSMANNHEIM
SUMMARY:Klavier (Einzelunterricht) für Anfänger/-innen und Wiedereinsteiger/-innen (H146025) 
LOCATION:U 1, Raum 314, U1, 16 - 19, 68161 Mannheim
END:VEVENT
BEGIN:VEVENT
DTSTAMP:20260421T101609
DTSTART;TZID=Europe/Berlin:20260416T201500
DTEND;TZID=Europe/Berlin:20260416T210000
UID:H146025-20260416T201500@VHSMANNHEIM
SUMMARY:Klavier (Einzelunterricht) für Anfänger/-innen und Wiedereinsteiger/-innen (H146025) 
LOCATION:U 1, Raum 314, U1, 16 - 19, 68161 Mannheim
END:VEVENT
BEGIN:VEVENT
DTSTAMP:20260421T101609
DTSTART;TZID=Europe/Berlin:20260423T201500
DTEND;TZID=Europe/Berlin:20260423T210000
UID:H146025-20260423T201500@VHSMANNHEIM
SUMMARY:Klavier (Einzelunterricht) für Anfänger/-innen und Wiedereinsteiger/-innen (H146025) 
LOCATION:U 1, Raum 314, U1, 16 - 19, 68161 Mannheim
END:VEVENT
BEGIN:VEVENT
DTSTAMP:20260421T101609
DTSTART;TZID=Europe/Berlin:20260430T201500
DTEND;TZID=Europe/Berlin:20260430T210000
UID:H146025-20260430T201500@VHSMANNHEIM
SUMMARY:Klavier (Einzelunterricht) für Anfänger/-innen und Wiedereinsteiger/-innen (H146025) 
LOCATION:U 1, Raum 314, U1, 16 - 19, 68161 Mannheim
END:VEVENT
BEGIN:VEVENT
DTSTAMP:20260421T101609
DTSTART;TZID=Europe/Berlin:20260507T201500
DTEND;TZID=Europe/Berlin:20260507T210000
UID:H146025-20260507T201500@VHSMANNHEIM
SUMMARY:Klavier (Einzelunterricht) für Anfänger/-innen und Wiedereinsteiger/-innen (H146025) 
LOCATION:U 1, Raum 314, U1, 16 - 19, 68161 Mannheim
END:VEVENT
BEGIN:VEVENT
DTSTAMP:20260421T101609
DTSTART;TZID=Europe/Berlin:20260521T201500
DTEND;TZID=Europe/Berlin:20260521T210000
UID:H146025-20260521T201500@VHSMANNHEIM
SUMMARY:Klavier (Einzelunterricht) für Anfänger/-innen und Wiedereinsteiger/-innen (H146025) 
LOCATION:U 1, Raum 314, U1, 16 - 19, 68161 Mannheim
END:VEVENT
BEGIN:VEVENT
DTSTAMP:20260421T101609
DTSTART;TZID=Europe/Berlin:20260611T201500
DTEND;TZID=Europe/Berlin:20260611T210000
UID:H146025-20260611T201500@VHSMANNHEIM
SUMMARY:Klavier (Einzelunterricht) für Anfänger/-innen und Wiedereinsteiger/-innen (H146025) 
LOCATION:U 1, Raum 314, U1, 16 - 19, 68161 Mannheim
END:VEVENT
BEGIN:VEVENT
DTSTAMP:20260421T101609
DTSTART;TZID=Europe/Berlin:20260618T201500
DTEND;TZID=Europe/Berlin:20260618T210000
UID:H146025-20260618T201500@VHSMANNHEIM
SUMMARY:Klavier (Einzelunterricht) für Anfänger/-innen und Wiedereinsteiger/-innen (H146025) 
LOCATION:U 1, Raum 314, U1, 16 - 19, 68161 Mannheim
END:VEVENT
END:VCALENDAR