BEGIN:VCALENDAR
PRODID:http://www.kufer.de/kuferweb / DE
VERSION:2.0
METHOD:PUBLISH
CALSCALE:GREGORIAN
X-WR-TIMEZONE:Europe/Berlin
BEGIN:VTIMEZONE
TZID:Europe/Berlin
X-LIC-LOCATION:Europe/Berlin
BEGIN:DAYLIGHT
TZOFFSETFROM:+0100
TZOFFSETTO:+0200
TZNAME:CEST
DTSTART;TZID=Europe/Berlin:19700329T020000
RRULE:FREQ=YEARLY;INTERVAL=1;BYDAY=-1SU;BYMONTH=3
END:DAYLIGHT
BEGIN:STANDARD
TZOFFSETFROM:+0200
TZOFFSETTO:+0100
TZNAME:CET
DTSTART;TZID=Europe/Berlin:19701025T030000
RRULE:FREQ=YEARLY;INTERVAL=1;BYDAY=-1SU;BYMONTH=10
END:STANDARD
END:VTIMEZONE
BEGIN:VEVENT
DTSTAMP:20260421T235303
DTSTART;TZID=Europe/Berlin:20260324T160000
DTEND;TZID=Europe/Berlin:20260324T181500
UID:H666110-20260324T160000@VHSMANNHEIM
SUMMARY:A1.1 Japanisch Intensiv, Teil 1 Anfänger*innen ohne Vorkenntnisse (H666110) 
LOCATION:U 1, Raum 306, U1, 16 - 19, 68161 Mannheim
END:VEVENT
BEGIN:VEVENT
DTSTAMP:20260421T235303
DTSTART;TZID=Europe/Berlin:20260414T160000
DTEND;TZID=Europe/Berlin:20260414T181500
UID:H666110-20260414T160000@VHSMANNHEIM
SUMMARY:A1.1 Japanisch Intensiv, Teil 1 Anfänger*innen ohne Vorkenntnisse (H666110) 
LOCATION:U 1, Raum 306, U1, 16 - 19, 68161 Mannheim
END:VEVENT
BEGIN:VEVENT
DTSTAMP:20260421T235303
DTSTART;TZID=Europe/Berlin:20260421T160000
DTEND;TZID=Europe/Berlin:20260421T181500
UID:H666110-20260421T160000@VHSMANNHEIM
SUMMARY:A1.1 Japanisch Intensiv, Teil 1 Anfänger*innen ohne Vorkenntnisse (H666110) 
LOCATION:U 1, Raum 306, U1, 16 - 19, 68161 Mannheim
END:VEVENT
BEGIN:VEVENT
DTSTAMP:20260421T235303
DTSTART;TZID=Europe/Berlin:20260428T160000
DTEND;TZID=Europe/Berlin:20260428T181500
UID:H666110-20260428T160000@VHSMANNHEIM
SUMMARY:A1.1 Japanisch Intensiv, Teil 1 Anfänger*innen ohne Vorkenntnisse (H666110) 
LOCATION:U 1, Raum 306, U1, 16 - 19, 68161 Mannheim
END:VEVENT
BEGIN:VEVENT
DTSTAMP:20260421T235303
DTSTART;TZID=Europe/Berlin:20260505T160000
DTEND;TZID=Europe/Berlin:20260505T181500
UID:H666110-20260505T160000@VHSMANNHEIM
SUMMARY:A1.1 Japanisch Intensiv, Teil 1 Anfänger*innen ohne Vorkenntnisse (H666110) 
LOCATION:U 1, Raum 306, U1, 16 - 19, 68161 Mannheim
END:VEVENT
BEGIN:VEVENT
DTSTAMP:20260421T235303
DTSTART;TZID=Europe/Berlin:20260512T160000
DTEND;TZID=Europe/Berlin:20260512T181500
UID:H666110-20260512T160000@VHSMANNHEIM
SUMMARY:A1.1 Japanisch Intensiv, Teil 1 Anfänger*innen ohne Vorkenntnisse (H666110) 
LOCATION:U 1, Raum 306, U1, 16 - 19, 68161 Mannheim
END:VEVENT
BEGIN:VEVENT
DTSTAMP:20260421T235303
DTSTART;TZID=Europe/Berlin:20260519T160000
DTEND;TZID=Europe/Berlin:20260519T181500
UID:H666110-20260519T160000@VHSMANNHEIM
SUMMARY:A1.1 Japanisch Intensiv, Teil 1 Anfänger*innen ohne Vorkenntnisse (H666110) 
LOCATION:U 1, Raum 306, U1, 16 - 19, 68161 Mannheim
END:VEVENT
BEGIN:VEVENT
DTSTAMP:20260421T235303
DTSTART;TZID=Europe/Berlin:20260609T160000
DTEND;TZID=Europe/Berlin:20260609T181500
UID:H666110-20260609T160000@VHSMANNHEIM
SUMMARY:A1.1 Japanisch Intensiv, Teil 1 Anfänger*innen ohne Vorkenntnisse (H666110) 
LOCATION:U 1, Raum 306, U1, 16 - 19, 68161 Mannheim
END:VEVENT
BEGIN:VEVENT
DTSTAMP:20260421T235303
DTSTART;TZID=Europe/Berlin:20260616T160000
DTEND;TZID=Europe/Berlin:20260616T181500
UID:H666110-20260616T160000@VHSMANNHEIM
SUMMARY:A1.1 Japanisch Intensiv, Teil 1 Anfänger*innen ohne Vorkenntnisse (H666110) 
LOCATION:U 1, Raum 306, U1, 16 - 19, 68161 Mannheim
END:VEVENT
BEGIN:VEVENT
DTSTAMP:20260421T235303
DTSTART;TZID=Europe/Berlin:20260623T160000
DTEND;TZID=Europe/Berlin:20260623T181500
UID:H666110-20260623T160000@VHSMANNHEIM
SUMMARY:A1.1 Japanisch Intensiv, Teil 1 Anfänger*innen ohne Vorkenntnisse (H666110) 
LOCATION:U 1, Raum 306, U1, 16 - 19, 68161 Mannheim
END:VEVENT
END:VCALENDAR