BEGIN:VCALENDAR
PRODID:http://www.kufer.de/kuferweb / DE
VERSION:2.0
METHOD:PUBLISH
CALSCALE:GREGORIAN
X-WR-TIMEZONE:Europe/Berlin
BEGIN:VTIMEZONE
TZID:Europe/Berlin
X-LIC-LOCATION:Europe/Berlin
BEGIN:DAYLIGHT
TZOFFSETFROM:+0100
TZOFFSETTO:+0200
TZNAME:CEST
DTSTART;TZID=Europe/Berlin:19700329T020000
RRULE:FREQ=YEARLY;INTERVAL=1;BYDAY=-1SU;BYMONTH=3
END:DAYLIGHT
BEGIN:STANDARD
TZOFFSETFROM:+0200
TZOFFSETTO:+0100
TZNAME:CET
DTSTART;TZID=Europe/Berlin:19701025T030000
RRULE:FREQ=YEARLY;INTERVAL=1;BYDAY=-1SU;BYMONTH=10
END:STANDARD
END:VTIMEZONE
BEGIN:VEVENT
DTSTAMP:20260421T015702
DTSTART;TZID=Europe/Berlin:20260623T180000
DTEND;TZID=Europe/Berlin:20260623T200000
UID:J137004-20260623T180000@VHSMANNHEIM
SUMMARY:Das Literarische Quadrat - Schreibwerkstatt (J137004) 
LOCATION:U 1, Raum 404, U1, 16 - 19, 68161 Mannheim
END:VEVENT
BEGIN:VEVENT
DTSTAMP:20260421T015702
DTSTART;TZID=Europe/Berlin:20260630T180000
DTEND;TZID=Europe/Berlin:20260630T200000
UID:J137004-20260630T180000@VHSMANNHEIM
SUMMARY:Das Literarische Quadrat - Schreibwerkstatt (J137004) 
LOCATION:U 1, Raum 404, U1, 16 - 19, 68161 Mannheim
END:VEVENT
BEGIN:VEVENT
DTSTAMP:20260421T015702
DTSTART;TZID=Europe/Berlin:20260707T180000
DTEND;TZID=Europe/Berlin:20260707T200000
UID:J137004-20260707T180000@VHSMANNHEIM
SUMMARY:Das Literarische Quadrat - Schreibwerkstatt (J137004) 
LOCATION:U 1, Raum 404, U1, 16 - 19, 68161 Mannheim
END:VEVENT
BEGIN:VEVENT
DTSTAMP:20260421T015702
DTSTART;TZID=Europe/Berlin:20260714T180000
DTEND;TZID=Europe/Berlin:20260714T200000
UID:J137004-20260714T180000@VHSMANNHEIM
SUMMARY:Das Literarische Quadrat - Schreibwerkstatt (J137004) 
LOCATION:U 1, Raum 404, U1, 16 - 19, 68161 Mannheim
END:VEVENT
BEGIN:VEVENT
DTSTAMP:20260421T015702
DTSTART;TZID=Europe/Berlin:20260721T180000
DTEND;TZID=Europe/Berlin:20260721T200000
UID:J137004-20260721T180000@VHSMANNHEIM
SUMMARY:Das Literarische Quadrat - Schreibwerkstatt (J137004) 
LOCATION:U 1, Raum 404, U1, 16 - 19, 68161 Mannheim
END:VEVENT
BEGIN:VEVENT
DTSTAMP:20260421T015702
DTSTART;TZID=Europe/Berlin:20260728T180000
DTEND;TZID=Europe/Berlin:20260728T200000
UID:J137004-20260728T180000@VHSMANNHEIM
SUMMARY:Das Literarische Quadrat - Schreibwerkstatt (J137004) 
LOCATION:U 1, Raum 404, U1, 16 - 19, 68161 Mannheim
END:VEVENT
BEGIN:VEVENT
DTSTAMP:20260421T015702
DTSTART;TZID=Europe/Berlin:20260804T180000
DTEND;TZID=Europe/Berlin:20260804T200000
UID:J137004-20260804T180000@VHSMANNHEIM
SUMMARY:Das Literarische Quadrat - Schreibwerkstatt (J137004) 
LOCATION:U 1, Raum 404, U1, 16 - 19, 68161 Mannheim
END:VEVENT
BEGIN:VEVENT
DTSTAMP:20260421T015702
DTSTART;TZID=Europe/Berlin:20260825T180000
DTEND;TZID=Europe/Berlin:20260825T200000
UID:J137004-20260825T180000@VHSMANNHEIM
SUMMARY:Das Literarische Quadrat - Schreibwerkstatt (J137004) 
LOCATION:U 1, Raum 404, U1, 16 - 19, 68161 Mannheim
END:VEVENT
BEGIN:VEVENT
DTSTAMP:20260421T015702
DTSTART;TZID=Europe/Berlin:20260901T180000
DTEND;TZID=Europe/Berlin:20260901T200000
UID:J137004-20260901T180000@VHSMANNHEIM
SUMMARY:Das Literarische Quadrat - Schreibwerkstatt (J137004) 
LOCATION:U 1, Raum 404, U1, 16 - 19, 68161 Mannheim
END:VEVENT
BEGIN:VEVENT
DTSTAMP:20260421T015702
DTSTART;TZID=Europe/Berlin:20260908T180000
DTEND;TZID=Europe/Berlin:20260908T200000
UID:J137004-20260908T180000@VHSMANNHEIM
SUMMARY:Das Literarische Quadrat - Schreibwerkstatt (J137004) 
LOCATION:U 1, Raum 404, U1, 16 - 19, 68161 Mannheim
END:VEVENT
BEGIN:VEVENT
DTSTAMP:20260421T015702
DTSTART;TZID=Europe/Berlin:20260915T180000
DTEND;TZID=Europe/Berlin:20260915T200000
UID:J137004-20260915T180000@VHSMANNHEIM
SUMMARY:Das Literarische Quadrat - Schreibwerkstatt (J137004) 
LOCATION:U 1, Raum 404, U1, 16 - 19, 68161 Mannheim
END:VEVENT
BEGIN:VEVENT
DTSTAMP:20260421T015702
DTSTART;TZID=Europe/Berlin:20260922T180000
DTEND;TZID=Europe/Berlin:20260922T200000
UID:J137004-20260922T180000@VHSMANNHEIM
SUMMARY:Das Literarische Quadrat - Schreibwerkstatt (J137004) 
LOCATION:U 1, Raum 404, U1, 16 - 19, 68161 Mannheim
END:VEVENT
BEGIN:VEVENT
DTSTAMP:20260421T015702
DTSTART;TZID=Europe/Berlin:20260929T180000
DTEND;TZID=Europe/Berlin:20260929T200000
UID:J137004-20260929T180000@VHSMANNHEIM
SUMMARY:Das Literarische Quadrat - Schreibwerkstatt (J137004) 
LOCATION:U 1, Raum 404, U1, 16 - 19, 68161 Mannheim
END:VEVENT
END:VCALENDAR