BEGIN:VCALENDAR
PRODID:http://www.kufer.de/kuferweb / DE
VERSION:2.0
METHOD:PUBLISH
CALSCALE:GREGORIAN
X-WR-TIMEZONE:Europe/Berlin
BEGIN:VTIMEZONE
TZID:Europe/Berlin
X-LIC-LOCATION:Europe/Berlin
BEGIN:DAYLIGHT
TZOFFSETFROM:+0100
TZOFFSETTO:+0200
TZNAME:CEST
DTSTART;TZID=Europe/Berlin:19700329T020000
RRULE:FREQ=YEARLY;INTERVAL=1;BYDAY=-1SU;BYMONTH=3
END:DAYLIGHT
BEGIN:STANDARD
TZOFFSETFROM:+0200
TZOFFSETTO:+0100
TZNAME:CET
DTSTART;TZID=Europe/Berlin:19701025T030000
RRULE:FREQ=YEARLY;INTERVAL=1;BYDAY=-1SU;BYMONTH=10
END:STANDARD
END:VTIMEZONE
BEGIN:VEVENT
DTSTAMP:20260421T211720
DTSTART;TZID=Europe/Berlin:20260416T120000
DTEND;TZID=Europe/Berlin:20260416T124500
UID:J142008-20260416T120000@VHSMANNHEIM
SUMMARY:Gesang Einzelunterricht für Anfänger*innen und Fortgeschrittene (J142008) 
LOCATION:U 1, Raum 312, U1, 16 - 19, 68161 Mannheim
END:VEVENT
BEGIN:VEVENT
DTSTAMP:20260421T211720
DTSTART;TZID=Europe/Berlin:20260423T120000
DTEND;TZID=Europe/Berlin:20260423T124500
UID:J142008-20260423T120000@VHSMANNHEIM
SUMMARY:Gesang Einzelunterricht für Anfänger*innen und Fortgeschrittene (J142008) 
LOCATION:U 1, Raum 312, U1, 16 - 19, 68161 Mannheim
END:VEVENT
BEGIN:VEVENT
DTSTAMP:20260421T211720
DTSTART;TZID=Europe/Berlin:20260430T120000
DTEND;TZID=Europe/Berlin:20260430T124500
UID:J142008-20260430T120000@VHSMANNHEIM
SUMMARY:Gesang Einzelunterricht für Anfänger*innen und Fortgeschrittene (J142008) 
LOCATION:U 1, Raum 312, U1, 16 - 19, 68161 Mannheim
END:VEVENT
BEGIN:VEVENT
DTSTAMP:20260421T211720
DTSTART;TZID=Europe/Berlin:20260507T120000
DTEND;TZID=Europe/Berlin:20260507T124500
UID:J142008-20260507T120000@VHSMANNHEIM
SUMMARY:Gesang Einzelunterricht für Anfänger*innen und Fortgeschrittene (J142008) 
LOCATION:U 1, Raum 312, U1, 16 - 19, 68161 Mannheim
END:VEVENT
BEGIN:VEVENT
DTSTAMP:20260421T211720
DTSTART;TZID=Europe/Berlin:20260521T120000
DTEND;TZID=Europe/Berlin:20260521T124500
UID:J142008-20260521T120000@VHSMANNHEIM
SUMMARY:Gesang Einzelunterricht für Anfänger*innen und Fortgeschrittene (J142008) 
LOCATION:U 1, Raum 312, U1, 16 - 19, 68161 Mannheim
END:VEVENT
BEGIN:VEVENT
DTSTAMP:20260421T211720
DTSTART;TZID=Europe/Berlin:20260528T120000
DTEND;TZID=Europe/Berlin:20260528T124500
UID:J142008-20260528T120000@VHSMANNHEIM
SUMMARY:Gesang Einzelunterricht für Anfänger*innen und Fortgeschrittene (J142008) 
LOCATION:U 1, Raum 312, U1, 16 - 19, 68161 Mannheim
END:VEVENT
BEGIN:VEVENT
DTSTAMP:20260421T211720
DTSTART;TZID=Europe/Berlin:20260611T120000
DTEND;TZID=Europe/Berlin:20260611T124500
UID:J142008-20260611T120000@VHSMANNHEIM
SUMMARY:Gesang Einzelunterricht für Anfänger*innen und Fortgeschrittene (J142008) 
LOCATION:U 1, Raum 312, U1, 16 - 19, 68161 Mannheim
END:VEVENT
BEGIN:VEVENT
DTSTAMP:20260421T211720
DTSTART;TZID=Europe/Berlin:20260618T120000
DTEND;TZID=Europe/Berlin:20260618T124500
UID:J142008-20260618T120000@VHSMANNHEIM
SUMMARY:Gesang Einzelunterricht für Anfänger*innen und Fortgeschrittene (J142008) 
LOCATION:U 1, Raum 312, U1, 16 - 19, 68161 Mannheim
END:VEVENT
BEGIN:VEVENT
DTSTAMP:20260421T211720
DTSTART;TZID=Europe/Berlin:20260625T120000
DTEND;TZID=Europe/Berlin:20260625T124500
UID:J142008-20260625T120000@VHSMANNHEIM
SUMMARY:Gesang Einzelunterricht für Anfänger*innen und Fortgeschrittene (J142008) 
LOCATION:U 1, Raum 312, U1, 16 - 19, 68161 Mannheim
END:VEVENT
BEGIN:VEVENT
DTSTAMP:20260421T211720
DTSTART;TZID=Europe/Berlin:20260702T120000
DTEND;TZID=Europe/Berlin:20260702T124500
UID:J142008-20260702T120000@VHSMANNHEIM
SUMMARY:Gesang Einzelunterricht für Anfänger*innen und Fortgeschrittene (J142008) 
LOCATION:U 1, Raum 312, U1, 16 - 19, 68161 Mannheim
END:VEVENT
END:VCALENDAR