BEGIN:VCALENDAR
PRODID:http://www.kufer.de/kuferweb / DE
VERSION:2.0
METHOD:PUBLISH
CALSCALE:GREGORIAN
X-WR-TIMEZONE:Europe/Berlin
BEGIN:VTIMEZONE
TZID:Europe/Berlin
X-LIC-LOCATION:Europe/Berlin
BEGIN:DAYLIGHT
TZOFFSETFROM:+0100
TZOFFSETTO:+0200
TZNAME:CEST
DTSTART;TZID=Europe/Berlin:19700329T020000
RRULE:FREQ=YEARLY;INTERVAL=1;BYDAY=-1SU;BYMONTH=3
END:DAYLIGHT
BEGIN:STANDARD
TZOFFSETFROM:+0200
TZOFFSETTO:+0100
TZNAME:CET
DTSTART;TZID=Europe/Berlin:19701025T030000
RRULE:FREQ=YEARLY;INTERVAL=1;BYDAY=-1SU;BYMONTH=10
END:STANDARD
END:VTIMEZONE
BEGIN:VEVENT
DTSTAMP:20260420T105952
DTSTART;TZID=Europe/Berlin:20260331T111500
DTEND;TZID=Europe/Berlin:20260331T124500
UID:J143001-20260331T111500@VHSMANNHEIM
SUMMARY:Saxophon  Anfänger, Wiedereinsteiger und Fortgeschrittene Einzelunterricht (J143001) 
LOCATION:U 1, Raum 314, U1, 16 - 19, 68161 Mannheim
END:VEVENT
BEGIN:VEVENT
DTSTAMP:20260420T105952
DTSTART;TZID=Europe/Berlin:20260407T111500
DTEND;TZID=Europe/Berlin:20260407T124500
UID:J143001-20260407T111500@VHSMANNHEIM
SUMMARY:Saxophon  Anfänger, Wiedereinsteiger und Fortgeschrittene Einzelunterricht (J143001) 
LOCATION:U 1, Raum 314, U1, 16 - 19, 68161 Mannheim
END:VEVENT
BEGIN:VEVENT
DTSTAMP:20260420T105952
DTSTART;TZID=Europe/Berlin:20260414T111500
DTEND;TZID=Europe/Berlin:20260414T124500
UID:J143001-20260414T111500@VHSMANNHEIM
SUMMARY:Saxophon  Anfänger, Wiedereinsteiger und Fortgeschrittene Einzelunterricht (J143001) 
LOCATION:U 1, Raum 314, U1, 16 - 19, 68161 Mannheim
END:VEVENT
BEGIN:VEVENT
DTSTAMP:20260420T105952
DTSTART;TZID=Europe/Berlin:20260421T111500
DTEND;TZID=Europe/Berlin:20260421T124500
UID:J143001-20260421T111500@VHSMANNHEIM
SUMMARY:Saxophon  Anfänger, Wiedereinsteiger und Fortgeschrittene Einzelunterricht (J143001) 
LOCATION:U 1, Raum 314, U1, 16 - 19, 68161 Mannheim
END:VEVENT
BEGIN:VEVENT
DTSTAMP:20260420T105952
DTSTART;TZID=Europe/Berlin:20260428T111500
DTEND;TZID=Europe/Berlin:20260428T124500
UID:J143001-20260428T111500@VHSMANNHEIM
SUMMARY:Saxophon  Anfänger, Wiedereinsteiger und Fortgeschrittene Einzelunterricht (J143001) 
LOCATION:U 1, Raum 314, U1, 16 - 19, 68161 Mannheim
END:VEVENT
END:VCALENDAR