BEGIN:VCALENDAR
PRODID:http://www.kufer.de/kuferweb / DE
VERSION:2.0
METHOD:PUBLISH
CALSCALE:GREGORIAN
X-WR-TIMEZONE:Europe/Berlin
BEGIN:VTIMEZONE
TZID:Europe/Berlin
X-LIC-LOCATION:Europe/Berlin
BEGIN:DAYLIGHT
TZOFFSETFROM:+0100
TZOFFSETTO:+0200
TZNAME:CEST
DTSTART;TZID=Europe/Berlin:19700329T020000
RRULE:FREQ=YEARLY;INTERVAL=1;BYDAY=-1SU;BYMONTH=3
END:DAYLIGHT
BEGIN:STANDARD
TZOFFSETFROM:+0200
TZOFFSETTO:+0100
TZNAME:CET
DTSTART;TZID=Europe/Berlin:19701025T030000
RRULE:FREQ=YEARLY;INTERVAL=1;BYDAY=-1SU;BYMONTH=10
END:STANDARD
END:VTIMEZONE
BEGIN:VEVENT
DTSTAMP:20260421T100428
DTSTART;TZID=Europe/Berlin:20260225T161500
DTEND;TZID=Europe/Berlin:20260225T170000
UID:J143012-20260225T161500@VHSMANNHEIM
SUMMARY:Blockflöte - Einzelunterricht (J143012) 
LOCATION:U 1, Raum 312, U1, 16 - 19, 68161 Mannheim
END:VEVENT
BEGIN:VEVENT
DTSTAMP:20260421T100428
DTSTART;TZID=Europe/Berlin:20260304T161500
DTEND;TZID=Europe/Berlin:20260304T170000
UID:J143012-20260304T161500@VHSMANNHEIM
SUMMARY:Blockflöte - Einzelunterricht (J143012) 
LOCATION:U 1, Raum 312, U1, 16 - 19, 68161 Mannheim
END:VEVENT
BEGIN:VEVENT
DTSTAMP:20260421T100428
DTSTART;TZID=Europe/Berlin:20260311T161500
DTEND;TZID=Europe/Berlin:20260311T170000
UID:J143012-20260311T161500@VHSMANNHEIM
SUMMARY:Blockflöte - Einzelunterricht (J143012) 
LOCATION:U 1, Raum 312, U1, 16 - 19, 68161 Mannheim
END:VEVENT
BEGIN:VEVENT
DTSTAMP:20260421T100428
DTSTART;TZID=Europe/Berlin:20260318T161500
DTEND;TZID=Europe/Berlin:20260318T170000
UID:J143012-20260318T161500@VHSMANNHEIM
SUMMARY:Blockflöte - Einzelunterricht (J143012) 
LOCATION:U 1, Raum 312, U1, 16 - 19, 68161 Mannheim
END:VEVENT
BEGIN:VEVENT
DTSTAMP:20260421T100428
DTSTART;TZID=Europe/Berlin:20260325T161500
DTEND;TZID=Europe/Berlin:20260325T170000
UID:J143012-20260325T161500@VHSMANNHEIM
SUMMARY:Blockflöte - Einzelunterricht (J143012) 
LOCATION:U 1, Raum 312, U1, 16 - 19, 68161 Mannheim
END:VEVENT
BEGIN:VEVENT
DTSTAMP:20260421T100428
DTSTART;TZID=Europe/Berlin:20260401T163000
DTEND;TZID=Europe/Berlin:20260401T171500
UID:J143012-20260401T163000@VHSMANNHEIM
SUMMARY:Blockflöte - Einzelunterricht (J143012) 
LOCATION:U 1, Raum 312, U1, 16 - 19, 68161 Mannheim
END:VEVENT
BEGIN:VEVENT
DTSTAMP:20260421T100428
DTSTART;TZID=Europe/Berlin:20260408T161500
DTEND;TZID=Europe/Berlin:20260408T170000
UID:J143012-20260408T161500@VHSMANNHEIM
SUMMARY:Blockflöte - Einzelunterricht (J143012) 
LOCATION:U 1, Raum 312, U1, 16 - 19, 68161 Mannheim
END:VEVENT
BEGIN:VEVENT
DTSTAMP:20260421T100428
DTSTART;TZID=Europe/Berlin:20260415T161500
DTEND;TZID=Europe/Berlin:20260415T170000
UID:J143012-20260415T161500@VHSMANNHEIM
SUMMARY:Blockflöte - Einzelunterricht (J143012) 
LOCATION:U 1, Raum 312, U1, 16 - 19, 68161 Mannheim
END:VEVENT
BEGIN:VEVENT
DTSTAMP:20260421T100428
DTSTART;TZID=Europe/Berlin:20260422T161500
DTEND;TZID=Europe/Berlin:20260422T170000
UID:J143012-20260422T161500@VHSMANNHEIM
SUMMARY:Blockflöte - Einzelunterricht (J143012) 
LOCATION:U 1, Raum 312, U1, 16 - 19, 68161 Mannheim
END:VEVENT
BEGIN:VEVENT
DTSTAMP:20260421T100428
DTSTART;TZID=Europe/Berlin:20260429T161500
DTEND;TZID=Europe/Berlin:20260429T170000
UID:J143012-20260429T161500@VHSMANNHEIM
SUMMARY:Blockflöte - Einzelunterricht (J143012) 
LOCATION:U 1, Raum 312, U1, 16 - 19, 68161 Mannheim
END:VEVENT
END:VCALENDAR