BEGIN:VCALENDAR
PRODID:http://www.kufer.de/kuferweb / DE
VERSION:2.0
METHOD:PUBLISH
CALSCALE:GREGORIAN
X-WR-TIMEZONE:Europe/Berlin
BEGIN:VTIMEZONE
TZID:Europe/Berlin
X-LIC-LOCATION:Europe/Berlin
BEGIN:DAYLIGHT
TZOFFSETFROM:+0100
TZOFFSETTO:+0200
TZNAME:CEST
DTSTART;TZID=Europe/Berlin:19700329T020000
RRULE:FREQ=YEARLY;INTERVAL=1;BYDAY=-1SU;BYMONTH=3
END:DAYLIGHT
BEGIN:STANDARD
TZOFFSETFROM:+0200
TZOFFSETTO:+0100
TZNAME:CET
DTSTART;TZID=Europe/Berlin:19701025T030000
RRULE:FREQ=YEARLY;INTERVAL=1;BYDAY=-1SU;BYMONTH=10
END:STANDARD
END:VTIMEZONE
BEGIN:VEVENT
DTSTAMP:20260421T101600
DTSTART;TZID=Europe/Berlin:20260324T190000
DTEND;TZID=Europe/Berlin:20260324T203000
UID:J144001-20260324T190000@VHSMANNHEIM
SUMMARY:Liedbegleitung Gitarre Aufbaukurs Kleingruppe (J144001) 
LOCATION:U 1, Raum 406, U1, 16 - 19, 68161 Mannheim
END:VEVENT
BEGIN:VEVENT
DTSTAMP:20260421T101600
DTSTART;TZID=Europe/Berlin:20260331T190000
DTEND;TZID=Europe/Berlin:20260331T203000
UID:J144001-20260331T190000@VHSMANNHEIM
SUMMARY:Liedbegleitung Gitarre Aufbaukurs Kleingruppe (J144001) 
LOCATION:U 1, Raum 406, U1, 16 - 19, 68161 Mannheim
END:VEVENT
BEGIN:VEVENT
DTSTAMP:20260421T101600
DTSTART;TZID=Europe/Berlin:20260407T190000
DTEND;TZID=Europe/Berlin:20260407T203000
UID:J144001-20260407T190000@VHSMANNHEIM
SUMMARY:Liedbegleitung Gitarre Aufbaukurs Kleingruppe (J144001) 
LOCATION:U 1, Raum 406, U1, 16 - 19, 68161 Mannheim
END:VEVENT
BEGIN:VEVENT
DTSTAMP:20260421T101600
DTSTART;TZID=Europe/Berlin:20260414T190000
DTEND;TZID=Europe/Berlin:20260414T203000
UID:J144001-20260414T190000@VHSMANNHEIM
SUMMARY:Liedbegleitung Gitarre Aufbaukurs Kleingruppe (J144001) 
LOCATION:U 1, Raum 406, U1, 16 - 19, 68161 Mannheim
END:VEVENT
BEGIN:VEVENT
DTSTAMP:20260421T101600
DTSTART;TZID=Europe/Berlin:20260421T190000
DTEND;TZID=Europe/Berlin:20260421T203000
UID:J144001-20260421T190000@VHSMANNHEIM
SUMMARY:Liedbegleitung Gitarre Aufbaukurs Kleingruppe (J144001) 
LOCATION:U 1, Raum 406, U1, 16 - 19, 68161 Mannheim
END:VEVENT
BEGIN:VEVENT
DTSTAMP:20260421T101600
DTSTART;TZID=Europe/Berlin:20260428T190000
DTEND;TZID=Europe/Berlin:20260428T203000
UID:J144001-20260428T190000@VHSMANNHEIM
SUMMARY:Liedbegleitung Gitarre Aufbaukurs Kleingruppe (J144001) 
LOCATION:U 1, Raum 406, U1, 16 - 19, 68161 Mannheim
END:VEVENT
BEGIN:VEVENT
DTSTAMP:20260421T101600
DTSTART;TZID=Europe/Berlin:20260505T190000
DTEND;TZID=Europe/Berlin:20260505T203000
UID:J144001-20260505T190000@VHSMANNHEIM
SUMMARY:Liedbegleitung Gitarre Aufbaukurs Kleingruppe (J144001) 
LOCATION:U 1, Raum 406, U1, 16 - 19, 68161 Mannheim
END:VEVENT
BEGIN:VEVENT
DTSTAMP:20260421T101600
DTSTART;TZID=Europe/Berlin:20260512T190000
DTEND;TZID=Europe/Berlin:20260512T203000
UID:J144001-20260512T190000@VHSMANNHEIM
SUMMARY:Liedbegleitung Gitarre Aufbaukurs Kleingruppe (J144001) 
LOCATION:U 1, Raum 406, U1, 16 - 19, 68161 Mannheim
END:VEVENT
BEGIN:VEVENT
DTSTAMP:20260421T101600
DTSTART;TZID=Europe/Berlin:20260519T190000
DTEND;TZID=Europe/Berlin:20260519T203000
UID:J144001-20260519T190000@VHSMANNHEIM
SUMMARY:Liedbegleitung Gitarre Aufbaukurs Kleingruppe (J144001) 
LOCATION:U 1, Raum 406, U1, 16 - 19, 68161 Mannheim
END:VEVENT
BEGIN:VEVENT
DTSTAMP:20260421T101600
DTSTART;TZID=Europe/Berlin:20260526T190000
DTEND;TZID=Europe/Berlin:20260526T203000
UID:J144001-20260526T190000@VHSMANNHEIM
SUMMARY:Liedbegleitung Gitarre Aufbaukurs Kleingruppe (J144001) 
LOCATION:U 1, Raum 406, U1, 16 - 19, 68161 Mannheim
END:VEVENT
END:VCALENDAR