BEGIN:VCALENDAR
PRODID:http://www.kufer.de/kuferweb / DE
VERSION:2.0
METHOD:PUBLISH
CALSCALE:GREGORIAN
X-WR-TIMEZONE:Europe/Berlin
BEGIN:VTIMEZONE
TZID:Europe/Berlin
X-LIC-LOCATION:Europe/Berlin
BEGIN:DAYLIGHT
TZOFFSETFROM:+0100
TZOFFSETTO:+0200
TZNAME:CEST
DTSTART;TZID=Europe/Berlin:19700329T020000
RRULE:FREQ=YEARLY;INTERVAL=1;BYDAY=-1SU;BYMONTH=3
END:DAYLIGHT
BEGIN:STANDARD
TZOFFSETFROM:+0200
TZOFFSETTO:+0100
TZNAME:CET
DTSTART;TZID=Europe/Berlin:19701025T030000
RRULE:FREQ=YEARLY;INTERVAL=1;BYDAY=-1SU;BYMONTH=10
END:STANDARD
END:VTIMEZONE
BEGIN:VEVENT
DTSTAMP:20260420T204105
DTSTART;TZID=Europe/Berlin:20260611T105000
DTEND;TZID=Europe/Berlin:20260611T113500
UID:J144031-20260611T105000@VHSMANNHEIM
SUMMARY:Einzelunterricht Klassische Gitarre für Fortgeschrittene (J144031) 
LOCATION:U 1, Raum 314, U1, 16 - 19, 68161 Mannheim
END:VEVENT
BEGIN:VEVENT
DTSTAMP:20260420T204105
DTSTART;TZID=Europe/Berlin:20260618T105000
DTEND;TZID=Europe/Berlin:20260618T113500
UID:J144031-20260618T105000@VHSMANNHEIM
SUMMARY:Einzelunterricht Klassische Gitarre für Fortgeschrittene (J144031) 
LOCATION:U 1, Raum 314, U1, 16 - 19, 68161 Mannheim
END:VEVENT
BEGIN:VEVENT
DTSTAMP:20260420T204105
DTSTART;TZID=Europe/Berlin:20260625T105000
DTEND;TZID=Europe/Berlin:20260625T113500
UID:J144031-20260625T105000@VHSMANNHEIM
SUMMARY:Einzelunterricht Klassische Gitarre für Fortgeschrittene (J144031) 
LOCATION:U 1, Raum 314, U1, 16 - 19, 68161 Mannheim
END:VEVENT
BEGIN:VEVENT
DTSTAMP:20260420T204105
DTSTART;TZID=Europe/Berlin:20260702T105000
DTEND;TZID=Europe/Berlin:20260702T113500
UID:J144031-20260702T105000@VHSMANNHEIM
SUMMARY:Einzelunterricht Klassische Gitarre für Fortgeschrittene (J144031) 
LOCATION:U 1, Raum 314, U1, 16 - 19, 68161 Mannheim
END:VEVENT
BEGIN:VEVENT
DTSTAMP:20260420T204105
DTSTART;TZID=Europe/Berlin:20260709T105000
DTEND;TZID=Europe/Berlin:20260709T113500
UID:J144031-20260709T105000@VHSMANNHEIM
SUMMARY:Einzelunterricht Klassische Gitarre für Fortgeschrittene (J144031) 
LOCATION:U 1, Raum 314, U1, 16 - 19, 68161 Mannheim
END:VEVENT
BEGIN:VEVENT
DTSTAMP:20260420T204105
DTSTART;TZID=Europe/Berlin:20260716T105000
DTEND;TZID=Europe/Berlin:20260716T113500
UID:J144031-20260716T105000@VHSMANNHEIM
SUMMARY:Einzelunterricht Klassische Gitarre für Fortgeschrittene (J144031) 
LOCATION:U 1, Raum 314, U1, 16 - 19, 68161 Mannheim
END:VEVENT
BEGIN:VEVENT
DTSTAMP:20260420T204105
DTSTART;TZID=Europe/Berlin:20260723T105000
DTEND;TZID=Europe/Berlin:20260723T113500
UID:J144031-20260723T105000@VHSMANNHEIM
SUMMARY:Einzelunterricht Klassische Gitarre für Fortgeschrittene (J144031) 
LOCATION:U 1, Raum 314, U1, 16 - 19, 68161 Mannheim
END:VEVENT
BEGIN:VEVENT
DTSTAMP:20260420T204105
DTSTART;TZID=Europe/Berlin:20260917T105000
DTEND;TZID=Europe/Berlin:20260917T113500
UID:J144031-20260917T105000@VHSMANNHEIM
SUMMARY:Einzelunterricht Klassische Gitarre für Fortgeschrittene (J144031) 
LOCATION:U 1, Raum 314, U1, 16 - 19, 68161 Mannheim
END:VEVENT
BEGIN:VEVENT
DTSTAMP:20260420T204105
DTSTART;TZID=Europe/Berlin:20260924T105000
DTEND;TZID=Europe/Berlin:20260924T113500
UID:J144031-20260924T105000@VHSMANNHEIM
SUMMARY:Einzelunterricht Klassische Gitarre für Fortgeschrittene (J144031) 
LOCATION:U 1, Raum 314, U1, 16 - 19, 68161 Mannheim
END:VEVENT
BEGIN:VEVENT
DTSTAMP:20260420T204105
DTSTART;TZID=Europe/Berlin:20261001T105000
DTEND;TZID=Europe/Berlin:20261001T113500
UID:J144031-20261001T105000@VHSMANNHEIM
SUMMARY:Einzelunterricht Klassische Gitarre für Fortgeschrittene (J144031) 
LOCATION:U 1, Raum 314, U1, 16 - 19, 68161 Mannheim
END:VEVENT
END:VCALENDAR