BEGIN:VCALENDAR
PRODID:http://www.kufer.de/kuferweb / DE
VERSION:2.0
METHOD:PUBLISH
CALSCALE:GREGORIAN
X-WR-TIMEZONE:Europe/Berlin
BEGIN:VTIMEZONE
TZID:Europe/Berlin
X-LIC-LOCATION:Europe/Berlin
BEGIN:DAYLIGHT
TZOFFSETFROM:+0100
TZOFFSETTO:+0200
TZNAME:CEST
DTSTART;TZID=Europe/Berlin:19700329T020000
RRULE:FREQ=YEARLY;INTERVAL=1;BYDAY=-1SU;BYMONTH=3
END:DAYLIGHT
BEGIN:STANDARD
TZOFFSETFROM:+0200
TZOFFSETTO:+0100
TZNAME:CET
DTSTART;TZID=Europe/Berlin:19701025T030000
RRULE:FREQ=YEARLY;INTERVAL=1;BYDAY=-1SU;BYMONTH=10
END:STANDARD
END:VTIMEZONE
BEGIN:VEVENT
DTSTAMP:20260421T043829
DTSTART;TZID=Europe/Berlin:20260629T180000
DTEND;TZID=Europe/Berlin:20260629T203000
UID:J166078-20260629T180000@VHSMANNHEIM
SUMMARY:Aquarell - Mischtechniken für Anfänger:innen und Fortgeschrittene Kleingruppe (J166078) 
LOCATION:U 1, Raum 403, U1, 16 - 19, 68161 Mannheim
END:VEVENT
BEGIN:VEVENT
DTSTAMP:20260421T043829
DTSTART;TZID=Europe/Berlin:20260706T180000
DTEND;TZID=Europe/Berlin:20260706T203000
UID:J166078-20260706T180000@VHSMANNHEIM
SUMMARY:Aquarell - Mischtechniken für Anfänger:innen und Fortgeschrittene Kleingruppe (J166078) 
LOCATION:U 1, Raum 403, U1, 16 - 19, 68161 Mannheim
END:VEVENT
BEGIN:VEVENT
DTSTAMP:20260421T043829
DTSTART;TZID=Europe/Berlin:20260720T180000
DTEND;TZID=Europe/Berlin:20260720T203000
UID:J166078-20260720T180000@VHSMANNHEIM
SUMMARY:Aquarell - Mischtechniken für Anfänger:innen und Fortgeschrittene Kleingruppe (J166078) 
LOCATION:U 1, Raum 403, U1, 16 - 19, 68161 Mannheim
END:VEVENT
BEGIN:VEVENT
DTSTAMP:20260421T043829
DTSTART;TZID=Europe/Berlin:20260727T180000
DTEND;TZID=Europe/Berlin:20260727T203000
UID:J166078-20260727T180000@VHSMANNHEIM
SUMMARY:Aquarell - Mischtechniken für Anfänger:innen und Fortgeschrittene Kleingruppe (J166078) 
LOCATION:U 1, Raum 403, U1, 16 - 19, 68161 Mannheim
END:VEVENT
BEGIN:VEVENT
DTSTAMP:20260421T043829
DTSTART;TZID=Europe/Berlin:20260803T180000
DTEND;TZID=Europe/Berlin:20260803T203000
UID:J166078-20260803T180000@VHSMANNHEIM
SUMMARY:Aquarell - Mischtechniken für Anfänger:innen und Fortgeschrittene Kleingruppe (J166078) 
LOCATION:U 1, Raum 403, U1, 16 - 19, 68161 Mannheim
END:VEVENT
END:VCALENDAR