BEGIN:VCALENDAR
PRODID:http://www.kufer.de/kuferweb / DE
VERSION:2.0
METHOD:PUBLISH
CALSCALE:GREGORIAN
X-WR-TIMEZONE:Europe/Berlin
BEGIN:VTIMEZONE
TZID:Europe/Berlin
X-LIC-LOCATION:Europe/Berlin
BEGIN:DAYLIGHT
TZOFFSETFROM:+0100
TZOFFSETTO:+0200
TZNAME:CEST
DTSTART;TZID=Europe/Berlin:19700329T020000
RRULE:FREQ=YEARLY;INTERVAL=1;BYDAY=-1SU;BYMONTH=3
END:DAYLIGHT
BEGIN:STANDARD
TZOFFSETFROM:+0200
TZOFFSETTO:+0100
TZNAME:CET
DTSTART;TZID=Europe/Berlin:19701025T030000
RRULE:FREQ=YEARLY;INTERVAL=1;BYDAY=-1SU;BYMONTH=10
END:STANDARD
END:VTIMEZONE
BEGIN:VEVENT
DTSTAMP:20260421T211710
DTSTART;TZID=Europe/Berlin:20260329T093000
DTEND;TZID=Europe/Berlin:20260329T100000
UID:J194100-20260329T093000@VHSMANNHEIM
SUMMARY:Lesen und Schreiben Lernen für den Beruf (online-Angebot) ab April (J194100) 
LOCATION:Online, , online
END:VEVENT
BEGIN:VEVENT
DTSTAMP:20260421T211710
DTSTART;TZID=Europe/Berlin:20260330T130000
DTEND;TZID=Europe/Berlin:20260330T140000
UID:J194100-20260330T130000@VHSMANNHEIM
SUMMARY:Lesen und Schreiben Lernen für den Beruf (online-Angebot) ab April (J194100) 
LOCATION:Online, , online
END:VEVENT
BEGIN:VEVENT
DTSTAMP:20260421T211710
DTSTART;TZID=Europe/Berlin:20260331T130000
DTEND;TZID=Europe/Berlin:20260331T140000
UID:J194100-20260331T130000@VHSMANNHEIM
SUMMARY:Lesen und Schreiben Lernen für den Beruf (online-Angebot) ab April (J194100) 
LOCATION:Online, , online
END:VEVENT
BEGIN:VEVENT
DTSTAMP:20260421T211710
DTSTART;TZID=Europe/Berlin:20260410T100000
DTEND;TZID=Europe/Berlin:20260410T110000
UID:J194100-20260410T100000@VHSMANNHEIM
SUMMARY:Lesen und Schreiben Lernen für den Beruf (online-Angebot) ab April (J194100) 
LOCATION:Online, , online
END:VEVENT
BEGIN:VEVENT
DTSTAMP:20260421T211710
DTSTART;TZID=Europe/Berlin:20260412T093000
DTEND;TZID=Europe/Berlin:20260412T103000
UID:J194100-20260412T093000@VHSMANNHEIM
SUMMARY:Lesen und Schreiben Lernen für den Beruf (online-Angebot) ab April (J194100) 
LOCATION:Online, , online
END:VEVENT
BEGIN:VEVENT
DTSTAMP:20260421T211710
DTSTART;TZID=Europe/Berlin:20260413T150000
DTEND;TZID=Europe/Berlin:20260413T160000
UID:J194100-20260413T150000@VHSMANNHEIM
SUMMARY:Lesen und Schreiben Lernen für den Beruf (online-Angebot) ab April (J194100) 
LOCATION:Online, , online
END:VEVENT
BEGIN:VEVENT
DTSTAMP:20260421T211710
DTSTART;TZID=Europe/Berlin:20260417T130000
DTEND;TZID=Europe/Berlin:20260417T140000
UID:J194100-20260417T130000@VHSMANNHEIM
SUMMARY:Lesen und Schreiben Lernen für den Beruf (online-Angebot) ab April (J194100) 
LOCATION:Online, , online
END:VEVENT
BEGIN:VEVENT
DTSTAMP:20260421T211710
DTSTART;TZID=Europe/Berlin:20260419T093000
DTEND;TZID=Europe/Berlin:20260419T103000
UID:J194100-20260419T093000@VHSMANNHEIM
SUMMARY:Lesen und Schreiben Lernen für den Beruf (online-Angebot) ab April (J194100) 
LOCATION:Online, , online
END:VEVENT
END:VCALENDAR