BEGIN:VCALENDAR
PRODID:http://www.kufer.de/kuferweb / DE
VERSION:2.0
METHOD:PUBLISH
CALSCALE:GREGORIAN
X-WR-TIMEZONE:Europe/Berlin
BEGIN:VTIMEZONE
TZID:Europe/Berlin
X-LIC-LOCATION:Europe/Berlin
BEGIN:DAYLIGHT
TZOFFSETFROM:+0100
TZOFFSETTO:+0200
TZNAME:CEST
DTSTART;TZID=Europe/Berlin:19700329T020000
RRULE:FREQ=YEARLY;INTERVAL=1;BYDAY=-1SU;BYMONTH=3
END:DAYLIGHT
BEGIN:STANDARD
TZOFFSETFROM:+0200
TZOFFSETTO:+0100
TZNAME:CET
DTSTART;TZID=Europe/Berlin:19701025T030000
RRULE:FREQ=YEARLY;INTERVAL=1;BYDAY=-1SU;BYMONTH=10
END:STANDARD
END:VTIMEZONE
BEGIN:VEVENT
DTSTAMP:20260421T153533
DTSTART;TZID=Europe/Berlin:20260303T114500
DTEND;TZID=Europe/Berlin:20260303T123000
UID:J194110-20260303T114500@VHSMANNHEIM
SUMMARY:Wir lesen...  (J194110) 
LOCATION:U 1, Raum 501, U1, 16 - 19, 68161 Mannheim
END:VEVENT
BEGIN:VEVENT
DTSTAMP:20260421T153533
DTSTART;TZID=Europe/Berlin:20260310T114500
DTEND;TZID=Europe/Berlin:20260310T123000
UID:J194110-20260310T114500@VHSMANNHEIM
SUMMARY:Wir lesen...  (J194110) 
LOCATION:U 1, Raum 501, U1, 16 - 19, 68161 Mannheim
END:VEVENT
BEGIN:VEVENT
DTSTAMP:20260421T153533
DTSTART;TZID=Europe/Berlin:20260317T114500
DTEND;TZID=Europe/Berlin:20260317T123000
UID:J194110-20260317T114500@VHSMANNHEIM
SUMMARY:Wir lesen...  (J194110) 
LOCATION:U 1, Raum 501, U1, 16 - 19, 68161 Mannheim
END:VEVENT
BEGIN:VEVENT
DTSTAMP:20260421T153533
DTSTART;TZID=Europe/Berlin:20260324T114500
DTEND;TZID=Europe/Berlin:20260324T123000
UID:J194110-20260324T114500@VHSMANNHEIM
SUMMARY:Wir lesen...  (J194110) 
LOCATION:U 1, Raum 501, U1, 16 - 19, 68161 Mannheim
END:VEVENT
BEGIN:VEVENT
DTSTAMP:20260421T153533
DTSTART;TZID=Europe/Berlin:20260414T114500
DTEND;TZID=Europe/Berlin:20260414T123000
UID:J194110-20260414T114500@VHSMANNHEIM
SUMMARY:Wir lesen...  (J194110) 
LOCATION:U 1, Raum 501, U1, 16 - 19, 68161 Mannheim
END:VEVENT
BEGIN:VEVENT
DTSTAMP:20260421T153533
DTSTART;TZID=Europe/Berlin:20260421T114500
DTEND;TZID=Europe/Berlin:20260421T123000
UID:J194110-20260421T114500@VHSMANNHEIM
SUMMARY:Wir lesen...  (J194110) 
LOCATION:U 1, Raum 501, U1, 16 - 19, 68161 Mannheim
END:VEVENT
BEGIN:VEVENT
DTSTAMP:20260421T153533
DTSTART;TZID=Europe/Berlin:20260428T114500
DTEND;TZID=Europe/Berlin:20260428T123000
UID:J194110-20260428T114500@VHSMANNHEIM
SUMMARY:Wir lesen...  (J194110) 
LOCATION:U 1, Raum 501, U1, 16 - 19, 68161 Mannheim
END:VEVENT
BEGIN:VEVENT
DTSTAMP:20260421T153533
DTSTART;TZID=Europe/Berlin:20260505T114500
DTEND;TZID=Europe/Berlin:20260505T123000
UID:J194110-20260505T114500@VHSMANNHEIM
SUMMARY:Wir lesen...  (J194110) 
LOCATION:U 1, Raum 501, U1, 16 - 19, 68161 Mannheim
END:VEVENT
BEGIN:VEVENT
DTSTAMP:20260421T153533
DTSTART;TZID=Europe/Berlin:20260512T114500
DTEND;TZID=Europe/Berlin:20260512T123000
UID:J194110-20260512T114500@VHSMANNHEIM
SUMMARY:Wir lesen...  (J194110) 
LOCATION:U 1, Raum 501, U1, 16 - 19, 68161 Mannheim
END:VEVENT
BEGIN:VEVENT
DTSTAMP:20260421T153533
DTSTART;TZID=Europe/Berlin:20260519T114500
DTEND;TZID=Europe/Berlin:20260519T123000
UID:J194110-20260519T114500@VHSMANNHEIM
SUMMARY:Wir lesen...  (J194110) 
LOCATION:U 1, Raum 501, U1, 16 - 19, 68161 Mannheim
END:VEVENT
BEGIN:VEVENT
DTSTAMP:20260421T153533
DTSTART;TZID=Europe/Berlin:20260609T114500
DTEND;TZID=Europe/Berlin:20260609T123000
UID:J194110-20260609T114500@VHSMANNHEIM
SUMMARY:Wir lesen...  (J194110) 
LOCATION:U 1, Raum 501, U1, 16 - 19, 68161 Mannheim
END:VEVENT
BEGIN:VEVENT
DTSTAMP:20260421T153533
DTSTART;TZID=Europe/Berlin:20260616T114500
DTEND;TZID=Europe/Berlin:20260616T123000
UID:J194110-20260616T114500@VHSMANNHEIM
SUMMARY:Wir lesen...  (J194110) 
LOCATION:U 1, Raum 501, U1, 16 - 19, 68161 Mannheim
END:VEVENT
BEGIN:VEVENT
DTSTAMP:20260421T153533
DTSTART;TZID=Europe/Berlin:20260623T114500
DTEND;TZID=Europe/Berlin:20260623T123000
UID:J194110-20260623T114500@VHSMANNHEIM
SUMMARY:Wir lesen...  (J194110) 
LOCATION:U 1, Raum 501, U1, 16 - 19, 68161 Mannheim
END:VEVENT
BEGIN:VEVENT
DTSTAMP:20260421T153533
DTSTART;TZID=Europe/Berlin:20260630T114500
DTEND;TZID=Europe/Berlin:20260630T123000
UID:J194110-20260630T114500@VHSMANNHEIM
SUMMARY:Wir lesen...  (J194110) 
LOCATION:U 1, Raum 501, U1, 16 - 19, 68161 Mannheim
END:VEVENT
END:VCALENDAR