BEGIN:VCALENDAR
PRODID:http://www.kufer.de/kuferweb / DE
VERSION:2.0
METHOD:PUBLISH
CALSCALE:GREGORIAN
X-WR-TIMEZONE:Europe/Berlin
BEGIN:VTIMEZONE
TZID:Europe/Berlin
X-LIC-LOCATION:Europe/Berlin
BEGIN:DAYLIGHT
TZOFFSETFROM:+0100
TZOFFSETTO:+0200
TZNAME:CEST
DTSTART;TZID=Europe/Berlin:19700329T020000
RRULE:FREQ=YEARLY;INTERVAL=1;BYDAY=-1SU;BYMONTH=3
END:DAYLIGHT
BEGIN:STANDARD
TZOFFSETFROM:+0200
TZOFFSETTO:+0100
TZNAME:CET
DTSTART;TZID=Europe/Berlin:19701025T030000
RRULE:FREQ=YEARLY;INTERVAL=1;BYDAY=-1SU;BYMONTH=10
END:STANDARD
END:VTIMEZONE
BEGIN:VEVENT
DTSTAMP:20260420T190643
DTSTART;TZID=Europe/Berlin:20260519T104500
DTEND;TZID=Europe/Berlin:20260519T121500
UID:J238030-20260519T104500@VHSMANNHEIM
SUMMARY:Qigong am Morgen: Verjüngung der Wirbelsäule (J238030) 
LOCATION:U 1, Raum 602, U1, 16 - 19, 68161 Mannheim
END:VEVENT
BEGIN:VEVENT
DTSTAMP:20260420T190643
DTSTART;TZID=Europe/Berlin:20260526T104500
DTEND;TZID=Europe/Berlin:20260526T121500
UID:J238030-20260526T104500@VHSMANNHEIM
SUMMARY:Qigong am Morgen: Verjüngung der Wirbelsäule (J238030) 
LOCATION:U 1, Raum 602, U1, 16 - 19, 68161 Mannheim
END:VEVENT
BEGIN:VEVENT
DTSTAMP:20260420T190643
DTSTART;TZID=Europe/Berlin:20260602T104500
DTEND;TZID=Europe/Berlin:20260602T121500
UID:J238030-20260602T104500@VHSMANNHEIM
SUMMARY:Qigong am Morgen: Verjüngung der Wirbelsäule (J238030) 
LOCATION:U 1, Raum 602, U1, 16 - 19, 68161 Mannheim
END:VEVENT
BEGIN:VEVENT
DTSTAMP:20260420T190643
DTSTART;TZID=Europe/Berlin:20260609T104500
DTEND;TZID=Europe/Berlin:20260609T121500
UID:J238030-20260609T104500@VHSMANNHEIM
SUMMARY:Qigong am Morgen: Verjüngung der Wirbelsäule (J238030) 
LOCATION:U 1, Raum 602, U1, 16 - 19, 68161 Mannheim
END:VEVENT
BEGIN:VEVENT
DTSTAMP:20260420T190643
DTSTART;TZID=Europe/Berlin:20260616T104500
DTEND;TZID=Europe/Berlin:20260616T121500
UID:J238030-20260616T104500@VHSMANNHEIM
SUMMARY:Qigong am Morgen: Verjüngung der Wirbelsäule (J238030) 
LOCATION:U 1, Raum 602, U1, 16 - 19, 68161 Mannheim
END:VEVENT
END:VCALENDAR