BEGIN:VCALENDAR
PRODID:http://www.kufer.de/kuferweb / DE
VERSION:2.0
METHOD:PUBLISH
CALSCALE:GREGORIAN
X-WR-TIMEZONE:Europe/Berlin
BEGIN:VTIMEZONE
TZID:Europe/Berlin
X-LIC-LOCATION:Europe/Berlin
BEGIN:DAYLIGHT
TZOFFSETFROM:+0100
TZOFFSETTO:+0200
TZNAME:CEST
DTSTART;TZID=Europe/Berlin:19700329T020000
RRULE:FREQ=YEARLY;INTERVAL=1;BYDAY=-1SU;BYMONTH=3
END:DAYLIGHT
BEGIN:STANDARD
TZOFFSETFROM:+0200
TZOFFSETTO:+0100
TZNAME:CET
DTSTART;TZID=Europe/Berlin:19701025T030000
RRULE:FREQ=YEARLY;INTERVAL=1;BYDAY=-1SU;BYMONTH=10
END:STANDARD
END:VTIMEZONE
BEGIN:VEVENT
DTSTAMP:20260423T115215
DTSTART;TZID=Europe/Berlin:20260610T190500
DTEND;TZID=Europe/Berlin:20260610T203500
UID:J238210-20260610T190500@VHSMANNHEIM
SUMMARY:Tai Chi Chuan Anfänger:innen (J238210) 
LOCATION:U 1, Raum 603, U1, 16 - 19, 68161 Mannheim
END:VEVENT
BEGIN:VEVENT
DTSTAMP:20260423T115215
DTSTART;TZID=Europe/Berlin:20260617T190500
DTEND;TZID=Europe/Berlin:20260617T203500
UID:J238210-20260617T190500@VHSMANNHEIM
SUMMARY:Tai Chi Chuan Anfänger:innen (J238210) 
LOCATION:U 1, Raum 603, U1, 16 - 19, 68161 Mannheim
END:VEVENT
BEGIN:VEVENT
DTSTAMP:20260423T115215
DTSTART;TZID=Europe/Berlin:20260624T190500
DTEND;TZID=Europe/Berlin:20260624T203500
UID:J238210-20260624T190500@VHSMANNHEIM
SUMMARY:Tai Chi Chuan Anfänger:innen (J238210) 
LOCATION:U 1, Raum 603, U1, 16 - 19, 68161 Mannheim
END:VEVENT
BEGIN:VEVENT
DTSTAMP:20260423T115215
DTSTART;TZID=Europe/Berlin:20260701T190500
DTEND;TZID=Europe/Berlin:20260701T203500
UID:J238210-20260701T190500@VHSMANNHEIM
SUMMARY:Tai Chi Chuan Anfänger:innen (J238210) 
LOCATION:U 1, Raum 603, U1, 16 - 19, 68161 Mannheim
END:VEVENT
BEGIN:VEVENT
DTSTAMP:20260423T115215
DTSTART;TZID=Europe/Berlin:20260708T190500
DTEND;TZID=Europe/Berlin:20260708T203500
UID:J238210-20260708T190500@VHSMANNHEIM
SUMMARY:Tai Chi Chuan Anfänger:innen (J238210) 
LOCATION:U 1, Raum 603, U1, 16 - 19, 68161 Mannheim
END:VEVENT
BEGIN:VEVENT
DTSTAMP:20260423T115215
DTSTART;TZID=Europe/Berlin:20260715T190500
DTEND;TZID=Europe/Berlin:20260715T203500
UID:J238210-20260715T190500@VHSMANNHEIM
SUMMARY:Tai Chi Chuan Anfänger:innen (J238210) 
LOCATION:U 1, Raum 603, U1, 16 - 19, 68161 Mannheim
END:VEVENT
BEGIN:VEVENT
DTSTAMP:20260423T115215
DTSTART;TZID=Europe/Berlin:20260722T190500
DTEND;TZID=Europe/Berlin:20260722T203500
UID:J238210-20260722T190500@VHSMANNHEIM
SUMMARY:Tai Chi Chuan Anfänger:innen (J238210) 
LOCATION:U 1, Raum 603, U1, 16 - 19, 68161 Mannheim
END:VEVENT
BEGIN:VEVENT
DTSTAMP:20260423T115215
DTSTART;TZID=Europe/Berlin:20260729T190500
DTEND;TZID=Europe/Berlin:20260729T203500
UID:J238210-20260729T190500@VHSMANNHEIM
SUMMARY:Tai Chi Chuan Anfänger:innen (J238210) 
LOCATION:U 1, Raum 603, U1, 16 - 19, 68161 Mannheim
END:VEVENT
END:VCALENDAR