BEGIN:VCALENDAR
PRODID:http://www.kufer.de/kuferweb / DE
VERSION:2.0
METHOD:PUBLISH
CALSCALE:GREGORIAN
X-WR-TIMEZONE:Europe/Berlin
BEGIN:VTIMEZONE
TZID:Europe/Berlin
X-LIC-LOCATION:Europe/Berlin
BEGIN:DAYLIGHT
TZOFFSETFROM:+0100
TZOFFSETTO:+0200
TZNAME:CEST
DTSTART;TZID=Europe/Berlin:19700329T020000
RRULE:FREQ=YEARLY;INTERVAL=1;BYDAY=-1SU;BYMONTH=3
END:DAYLIGHT
BEGIN:STANDARD
TZOFFSETFROM:+0200
TZOFFSETTO:+0100
TZNAME:CET
DTSTART;TZID=Europe/Berlin:19701025T030000
RRULE:FREQ=YEARLY;INTERVAL=1;BYDAY=-1SU;BYMONTH=10
END:STANDARD
END:VTIMEZONE
BEGIN:VEVENT
DTSTAMP:20260420T230737
DTSTART;TZID=Europe/Berlin:20260613T094500
DTEND;TZID=Europe/Berlin:20260613T104500
UID:J239308-20260613T094500@VHSMANNHEIM
SUMMARY:Familienyoga für Groß und Klein Ein Kind (3-7 Jahre) und ein Erwachsener 5-Wochen-Kurs (J239308) 
LOCATION:U 1, Raum 601, U1, 16 - 19, 68161 Mannheim
END:VEVENT
BEGIN:VEVENT
DTSTAMP:20260420T230737
DTSTART;TZID=Europe/Berlin:20260620T094500
DTEND;TZID=Europe/Berlin:20260620T104500
UID:J239308-20260620T094500@VHSMANNHEIM
SUMMARY:Familienyoga für Groß und Klein Ein Kind (3-7 Jahre) und ein Erwachsener 5-Wochen-Kurs (J239308) 
LOCATION:U 1, Raum 603, U1, 16 - 19, 68161 Mannheim
END:VEVENT
BEGIN:VEVENT
DTSTAMP:20260420T230737
DTSTART;TZID=Europe/Berlin:20260627T094500
DTEND;TZID=Europe/Berlin:20260627T104500
UID:J239308-20260627T094500@VHSMANNHEIM
SUMMARY:Familienyoga für Groß und Klein Ein Kind (3-7 Jahre) und ein Erwachsener 5-Wochen-Kurs (J239308) 
LOCATION:U 1, Raum 603, U1, 16 - 19, 68161 Mannheim
END:VEVENT
BEGIN:VEVENT
DTSTAMP:20260420T230737
DTSTART;TZID=Europe/Berlin:20260704T094500
DTEND;TZID=Europe/Berlin:20260704T104500
UID:J239308-20260704T094500@VHSMANNHEIM
SUMMARY:Familienyoga für Groß und Klein Ein Kind (3-7 Jahre) und ein Erwachsener 5-Wochen-Kurs (J239308) 
LOCATION:U 1, Raum 603, U1, 16 - 19, 68161 Mannheim
END:VEVENT
BEGIN:VEVENT
DTSTAMP:20260420T230737
DTSTART;TZID=Europe/Berlin:20260711T094500
DTEND;TZID=Europe/Berlin:20260711T104500
UID:J239308-20260711T094500@VHSMANNHEIM
SUMMARY:Familienyoga für Groß und Klein Ein Kind (3-7 Jahre) und ein Erwachsener 5-Wochen-Kurs (J239308) 
LOCATION:U 1, Raum 601, U1, 16 - 19, 68161 Mannheim
END:VEVENT
END:VCALENDAR