BEGIN:VCALENDAR
PRODID:http://www.kufer.de/kuferweb / DE
VERSION:2.0
METHOD:PUBLISH
CALSCALE:GREGORIAN
X-WR-TIMEZONE:Europe/Berlin
BEGIN:VTIMEZONE
TZID:Europe/Berlin
X-LIC-LOCATION:Europe/Berlin
BEGIN:DAYLIGHT
TZOFFSETFROM:+0100
TZOFFSETTO:+0200
TZNAME:CEST
DTSTART;TZID=Europe/Berlin:19700329T020000
RRULE:FREQ=YEARLY;INTERVAL=1;BYDAY=-1SU;BYMONTH=3
END:DAYLIGHT
BEGIN:STANDARD
TZOFFSETFROM:+0200
TZOFFSETTO:+0100
TZNAME:CET
DTSTART;TZID=Europe/Berlin:19701025T030000
RRULE:FREQ=YEARLY;INTERVAL=1;BYDAY=-1SU;BYMONTH=10
END:STANDARD
END:VTIMEZONE
BEGIN:VEVENT
DTSTAMP:20260420T190622
DTSTART;TZID=Europe/Berlin:20260609T173000
DTEND;TZID=Europe/Berlin:20260609T184500
UID:J240310-20260609T173000@VHSMANNHEIM
SUMMARY:Hatha Yoga Anfänger:innen mit Vorkenntnissen (J240310) 
LOCATION:U 1, Raum 603, U1, 16 - 19, 68161 Mannheim
END:VEVENT
BEGIN:VEVENT
DTSTAMP:20260420T190622
DTSTART;TZID=Europe/Berlin:20260616T173000
DTEND;TZID=Europe/Berlin:20260616T184500
UID:J240310-20260616T173000@VHSMANNHEIM
SUMMARY:Hatha Yoga Anfänger:innen mit Vorkenntnissen (J240310) 
LOCATION:U 1, Raum 603, U1, 16 - 19, 68161 Mannheim
END:VEVENT
BEGIN:VEVENT
DTSTAMP:20260420T190622
DTSTART;TZID=Europe/Berlin:20260623T173000
DTEND;TZID=Europe/Berlin:20260623T184500
UID:J240310-20260623T173000@VHSMANNHEIM
SUMMARY:Hatha Yoga Anfänger:innen mit Vorkenntnissen (J240310) 
LOCATION:U 1, Raum 603, U1, 16 - 19, 68161 Mannheim
END:VEVENT
BEGIN:VEVENT
DTSTAMP:20260420T190622
DTSTART;TZID=Europe/Berlin:20260630T173000
DTEND;TZID=Europe/Berlin:20260630T184500
UID:J240310-20260630T173000@VHSMANNHEIM
SUMMARY:Hatha Yoga Anfänger:innen mit Vorkenntnissen (J240310) 
LOCATION:U 1, Raum 603, U1, 16 - 19, 68161 Mannheim
END:VEVENT
BEGIN:VEVENT
DTSTAMP:20260420T190622
DTSTART;TZID=Europe/Berlin:20260707T173000
DTEND;TZID=Europe/Berlin:20260707T184500
UID:J240310-20260707T173000@VHSMANNHEIM
SUMMARY:Hatha Yoga Anfänger:innen mit Vorkenntnissen (J240310) 
LOCATION:U 1, Raum 603, U1, 16 - 19, 68161 Mannheim
END:VEVENT
BEGIN:VEVENT
DTSTAMP:20260420T190622
DTSTART;TZID=Europe/Berlin:20260714T173000
DTEND;TZID=Europe/Berlin:20260714T184500
UID:J240310-20260714T173000@VHSMANNHEIM
SUMMARY:Hatha Yoga Anfänger:innen mit Vorkenntnissen (J240310) 
LOCATION:U 1, Raum 603, U1, 16 - 19, 68161 Mannheim
END:VEVENT
END:VCALENDAR