BEGIN:VCALENDAR
PRODID:http://www.kufer.de/kuferweb / DE
VERSION:2.0
METHOD:PUBLISH
CALSCALE:GREGORIAN
X-WR-TIMEZONE:Europe/Berlin
BEGIN:VTIMEZONE
TZID:Europe/Berlin
X-LIC-LOCATION:Europe/Berlin
BEGIN:DAYLIGHT
TZOFFSETFROM:+0100
TZOFFSETTO:+0200
TZNAME:CEST
DTSTART;TZID=Europe/Berlin:19700329T020000
RRULE:FREQ=YEARLY;INTERVAL=1;BYDAY=-1SU;BYMONTH=3
END:DAYLIGHT
BEGIN:STANDARD
TZOFFSETFROM:+0200
TZOFFSETTO:+0100
TZNAME:CET
DTSTART;TZID=Europe/Berlin:19701025T030000
RRULE:FREQ=YEARLY;INTERVAL=1;BYDAY=-1SU;BYMONTH=10
END:STANDARD
END:VTIMEZONE
BEGIN:VEVENT
DTSTAMP:20260421T114606
DTSTART;TZID=Europe/Berlin:20260317T193000
DTEND;TZID=Europe/Berlin:20260317T203000
UID:J251206-20260317T193000@VHSMANNHEIM
SUMMARY:Aquafitness (J251206) 
LOCATION:Hallenbad Neckarau, Lehrschwimmbecken, Marguerrestraße 11, 68199 Mannheim
END:VEVENT
BEGIN:VEVENT
DTSTAMP:20260421T114606
DTSTART;TZID=Europe/Berlin:20260324T193000
DTEND;TZID=Europe/Berlin:20260324T203000
UID:J251206-20260324T193000@VHSMANNHEIM
SUMMARY:Aquafitness (J251206) 
LOCATION:Hallenbad Neckarau, Lehrschwimmbecken, Marguerrestraße 11, 68199 Mannheim
END:VEVENT
BEGIN:VEVENT
DTSTAMP:20260421T114606
DTSTART;TZID=Europe/Berlin:20260331T193000
DTEND;TZID=Europe/Berlin:20260331T203000
UID:J251206-20260331T193000@VHSMANNHEIM
SUMMARY:Aquafitness (J251206) 
LOCATION:Hallenbad Neckarau, Lehrschwimmbecken, Marguerrestraße 11, 68199 Mannheim
END:VEVENT
BEGIN:VEVENT
DTSTAMP:20260421T114606
DTSTART;TZID=Europe/Berlin:20260407T193000
DTEND;TZID=Europe/Berlin:20260407T203000
UID:J251206-20260407T193000@VHSMANNHEIM
SUMMARY:Aquafitness (J251206) 
LOCATION:Hallenbad Neckarau, Lehrschwimmbecken, Marguerrestraße 11, 68199 Mannheim
END:VEVENT
BEGIN:VEVENT
DTSTAMP:20260421T114606
DTSTART;TZID=Europe/Berlin:20260414T193000
DTEND;TZID=Europe/Berlin:20260414T203000
UID:J251206-20260414T193000@VHSMANNHEIM
SUMMARY:Aquafitness (J251206) 
LOCATION:Hallenbad Neckarau, Lehrschwimmbecken, Marguerrestraße 11, 68199 Mannheim
END:VEVENT
BEGIN:VEVENT
DTSTAMP:20260421T114606
DTSTART;TZID=Europe/Berlin:20260421T193000
DTEND;TZID=Europe/Berlin:20260421T203000
UID:J251206-20260421T193000@VHSMANNHEIM
SUMMARY:Aquafitness (J251206) 
LOCATION:Hallenbad Neckarau, Lehrschwimmbecken, Marguerrestraße 11, 68199 Mannheim
END:VEVENT
BEGIN:VEVENT
DTSTAMP:20260421T114606
DTSTART;TZID=Europe/Berlin:20260428T193000
DTEND;TZID=Europe/Berlin:20260428T203000
UID:J251206-20260428T193000@VHSMANNHEIM
SUMMARY:Aquafitness (J251206) 
LOCATION:Hallenbad Neckarau, Lehrschwimmbecken, Marguerrestraße 11, 68199 Mannheim
END:VEVENT
END:VCALENDAR