BEGIN:VCALENDAR
PRODID:http://www.kufer.de/kuferweb / DE
VERSION:2.0
METHOD:PUBLISH
CALSCALE:GREGORIAN
X-WR-TIMEZONE:Europe/Berlin
BEGIN:VTIMEZONE
TZID:Europe/Berlin
X-LIC-LOCATION:Europe/Berlin
BEGIN:DAYLIGHT
TZOFFSETFROM:+0100
TZOFFSETTO:+0200
TZNAME:CEST
DTSTART;TZID=Europe/Berlin:19700329T020000
RRULE:FREQ=YEARLY;INTERVAL=1;BYDAY=-1SU;BYMONTH=3
END:DAYLIGHT
BEGIN:STANDARD
TZOFFSETFROM:+0200
TZOFFSETTO:+0100
TZNAME:CET
DTSTART;TZID=Europe/Berlin:19701025T030000
RRULE:FREQ=YEARLY;INTERVAL=1;BYDAY=-1SU;BYMONTH=10
END:STANDARD
END:VTIMEZONE
BEGIN:VEVENT
DTSTAMP:20260420T122338
DTSTART;TZID=Europe/Berlin:20260507T203000
DTEND;TZID=Europe/Berlin:20260507T213000
UID:J251226-20260507T203000@VHSMANNHEIM
SUMMARY:Aquafitness (J251226) 
LOCATION:Hallenbad Neckarau, Lehrschwimmbecken, Marguerrestraße 11, 68199 Mannheim
END:VEVENT
BEGIN:VEVENT
DTSTAMP:20260420T122338
DTSTART;TZID=Europe/Berlin:20260521T203000
DTEND;TZID=Europe/Berlin:20260521T213000
UID:J251226-20260521T203000@VHSMANNHEIM
SUMMARY:Aquafitness (J251226) 
LOCATION:Hallenbad Neckarau, Lehrschwimmbecken, Marguerrestraße 11, 68199 Mannheim
END:VEVENT
BEGIN:VEVENT
DTSTAMP:20260420T122338
DTSTART;TZID=Europe/Berlin:20260611T203000
DTEND;TZID=Europe/Berlin:20260611T213000
UID:J251226-20260611T203000@VHSMANNHEIM
SUMMARY:Aquafitness (J251226) 
LOCATION:Hallenbad Neckarau, Lehrschwimmbecken, Marguerrestraße 11, 68199 Mannheim
END:VEVENT
BEGIN:VEVENT
DTSTAMP:20260420T122338
DTSTART;TZID=Europe/Berlin:20260618T203000
DTEND;TZID=Europe/Berlin:20260618T213000
UID:J251226-20260618T203000@VHSMANNHEIM
SUMMARY:Aquafitness (J251226) 
LOCATION:Hallenbad Neckarau, Lehrschwimmbecken, Marguerrestraße 11, 68199 Mannheim
END:VEVENT
BEGIN:VEVENT
DTSTAMP:20260420T122338
DTSTART;TZID=Europe/Berlin:20260625T203000
DTEND;TZID=Europe/Berlin:20260625T213000
UID:J251226-20260625T203000@VHSMANNHEIM
SUMMARY:Aquafitness (J251226) 
LOCATION:Hallenbad Neckarau, Lehrschwimmbecken, Marguerrestraße 11, 68199 Mannheim
END:VEVENT
BEGIN:VEVENT
DTSTAMP:20260420T122338
DTSTART;TZID=Europe/Berlin:20260702T203000
DTEND;TZID=Europe/Berlin:20260702T213000
UID:J251226-20260702T203000@VHSMANNHEIM
SUMMARY:Aquafitness (J251226) 
LOCATION:Hallenbad Neckarau, Lehrschwimmbecken, Marguerrestraße 11, 68199 Mannheim
END:VEVENT
BEGIN:VEVENT
DTSTAMP:20260420T122338
DTSTART;TZID=Europe/Berlin:20260709T203000
DTEND;TZID=Europe/Berlin:20260709T213000
UID:J251226-20260709T203000@VHSMANNHEIM
SUMMARY:Aquafitness (J251226) 
LOCATION:Hallenbad Neckarau, Lehrschwimmbecken, Marguerrestraße 11, 68199 Mannheim
END:VEVENT
END:VCALENDAR