BEGIN:VCALENDAR
PRODID:http://www.kufer.de/kuferweb / DE
VERSION:2.0
METHOD:PUBLISH
CALSCALE:GREGORIAN
X-WR-TIMEZONE:Europe/Berlin
BEGIN:VTIMEZONE
TZID:Europe/Berlin
X-LIC-LOCATION:Europe/Berlin
BEGIN:DAYLIGHT
TZOFFSETFROM:+0100
TZOFFSETTO:+0200
TZNAME:CEST
DTSTART;TZID=Europe/Berlin:19700329T020000
RRULE:FREQ=YEARLY;INTERVAL=1;BYDAY=-1SU;BYMONTH=3
END:DAYLIGHT
BEGIN:STANDARD
TZOFFSETFROM:+0200
TZOFFSETTO:+0100
TZNAME:CET
DTSTART;TZID=Europe/Berlin:19701025T030000
RRULE:FREQ=YEARLY;INTERVAL=1;BYDAY=-1SU;BYMONTH=10
END:STANDARD
END:VTIMEZONE
BEGIN:VEVENT
DTSTAMP:20260420T202558
DTSTART;TZID=Europe/Berlin:20260508T190000
DTEND;TZID=Europe/Berlin:20260508T200000
UID:J251246-20260508T190000@VHSMANNHEIM
SUMMARY:Aquakonditionstraining (J251246) 
LOCATION:Hallenbad Neckarau, Lehrschwimmbecken, Marguerrestraße 11, 68199 Mannheim
END:VEVENT
BEGIN:VEVENT
DTSTAMP:20260420T202558
DTSTART;TZID=Europe/Berlin:20260515T190000
DTEND;TZID=Europe/Berlin:20260515T200000
UID:J251246-20260515T190000@VHSMANNHEIM
SUMMARY:Aquakonditionstraining (J251246) 
LOCATION:Hallenbad Neckarau, Lehrschwimmbecken, Marguerrestraße 11, 68199 Mannheim
END:VEVENT
BEGIN:VEVENT
DTSTAMP:20260420T202558
DTSTART;TZID=Europe/Berlin:20260522T190000
DTEND;TZID=Europe/Berlin:20260522T200000
UID:J251246-20260522T190000@VHSMANNHEIM
SUMMARY:Aquakonditionstraining (J251246) 
LOCATION:Hallenbad Neckarau, Lehrschwimmbecken, Marguerrestraße 11, 68199 Mannheim
END:VEVENT
BEGIN:VEVENT
DTSTAMP:20260420T202558
DTSTART;TZID=Europe/Berlin:20260612T190000
DTEND;TZID=Europe/Berlin:20260612T200000
UID:J251246-20260612T190000@VHSMANNHEIM
SUMMARY:Aquakonditionstraining (J251246) 
LOCATION:Hallenbad Neckarau, Lehrschwimmbecken, Marguerrestraße 11, 68199 Mannheim
END:VEVENT
BEGIN:VEVENT
DTSTAMP:20260420T202558
DTSTART;TZID=Europe/Berlin:20260619T190000
DTEND;TZID=Europe/Berlin:20260619T200000
UID:J251246-20260619T190000@VHSMANNHEIM
SUMMARY:Aquakonditionstraining (J251246) 
LOCATION:Hallenbad Neckarau, Lehrschwimmbecken, Marguerrestraße 11, 68199 Mannheim
END:VEVENT
BEGIN:VEVENT
DTSTAMP:20260420T202558
DTSTART;TZID=Europe/Berlin:20260626T190000
DTEND;TZID=Europe/Berlin:20260626T200000
UID:J251246-20260626T190000@VHSMANNHEIM
SUMMARY:Aquakonditionstraining (J251246) 
LOCATION:Hallenbad Neckarau, Lehrschwimmbecken, Marguerrestraße 11, 68199 Mannheim
END:VEVENT
BEGIN:VEVENT
DTSTAMP:20260420T202558
DTSTART;TZID=Europe/Berlin:20260703T190000
DTEND;TZID=Europe/Berlin:20260703T200000
UID:J251246-20260703T190000@VHSMANNHEIM
SUMMARY:Aquakonditionstraining (J251246) 
LOCATION:Hallenbad Neckarau, Lehrschwimmbecken, Marguerrestraße 11, 68199 Mannheim
END:VEVENT
BEGIN:VEVENT
DTSTAMP:20260420T202558
DTSTART;TZID=Europe/Berlin:20260710T190000
DTEND;TZID=Europe/Berlin:20260710T200000
UID:J251246-20260710T190000@VHSMANNHEIM
SUMMARY:Aquakonditionstraining (J251246) 
LOCATION:Hallenbad Neckarau, Lehrschwimmbecken, Marguerrestraße 11, 68199 Mannheim
END:VEVENT
END:VCALENDAR