BEGIN:VCALENDAR
PRODID:http://www.kufer.de/kuferweb / DE
VERSION:2.0
METHOD:PUBLISH
CALSCALE:GREGORIAN
X-WR-TIMEZONE:Europe/Berlin
BEGIN:VTIMEZONE
TZID:Europe/Berlin
X-LIC-LOCATION:Europe/Berlin
BEGIN:DAYLIGHT
TZOFFSETFROM:+0100
TZOFFSETTO:+0200
TZNAME:CEST
DTSTART;TZID=Europe/Berlin:19700329T020000
RRULE:FREQ=YEARLY;INTERVAL=1;BYDAY=-1SU;BYMONTH=3
END:DAYLIGHT
BEGIN:STANDARD
TZOFFSETFROM:+0200
TZOFFSETTO:+0100
TZNAME:CET
DTSTART;TZID=Europe/Berlin:19701025T030000
RRULE:FREQ=YEARLY;INTERVAL=1;BYDAY=-1SU;BYMONTH=10
END:STANDARD
END:VTIMEZONE
BEGIN:VEVENT
DTSTAMP:20260420T204110
DTSTART;TZID=Europe/Berlin:20260504T090000
DTEND;TZID=Europe/Berlin:20260504T130000
UID:J341001-20260504T090000@VHSMANNHEIM
SUMMARY:C1 (Präsenz) Deutsch-Intensiv-Kurs für Studienbewerber und Schnelllerner (J341001) 
LOCATION:U 1, Raum 113, U1, 16 - 19, 68161 Mannheim
END:VEVENT
BEGIN:VEVENT
DTSTAMP:20260420T204110
DTSTART;TZID=Europe/Berlin:20260505T090000
DTEND;TZID=Europe/Berlin:20260505T130000
UID:J341001-20260505T090000@VHSMANNHEIM
SUMMARY:C1 (Präsenz) Deutsch-Intensiv-Kurs für Studienbewerber und Schnelllerner (J341001) 
LOCATION:U 1, Raum 113, U1, 16 - 19, 68161 Mannheim
END:VEVENT
BEGIN:VEVENT
DTSTAMP:20260420T204110
DTSTART;TZID=Europe/Berlin:20260506T090000
DTEND;TZID=Europe/Berlin:20260506T130000
UID:J341001-20260506T090000@VHSMANNHEIM
SUMMARY:C1 (Präsenz) Deutsch-Intensiv-Kurs für Studienbewerber und Schnelllerner (J341001) 
LOCATION:U 1, Raum 113, U1, 16 - 19, 68161 Mannheim
END:VEVENT
BEGIN:VEVENT
DTSTAMP:20260420T204110
DTSTART;TZID=Europe/Berlin:20260507T090000
DTEND;TZID=Europe/Berlin:20260507T130000
UID:J341001-20260507T090000@VHSMANNHEIM
SUMMARY:C1 (Präsenz) Deutsch-Intensiv-Kurs für Studienbewerber und Schnelllerner (J341001) 
LOCATION:U 1, Raum 113, U1, 16 - 19, 68161 Mannheim
END:VEVENT
BEGIN:VEVENT
DTSTAMP:20260420T204110
DTSTART;TZID=Europe/Berlin:20260508T090000
DTEND;TZID=Europe/Berlin:20260508T130000
UID:J341001-20260508T090000@VHSMANNHEIM
SUMMARY:C1 (Präsenz) Deutsch-Intensiv-Kurs für Studienbewerber und Schnelllerner (J341001) 
LOCATION:U 1, Raum 113, U1, 16 - 19, 68161 Mannheim
END:VEVENT
BEGIN:VEVENT
DTSTAMP:20260420T204110
DTSTART;TZID=Europe/Berlin:20260511T090000
DTEND;TZID=Europe/Berlin:20260511T130000
UID:J341001-20260511T090000@VHSMANNHEIM
SUMMARY:C1 (Präsenz) Deutsch-Intensiv-Kurs für Studienbewerber und Schnelllerner (J341001) 
LOCATION:U 1, Raum 113, U1, 16 - 19, 68161 Mannheim
END:VEVENT
BEGIN:VEVENT
DTSTAMP:20260420T204110
DTSTART;TZID=Europe/Berlin:20260512T090000
DTEND;TZID=Europe/Berlin:20260512T130000
UID:J341001-20260512T090000@VHSMANNHEIM
SUMMARY:C1 (Präsenz) Deutsch-Intensiv-Kurs für Studienbewerber und Schnelllerner (J341001) 
LOCATION:U 1, Raum 113, U1, 16 - 19, 68161 Mannheim
END:VEVENT
BEGIN:VEVENT
DTSTAMP:20260420T204110
DTSTART;TZID=Europe/Berlin:20260513T090000
DTEND;TZID=Europe/Berlin:20260513T130000
UID:J341001-20260513T090000@VHSMANNHEIM
SUMMARY:C1 (Präsenz) Deutsch-Intensiv-Kurs für Studienbewerber und Schnelllerner (J341001) 
LOCATION:U 1, Raum 113, U1, 16 - 19, 68161 Mannheim
END:VEVENT
BEGIN:VEVENT
DTSTAMP:20260420T204110
DTSTART;TZID=Europe/Berlin:20260515T090000
DTEND;TZID=Europe/Berlin:20260515T130000
UID:J341001-20260515T090000@VHSMANNHEIM
SUMMARY:C1 (Präsenz) Deutsch-Intensiv-Kurs für Studienbewerber und Schnelllerner (J341001) 
LOCATION:U 1, Raum 113, U1, 16 - 19, 68161 Mannheim
END:VEVENT
BEGIN:VEVENT
DTSTAMP:20260420T204110
DTSTART;TZID=Europe/Berlin:20260518T090000
DTEND;TZID=Europe/Berlin:20260518T130000
UID:J341001-20260518T090000@VHSMANNHEIM
SUMMARY:C1 (Präsenz) Deutsch-Intensiv-Kurs für Studienbewerber und Schnelllerner (J341001) 
LOCATION:U 1, Raum 113, U1, 16 - 19, 68161 Mannheim
END:VEVENT
BEGIN:VEVENT
DTSTAMP:20260420T204110
DTSTART;TZID=Europe/Berlin:20260519T090000
DTEND;TZID=Europe/Berlin:20260519T130000
UID:J341001-20260519T090000@VHSMANNHEIM
SUMMARY:C1 (Präsenz) Deutsch-Intensiv-Kurs für Studienbewerber und Schnelllerner (J341001) 
LOCATION:U 1, Raum 113, U1, 16 - 19, 68161 Mannheim
END:VEVENT
BEGIN:VEVENT
DTSTAMP:20260420T204110
DTSTART;TZID=Europe/Berlin:20260520T090000
DTEND;TZID=Europe/Berlin:20260520T130000
UID:J341001-20260520T090000@VHSMANNHEIM
SUMMARY:C1 (Präsenz) Deutsch-Intensiv-Kurs für Studienbewerber und Schnelllerner (J341001) 
LOCATION:U 1, Raum 113, U1, 16 - 19, 68161 Mannheim
END:VEVENT
BEGIN:VEVENT
DTSTAMP:20260420T204110
DTSTART;TZID=Europe/Berlin:20260521T090000
DTEND;TZID=Europe/Berlin:20260521T130000
UID:J341001-20260521T090000@VHSMANNHEIM
SUMMARY:C1 (Präsenz) Deutsch-Intensiv-Kurs für Studienbewerber und Schnelllerner (J341001) 
LOCATION:U 1, Raum 113, U1, 16 - 19, 68161 Mannheim
END:VEVENT
BEGIN:VEVENT
DTSTAMP:20260420T204110
DTSTART;TZID=Europe/Berlin:20260522T090000
DTEND;TZID=Europe/Berlin:20260522T130000
UID:J341001-20260522T090000@VHSMANNHEIM
SUMMARY:C1 (Präsenz) Deutsch-Intensiv-Kurs für Studienbewerber und Schnelllerner (J341001) 
LOCATION:U 1, Raum 113, U1, 16 - 19, 68161 Mannheim
END:VEVENT
BEGIN:VEVENT
DTSTAMP:20260420T204110
DTSTART;TZID=Europe/Berlin:20260526T090000
DTEND;TZID=Europe/Berlin:20260526T130000
UID:J341001-20260526T090000@VHSMANNHEIM
SUMMARY:C1 (Präsenz) Deutsch-Intensiv-Kurs für Studienbewerber und Schnelllerner (J341001) 
LOCATION:U 1, Raum 113, U1, 16 - 19, 68161 Mannheim
END:VEVENT
BEGIN:VEVENT
DTSTAMP:20260420T204110
DTSTART;TZID=Europe/Berlin:20260527T090000
DTEND;TZID=Europe/Berlin:20260527T130000
UID:J341001-20260527T090000@VHSMANNHEIM
SUMMARY:C1 (Präsenz) Deutsch-Intensiv-Kurs für Studienbewerber und Schnelllerner (J341001) 
LOCATION:U 1, Raum 113, U1, 16 - 19, 68161 Mannheim
END:VEVENT
BEGIN:VEVENT
DTSTAMP:20260420T204110
DTSTART;TZID=Europe/Berlin:20260528T090000
DTEND;TZID=Europe/Berlin:20260528T130000
UID:J341001-20260528T090000@VHSMANNHEIM
SUMMARY:C1 (Präsenz) Deutsch-Intensiv-Kurs für Studienbewerber und Schnelllerner (J341001) 
LOCATION:U 1, Raum 113, U1, 16 - 19, 68161 Mannheim
END:VEVENT
BEGIN:VEVENT
DTSTAMP:20260420T204110
DTSTART;TZID=Europe/Berlin:20260529T090000
DTEND;TZID=Europe/Berlin:20260529T130000
UID:J341001-20260529T090000@VHSMANNHEIM
SUMMARY:C1 (Präsenz) Deutsch-Intensiv-Kurs für Studienbewerber und Schnelllerner (J341001) 
LOCATION:U 1, Raum 113, U1, 16 - 19, 68161 Mannheim
END:VEVENT
BEGIN:VEVENT
DTSTAMP:20260420T204110
DTSTART;TZID=Europe/Berlin:20260601T090000
DTEND;TZID=Europe/Berlin:20260601T130000
UID:J341001-20260601T090000@VHSMANNHEIM
SUMMARY:C1 (Präsenz) Deutsch-Intensiv-Kurs für Studienbewerber und Schnelllerner (J341001) 
LOCATION:U 1, Raum 113, U1, 16 - 19, 68161 Mannheim
END:VEVENT
BEGIN:VEVENT
DTSTAMP:20260420T204110
DTSTART;TZID=Europe/Berlin:20260602T090000
DTEND;TZID=Europe/Berlin:20260602T130000
UID:J341001-20260602T090000@VHSMANNHEIM
SUMMARY:C1 (Präsenz) Deutsch-Intensiv-Kurs für Studienbewerber und Schnelllerner (J341001) 
LOCATION:U 1, Raum 113, U1, 16 - 19, 68161 Mannheim
END:VEVENT
BEGIN:VEVENT
DTSTAMP:20260420T204110
DTSTART;TZID=Europe/Berlin:20260603T090000
DTEND;TZID=Europe/Berlin:20260603T130000
UID:J341001-20260603T090000@VHSMANNHEIM
SUMMARY:C1 (Präsenz) Deutsch-Intensiv-Kurs für Studienbewerber und Schnelllerner (J341001) 
LOCATION:U 1, Raum 113, U1, 16 - 19, 68161 Mannheim
END:VEVENT
BEGIN:VEVENT
DTSTAMP:20260420T204110
DTSTART;TZID=Europe/Berlin:20260605T090000
DTEND;TZID=Europe/Berlin:20260605T130000
UID:J341001-20260605T090000@VHSMANNHEIM
SUMMARY:C1 (Präsenz) Deutsch-Intensiv-Kurs für Studienbewerber und Schnelllerner (J341001) 
LOCATION:U 1, Raum 113, U1, 16 - 19, 68161 Mannheim
END:VEVENT
BEGIN:VEVENT
DTSTAMP:20260420T204110
DTSTART;TZID=Europe/Berlin:20260608T090000
DTEND;TZID=Europe/Berlin:20260608T130000
UID:J341001-20260608T090000@VHSMANNHEIM
SUMMARY:C1 (Präsenz) Deutsch-Intensiv-Kurs für Studienbewerber und Schnelllerner (J341001) 
LOCATION:U 1, Raum 113, U1, 16 - 19, 68161 Mannheim
END:VEVENT
BEGIN:VEVENT
DTSTAMP:20260420T204110
DTSTART;TZID=Europe/Berlin:20260609T090000
DTEND;TZID=Europe/Berlin:20260609T130000
UID:J341001-20260609T090000@VHSMANNHEIM
SUMMARY:C1 (Präsenz) Deutsch-Intensiv-Kurs für Studienbewerber und Schnelllerner (J341001) 
LOCATION:U 1, Raum 113, U1, 16 - 19, 68161 Mannheim
END:VEVENT
BEGIN:VEVENT
DTSTAMP:20260420T204110
DTSTART;TZID=Europe/Berlin:20260610T090000
DTEND;TZID=Europe/Berlin:20260610T130000
UID:J341001-20260610T090000@VHSMANNHEIM
SUMMARY:C1 (Präsenz) Deutsch-Intensiv-Kurs für Studienbewerber und Schnelllerner (J341001) 
LOCATION:U 1, Raum 113, U1, 16 - 19, 68161 Mannheim
END:VEVENT
BEGIN:VEVENT
DTSTAMP:20260420T204110
DTSTART;TZID=Europe/Berlin:20260611T090000
DTEND;TZID=Europe/Berlin:20260611T130000
UID:J341001-20260611T090000@VHSMANNHEIM
SUMMARY:C1 (Präsenz) Deutsch-Intensiv-Kurs für Studienbewerber und Schnelllerner (J341001) 
LOCATION:U 1, Raum 113, U1, 16 - 19, 68161 Mannheim
END:VEVENT
BEGIN:VEVENT
DTSTAMP:20260420T204110
DTSTART;TZID=Europe/Berlin:20260612T090000
DTEND;TZID=Europe/Berlin:20260612T130000
UID:J341001-20260612T090000@VHSMANNHEIM
SUMMARY:C1 (Präsenz) Deutsch-Intensiv-Kurs für Studienbewerber und Schnelllerner (J341001) 
LOCATION:U 1, Raum 113, U1, 16 - 19, 68161 Mannheim
END:VEVENT
BEGIN:VEVENT
DTSTAMP:20260420T204110
DTSTART;TZID=Europe/Berlin:20260615T090000
DTEND;TZID=Europe/Berlin:20260615T130000
UID:J341001-20260615T090000@VHSMANNHEIM
SUMMARY:C1 (Präsenz) Deutsch-Intensiv-Kurs für Studienbewerber und Schnelllerner (J341001) 
LOCATION:U 1, Raum 113, U1, 16 - 19, 68161 Mannheim
END:VEVENT
BEGIN:VEVENT
DTSTAMP:20260420T204110
DTSTART;TZID=Europe/Berlin:20260616T090000
DTEND;TZID=Europe/Berlin:20260616T130000
UID:J341001-20260616T090000@VHSMANNHEIM
SUMMARY:C1 (Präsenz) Deutsch-Intensiv-Kurs für Studienbewerber und Schnelllerner (J341001) 
LOCATION:U 1, Raum 113, U1, 16 - 19, 68161 Mannheim
END:VEVENT
BEGIN:VEVENT
DTSTAMP:20260420T204110
DTSTART;TZID=Europe/Berlin:20260617T090000
DTEND;TZID=Europe/Berlin:20260617T130000
UID:J341001-20260617T090000@VHSMANNHEIM
SUMMARY:C1 (Präsenz) Deutsch-Intensiv-Kurs für Studienbewerber und Schnelllerner (J341001) 
LOCATION:U 1, Raum 113, U1, 16 - 19, 68161 Mannheim
END:VEVENT
BEGIN:VEVENT
DTSTAMP:20260420T204110
DTSTART;TZID=Europe/Berlin:20260618T090000
DTEND;TZID=Europe/Berlin:20260618T130000
UID:J341001-20260618T090000@VHSMANNHEIM
SUMMARY:C1 (Präsenz) Deutsch-Intensiv-Kurs für Studienbewerber und Schnelllerner (J341001) 
LOCATION:U 1, Raum 113, U1, 16 - 19, 68161 Mannheim
END:VEVENT
BEGIN:VEVENT
DTSTAMP:20260420T204110
DTSTART;TZID=Europe/Berlin:20260619T090000
DTEND;TZID=Europe/Berlin:20260619T130000
UID:J341001-20260619T090000@VHSMANNHEIM
SUMMARY:C1 (Präsenz) Deutsch-Intensiv-Kurs für Studienbewerber und Schnelllerner (J341001) 
LOCATION:U 1, Raum 113, U1, 16 - 19, 68161 Mannheim
END:VEVENT
BEGIN:VEVENT
DTSTAMP:20260420T204110
DTSTART;TZID=Europe/Berlin:20260622T090000
DTEND;TZID=Europe/Berlin:20260622T130000
UID:J341001-20260622T090000@VHSMANNHEIM
SUMMARY:C1 (Präsenz) Deutsch-Intensiv-Kurs für Studienbewerber und Schnelllerner (J341001) 
LOCATION:U 1, Raum 113, U1, 16 - 19, 68161 Mannheim
END:VEVENT
BEGIN:VEVENT
DTSTAMP:20260420T204110
DTSTART;TZID=Europe/Berlin:20260623T090000
DTEND;TZID=Europe/Berlin:20260623T130000
UID:J341001-20260623T090000@VHSMANNHEIM
SUMMARY:C1 (Präsenz) Deutsch-Intensiv-Kurs für Studienbewerber und Schnelllerner (J341001) 
LOCATION:U 1, Raum 113, U1, 16 - 19, 68161 Mannheim
END:VEVENT
BEGIN:VEVENT
DTSTAMP:20260420T204110
DTSTART;TZID=Europe/Berlin:20260624T090000
DTEND;TZID=Europe/Berlin:20260624T130000
UID:J341001-20260624T090000@VHSMANNHEIM
SUMMARY:C1 (Präsenz) Deutsch-Intensiv-Kurs für Studienbewerber und Schnelllerner (J341001) 
LOCATION:U 1, Raum 113, U1, 16 - 19, 68161 Mannheim
END:VEVENT
BEGIN:VEVENT
DTSTAMP:20260420T204110
DTSTART;TZID=Europe/Berlin:20260625T090000
DTEND;TZID=Europe/Berlin:20260625T130000
UID:J341001-20260625T090000@VHSMANNHEIM
SUMMARY:C1 (Präsenz) Deutsch-Intensiv-Kurs für Studienbewerber und Schnelllerner (J341001) 
LOCATION:U 1, Raum 113, U1, 16 - 19, 68161 Mannheim
END:VEVENT
BEGIN:VEVENT
DTSTAMP:20260420T204110
DTSTART;TZID=Europe/Berlin:20260626T090000
DTEND;TZID=Europe/Berlin:20260626T130000
UID:J341001-20260626T090000@VHSMANNHEIM
SUMMARY:C1 (Präsenz) Deutsch-Intensiv-Kurs für Studienbewerber und Schnelllerner (J341001) 
LOCATION:U 1, Raum 113, U1, 16 - 19, 68161 Mannheim
END:VEVENT
BEGIN:VEVENT
DTSTAMP:20260420T204110
DTSTART;TZID=Europe/Berlin:20260629T090000
DTEND;TZID=Europe/Berlin:20260629T130000
UID:J341001-20260629T090000@VHSMANNHEIM
SUMMARY:C1 (Präsenz) Deutsch-Intensiv-Kurs für Studienbewerber und Schnelllerner (J341001) 
LOCATION:U 1, Raum 113, U1, 16 - 19, 68161 Mannheim
END:VEVENT
BEGIN:VEVENT
DTSTAMP:20260420T204110
DTSTART;TZID=Europe/Berlin:20260630T090000
DTEND;TZID=Europe/Berlin:20260630T130000
UID:J341001-20260630T090000@VHSMANNHEIM
SUMMARY:C1 (Präsenz) Deutsch-Intensiv-Kurs für Studienbewerber und Schnelllerner (J341001) 
LOCATION:U 1, Raum 113, U1, 16 - 19, 68161 Mannheim
END:VEVENT
BEGIN:VEVENT
DTSTAMP:20260420T204110
DTSTART;TZID=Europe/Berlin:20260701T090000
DTEND;TZID=Europe/Berlin:20260701T130000
UID:J341001-20260701T090000@VHSMANNHEIM
SUMMARY:C1 (Präsenz) Deutsch-Intensiv-Kurs für Studienbewerber und Schnelllerner (J341001) 
LOCATION:U 1, Raum 113, U1, 16 - 19, 68161 Mannheim
END:VEVENT
END:VCALENDAR