BEGIN:VCALENDAR
PRODID:http://www.kufer.de/kuferweb / DE
VERSION:2.0
METHOD:PUBLISH
CALSCALE:GREGORIAN
X-WR-TIMEZONE:Europe/Berlin
BEGIN:VTIMEZONE
TZID:Europe/Berlin
X-LIC-LOCATION:Europe/Berlin
BEGIN:DAYLIGHT
TZOFFSETFROM:+0100
TZOFFSETTO:+0200
TZNAME:CEST
DTSTART;TZID=Europe/Berlin:19700329T020000
RRULE:FREQ=YEARLY;INTERVAL=1;BYDAY=-1SU;BYMONTH=3
END:DAYLIGHT
BEGIN:STANDARD
TZOFFSETFROM:+0200
TZOFFSETTO:+0100
TZNAME:CET
DTSTART;TZID=Europe/Berlin:19701025T030000
RRULE:FREQ=YEARLY;INTERVAL=1;BYDAY=-1SU;BYMONTH=10
END:STANDARD
END:VTIMEZONE
BEGIN:VEVENT
DTSTAMP:20260421T090234
DTSTART;TZID=Europe/Berlin:20260824T090000
DTEND;TZID=Europe/Berlin:20260824T130000
UID:J341003-20260824T090000@VHSMANNHEIM
SUMMARY:C1 (Präsenz) Deutsch-Intensiv-Kurs für Studienbewerber und Schnelllerner (J341003) 
LOCATION:U 1, Raum 113, U1, 16 - 19, 68161 Mannheim
END:VEVENT
BEGIN:VEVENT
DTSTAMP:20260421T090234
DTSTART;TZID=Europe/Berlin:20260825T090000
DTEND;TZID=Europe/Berlin:20260825T130000
UID:J341003-20260825T090000@VHSMANNHEIM
SUMMARY:C1 (Präsenz) Deutsch-Intensiv-Kurs für Studienbewerber und Schnelllerner (J341003) 
LOCATION:U 1, Raum 113, U1, 16 - 19, 68161 Mannheim
END:VEVENT
BEGIN:VEVENT
DTSTAMP:20260421T090234
DTSTART;TZID=Europe/Berlin:20260826T090000
DTEND;TZID=Europe/Berlin:20260826T130000
UID:J341003-20260826T090000@VHSMANNHEIM
SUMMARY:C1 (Präsenz) Deutsch-Intensiv-Kurs für Studienbewerber und Schnelllerner (J341003) 
LOCATION:U 1, Raum 113, U1, 16 - 19, 68161 Mannheim
END:VEVENT
BEGIN:VEVENT
DTSTAMP:20260421T090234
DTSTART;TZID=Europe/Berlin:20260827T090000
DTEND;TZID=Europe/Berlin:20260827T130000
UID:J341003-20260827T090000@VHSMANNHEIM
SUMMARY:C1 (Präsenz) Deutsch-Intensiv-Kurs für Studienbewerber und Schnelllerner (J341003) 
LOCATION:U 1, Raum 113, U1, 16 - 19, 68161 Mannheim
END:VEVENT
BEGIN:VEVENT
DTSTAMP:20260421T090234
DTSTART;TZID=Europe/Berlin:20260828T090000
DTEND;TZID=Europe/Berlin:20260828T130000
UID:J341003-20260828T090000@VHSMANNHEIM
SUMMARY:C1 (Präsenz) Deutsch-Intensiv-Kurs für Studienbewerber und Schnelllerner (J341003) 
LOCATION:U 1, Raum 113, U1, 16 - 19, 68161 Mannheim
END:VEVENT
BEGIN:VEVENT
DTSTAMP:20260421T090234
DTSTART;TZID=Europe/Berlin:20260831T090000
DTEND;TZID=Europe/Berlin:20260831T130000
UID:J341003-20260831T090000@VHSMANNHEIM
SUMMARY:C1 (Präsenz) Deutsch-Intensiv-Kurs für Studienbewerber und Schnelllerner (J341003) 
LOCATION:U 1, Raum 113, U1, 16 - 19, 68161 Mannheim
END:VEVENT
BEGIN:VEVENT
DTSTAMP:20260421T090234
DTSTART;TZID=Europe/Berlin:20260901T090000
DTEND;TZID=Europe/Berlin:20260901T130000
UID:J341003-20260901T090000@VHSMANNHEIM
SUMMARY:C1 (Präsenz) Deutsch-Intensiv-Kurs für Studienbewerber und Schnelllerner (J341003) 
LOCATION:U 1, Raum 113, U1, 16 - 19, 68161 Mannheim
END:VEVENT
BEGIN:VEVENT
DTSTAMP:20260421T090234
DTSTART;TZID=Europe/Berlin:20260902T090000
DTEND;TZID=Europe/Berlin:20260902T130000
UID:J341003-20260902T090000@VHSMANNHEIM
SUMMARY:C1 (Präsenz) Deutsch-Intensiv-Kurs für Studienbewerber und Schnelllerner (J341003) 
LOCATION:U 1, Raum 113, U1, 16 - 19, 68161 Mannheim
END:VEVENT
BEGIN:VEVENT
DTSTAMP:20260421T090234
DTSTART;TZID=Europe/Berlin:20260903T090000
DTEND;TZID=Europe/Berlin:20260903T130000
UID:J341003-20260903T090000@VHSMANNHEIM
SUMMARY:C1 (Präsenz) Deutsch-Intensiv-Kurs für Studienbewerber und Schnelllerner (J341003) 
LOCATION:U 1, Raum 113, U1, 16 - 19, 68161 Mannheim
END:VEVENT
BEGIN:VEVENT
DTSTAMP:20260421T090234
DTSTART;TZID=Europe/Berlin:20260904T090000
DTEND;TZID=Europe/Berlin:20260904T130000
UID:J341003-20260904T090000@VHSMANNHEIM
SUMMARY:C1 (Präsenz) Deutsch-Intensiv-Kurs für Studienbewerber und Schnelllerner (J341003) 
LOCATION:U 1, Raum 113, U1, 16 - 19, 68161 Mannheim
END:VEVENT
BEGIN:VEVENT
DTSTAMP:20260421T090234
DTSTART;TZID=Europe/Berlin:20260907T090000
DTEND;TZID=Europe/Berlin:20260907T130000
UID:J341003-20260907T090000@VHSMANNHEIM
SUMMARY:C1 (Präsenz) Deutsch-Intensiv-Kurs für Studienbewerber und Schnelllerner (J341003) 
LOCATION:U 1, Raum 113, U1, 16 - 19, 68161 Mannheim
END:VEVENT
BEGIN:VEVENT
DTSTAMP:20260421T090234
DTSTART;TZID=Europe/Berlin:20260908T090000
DTEND;TZID=Europe/Berlin:20260908T130000
UID:J341003-20260908T090000@VHSMANNHEIM
SUMMARY:C1 (Präsenz) Deutsch-Intensiv-Kurs für Studienbewerber und Schnelllerner (J341003) 
LOCATION:U 1, Raum 113, U1, 16 - 19, 68161 Mannheim
END:VEVENT
BEGIN:VEVENT
DTSTAMP:20260421T090234
DTSTART;TZID=Europe/Berlin:20260909T090000
DTEND;TZID=Europe/Berlin:20260909T130000
UID:J341003-20260909T090000@VHSMANNHEIM
SUMMARY:C1 (Präsenz) Deutsch-Intensiv-Kurs für Studienbewerber und Schnelllerner (J341003) 
LOCATION:U 1, Raum 113, U1, 16 - 19, 68161 Mannheim
END:VEVENT
BEGIN:VEVENT
DTSTAMP:20260421T090234
DTSTART;TZID=Europe/Berlin:20260910T090000
DTEND;TZID=Europe/Berlin:20260910T130000
UID:J341003-20260910T090000@VHSMANNHEIM
SUMMARY:C1 (Präsenz) Deutsch-Intensiv-Kurs für Studienbewerber und Schnelllerner (J341003) 
LOCATION:U 1, Raum 113, U1, 16 - 19, 68161 Mannheim
END:VEVENT
BEGIN:VEVENT
DTSTAMP:20260421T090234
DTSTART;TZID=Europe/Berlin:20260911T090000
DTEND;TZID=Europe/Berlin:20260911T130000
UID:J341003-20260911T090000@VHSMANNHEIM
SUMMARY:C1 (Präsenz) Deutsch-Intensiv-Kurs für Studienbewerber und Schnelllerner (J341003) 
LOCATION:U 1, Raum 113, U1, 16 - 19, 68161 Mannheim
END:VEVENT
BEGIN:VEVENT
DTSTAMP:20260421T090234
DTSTART;TZID=Europe/Berlin:20260914T090000
DTEND;TZID=Europe/Berlin:20260914T130000
UID:J341003-20260914T090000@VHSMANNHEIM
SUMMARY:C1 (Präsenz) Deutsch-Intensiv-Kurs für Studienbewerber und Schnelllerner (J341003) 
LOCATION:U 1, Raum 113, U1, 16 - 19, 68161 Mannheim
END:VEVENT
BEGIN:VEVENT
DTSTAMP:20260421T090234
DTSTART;TZID=Europe/Berlin:20260915T090000
DTEND;TZID=Europe/Berlin:20260915T130000
UID:J341003-20260915T090000@VHSMANNHEIM
SUMMARY:C1 (Präsenz) Deutsch-Intensiv-Kurs für Studienbewerber und Schnelllerner (J341003) 
LOCATION:U 1, Raum 113, U1, 16 - 19, 68161 Mannheim
END:VEVENT
BEGIN:VEVENT
DTSTAMP:20260421T090234
DTSTART;TZID=Europe/Berlin:20260916T090000
DTEND;TZID=Europe/Berlin:20260916T130000
UID:J341003-20260916T090000@VHSMANNHEIM
SUMMARY:C1 (Präsenz) Deutsch-Intensiv-Kurs für Studienbewerber und Schnelllerner (J341003) 
LOCATION:U 1, Raum 113, U1, 16 - 19, 68161 Mannheim
END:VEVENT
BEGIN:VEVENT
DTSTAMP:20260421T090234
DTSTART;TZID=Europe/Berlin:20260917T090000
DTEND;TZID=Europe/Berlin:20260917T130000
UID:J341003-20260917T090000@VHSMANNHEIM
SUMMARY:C1 (Präsenz) Deutsch-Intensiv-Kurs für Studienbewerber und Schnelllerner (J341003) 
LOCATION:U 1, Raum 113, U1, 16 - 19, 68161 Mannheim
END:VEVENT
BEGIN:VEVENT
DTSTAMP:20260421T090234
DTSTART;TZID=Europe/Berlin:20260918T090000
DTEND;TZID=Europe/Berlin:20260918T130000
UID:J341003-20260918T090000@VHSMANNHEIM
SUMMARY:C1 (Präsenz) Deutsch-Intensiv-Kurs für Studienbewerber und Schnelllerner (J341003) 
LOCATION:U 1, Raum 113, U1, 16 - 19, 68161 Mannheim
END:VEVENT
BEGIN:VEVENT
DTSTAMP:20260421T090234
DTSTART;TZID=Europe/Berlin:20260921T090000
DTEND;TZID=Europe/Berlin:20260921T130000
UID:J341003-20260921T090000@VHSMANNHEIM
SUMMARY:C1 (Präsenz) Deutsch-Intensiv-Kurs für Studienbewerber und Schnelllerner (J341003) 
LOCATION:U 1, Raum 113, U1, 16 - 19, 68161 Mannheim
END:VEVENT
BEGIN:VEVENT
DTSTAMP:20260421T090234
DTSTART;TZID=Europe/Berlin:20260922T090000
DTEND;TZID=Europe/Berlin:20260922T130000
UID:J341003-20260922T090000@VHSMANNHEIM
SUMMARY:C1 (Präsenz) Deutsch-Intensiv-Kurs für Studienbewerber und Schnelllerner (J341003) 
LOCATION:U 1, Raum 113, U1, 16 - 19, 68161 Mannheim
END:VEVENT
BEGIN:VEVENT
DTSTAMP:20260421T090234
DTSTART;TZID=Europe/Berlin:20260923T090000
DTEND;TZID=Europe/Berlin:20260923T130000
UID:J341003-20260923T090000@VHSMANNHEIM
SUMMARY:C1 (Präsenz) Deutsch-Intensiv-Kurs für Studienbewerber und Schnelllerner (J341003) 
LOCATION:U 1, Raum 113, U1, 16 - 19, 68161 Mannheim
END:VEVENT
BEGIN:VEVENT
DTSTAMP:20260421T090234
DTSTART;TZID=Europe/Berlin:20260924T090000
DTEND;TZID=Europe/Berlin:20260924T130000
UID:J341003-20260924T090000@VHSMANNHEIM
SUMMARY:C1 (Präsenz) Deutsch-Intensiv-Kurs für Studienbewerber und Schnelllerner (J341003) 
LOCATION:U 1, Raum 113, U1, 16 - 19, 68161 Mannheim
END:VEVENT
BEGIN:VEVENT
DTSTAMP:20260421T090234
DTSTART;TZID=Europe/Berlin:20260925T090000
DTEND;TZID=Europe/Berlin:20260925T130000
UID:J341003-20260925T090000@VHSMANNHEIM
SUMMARY:C1 (Präsenz) Deutsch-Intensiv-Kurs für Studienbewerber und Schnelllerner (J341003) 
LOCATION:U 1, Raum 113, U1, 16 - 19, 68161 Mannheim
END:VEVENT
BEGIN:VEVENT
DTSTAMP:20260421T090234
DTSTART;TZID=Europe/Berlin:20260928T090000
DTEND;TZID=Europe/Berlin:20260928T130000
UID:J341003-20260928T090000@VHSMANNHEIM
SUMMARY:C1 (Präsenz) Deutsch-Intensiv-Kurs für Studienbewerber und Schnelllerner (J341003) 
LOCATION:U 1, Raum 113, U1, 16 - 19, 68161 Mannheim
END:VEVENT
BEGIN:VEVENT
DTSTAMP:20260421T090234
DTSTART;TZID=Europe/Berlin:20260929T090000
DTEND;TZID=Europe/Berlin:20260929T130000
UID:J341003-20260929T090000@VHSMANNHEIM
SUMMARY:C1 (Präsenz) Deutsch-Intensiv-Kurs für Studienbewerber und Schnelllerner (J341003) 
LOCATION:U 1, Raum 113, U1, 16 - 19, 68161 Mannheim
END:VEVENT
BEGIN:VEVENT
DTSTAMP:20260421T090234
DTSTART;TZID=Europe/Berlin:20260930T090000
DTEND;TZID=Europe/Berlin:20260930T130000
UID:J341003-20260930T090000@VHSMANNHEIM
SUMMARY:C1 (Präsenz) Deutsch-Intensiv-Kurs für Studienbewerber und Schnelllerner (J341003) 
LOCATION:U 1, Raum 113, U1, 16 - 19, 68161 Mannheim
END:VEVENT
BEGIN:VEVENT
DTSTAMP:20260421T090234
DTSTART;TZID=Europe/Berlin:20261001T090000
DTEND;TZID=Europe/Berlin:20261001T130000
UID:J341003-20261001T090000@VHSMANNHEIM
SUMMARY:C1 (Präsenz) Deutsch-Intensiv-Kurs für Studienbewerber und Schnelllerner (J341003) 
LOCATION:U 1, Raum 113, U1, 16 - 19, 68161 Mannheim
END:VEVENT
BEGIN:VEVENT
DTSTAMP:20260421T090234
DTSTART;TZID=Europe/Berlin:20261002T090000
DTEND;TZID=Europe/Berlin:20261002T130000
UID:J341003-20261002T090000@VHSMANNHEIM
SUMMARY:C1 (Präsenz) Deutsch-Intensiv-Kurs für Studienbewerber und Schnelllerner (J341003) 
LOCATION:U 1, Raum 113, U1, 16 - 19, 68161 Mannheim
END:VEVENT
BEGIN:VEVENT
DTSTAMP:20260421T090234
DTSTART;TZID=Europe/Berlin:20261005T090000
DTEND;TZID=Europe/Berlin:20261005T130000
UID:J341003-20261005T090000@VHSMANNHEIM
SUMMARY:C1 (Präsenz) Deutsch-Intensiv-Kurs für Studienbewerber und Schnelllerner (J341003) 
LOCATION:U 1, Raum 113, U1, 16 - 19, 68161 Mannheim
END:VEVENT
BEGIN:VEVENT
DTSTAMP:20260421T090234
DTSTART;TZID=Europe/Berlin:20261006T090000
DTEND;TZID=Europe/Berlin:20261006T130000
UID:J341003-20261006T090000@VHSMANNHEIM
SUMMARY:C1 (Präsenz) Deutsch-Intensiv-Kurs für Studienbewerber und Schnelllerner (J341003) 
LOCATION:U 1, Raum 113, U1, 16 - 19, 68161 Mannheim
END:VEVENT
BEGIN:VEVENT
DTSTAMP:20260421T090234
DTSTART;TZID=Europe/Berlin:20261007T090000
DTEND;TZID=Europe/Berlin:20261007T130000
UID:J341003-20261007T090000@VHSMANNHEIM
SUMMARY:C1 (Präsenz) Deutsch-Intensiv-Kurs für Studienbewerber und Schnelllerner (J341003) 
LOCATION:U 1, Raum 113, U1, 16 - 19, 68161 Mannheim
END:VEVENT
BEGIN:VEVENT
DTSTAMP:20260421T090234
DTSTART;TZID=Europe/Berlin:20261008T090000
DTEND;TZID=Europe/Berlin:20261008T130000
UID:J341003-20261008T090000@VHSMANNHEIM
SUMMARY:C1 (Präsenz) Deutsch-Intensiv-Kurs für Studienbewerber und Schnelllerner (J341003) 
LOCATION:U 1, Raum 113, U1, 16 - 19, 68161 Mannheim
END:VEVENT
BEGIN:VEVENT
DTSTAMP:20260421T090234
DTSTART;TZID=Europe/Berlin:20261009T090000
DTEND;TZID=Europe/Berlin:20261009T130000
UID:J341003-20261009T090000@VHSMANNHEIM
SUMMARY:C1 (Präsenz) Deutsch-Intensiv-Kurs für Studienbewerber und Schnelllerner (J341003) 
LOCATION:U 1, Raum 113, U1, 16 - 19, 68161 Mannheim
END:VEVENT
BEGIN:VEVENT
DTSTAMP:20260421T090234
DTSTART;TZID=Europe/Berlin:20261012T090000
DTEND;TZID=Europe/Berlin:20261012T130000
UID:J341003-20261012T090000@VHSMANNHEIM
SUMMARY:C1 (Präsenz) Deutsch-Intensiv-Kurs für Studienbewerber und Schnelllerner (J341003) 
LOCATION:U 1, Raum 113, U1, 16 - 19, 68161 Mannheim
END:VEVENT
BEGIN:VEVENT
DTSTAMP:20260421T090234
DTSTART;TZID=Europe/Berlin:20261013T090000
DTEND;TZID=Europe/Berlin:20261013T130000
UID:J341003-20261013T090000@VHSMANNHEIM
SUMMARY:C1 (Präsenz) Deutsch-Intensiv-Kurs für Studienbewerber und Schnelllerner (J341003) 
LOCATION:U 1, Raum 113, U1, 16 - 19, 68161 Mannheim
END:VEVENT
BEGIN:VEVENT
DTSTAMP:20260421T090234
DTSTART;TZID=Europe/Berlin:20261014T090000
DTEND;TZID=Europe/Berlin:20261014T130000
UID:J341003-20261014T090000@VHSMANNHEIM
SUMMARY:C1 (Präsenz) Deutsch-Intensiv-Kurs für Studienbewerber und Schnelllerner (J341003) 
LOCATION:U 1, Raum 113, U1, 16 - 19, 68161 Mannheim
END:VEVENT
BEGIN:VEVENT
DTSTAMP:20260421T090234
DTSTART;TZID=Europe/Berlin:20261015T090000
DTEND;TZID=Europe/Berlin:20261015T130000
UID:J341003-20261015T090000@VHSMANNHEIM
SUMMARY:C1 (Präsenz) Deutsch-Intensiv-Kurs für Studienbewerber und Schnelllerner (J341003) 
LOCATION:U 1, Raum 113, U1, 16 - 19, 68161 Mannheim
END:VEVENT
BEGIN:VEVENT
DTSTAMP:20260421T090234
DTSTART;TZID=Europe/Berlin:20261016T090000
DTEND;TZID=Europe/Berlin:20261016T130000
UID:J341003-20261016T090000@VHSMANNHEIM
SUMMARY:C1 (Präsenz) Deutsch-Intensiv-Kurs für Studienbewerber und Schnelllerner (J341003) 
LOCATION:U 1, Raum 113, U1, 16 - 19, 68161 Mannheim
END:VEVENT
END:VCALENDAR