BEGIN:VCALENDAR
PRODID:http://www.kufer.de/kuferweb / DE
VERSION:2.0
METHOD:PUBLISH
CALSCALE:GREGORIAN
X-WR-TIMEZONE:Europe/Berlin
BEGIN:VTIMEZONE
TZID:Europe/Berlin
X-LIC-LOCATION:Europe/Berlin
BEGIN:DAYLIGHT
TZOFFSETFROM:+0100
TZOFFSETTO:+0200
TZNAME:CEST
DTSTART;TZID=Europe/Berlin:19700329T020000
RRULE:FREQ=YEARLY;INTERVAL=1;BYDAY=-1SU;BYMONTH=3
END:DAYLIGHT
BEGIN:STANDARD
TZOFFSETFROM:+0200
TZOFFSETTO:+0100
TZNAME:CET
DTSTART;TZID=Europe/Berlin:19701025T030000
RRULE:FREQ=YEARLY;INTERVAL=1;BYDAY=-1SU;BYMONTH=10
END:STANDARD
END:VTIMEZONE
BEGIN:VEVENT
DTSTAMP:20260421T074724
DTSTART;TZID=Europe/Berlin:20260824T180000
DTEND;TZID=Europe/Berlin:20260824T211500
UID:J343011-20260824T180000@VHSMANNHEIM
SUMMARY:C1 Deutsch am Abend (J343011) 
LOCATION:U 1, Raum 102, U1, 16 - 19, 68161 Mannheim
END:VEVENT
BEGIN:VEVENT
DTSTAMP:20260421T074724
DTSTART;TZID=Europe/Berlin:20260825T180000
DTEND;TZID=Europe/Berlin:20260825T211500
UID:J343011-20260825T180000@VHSMANNHEIM
SUMMARY:C1 Deutsch am Abend (J343011) 
LOCATION:U 1, Raum 102, U1, 16 - 19, 68161 Mannheim
END:VEVENT
BEGIN:VEVENT
DTSTAMP:20260421T074724
DTSTART;TZID=Europe/Berlin:20260827T180000
DTEND;TZID=Europe/Berlin:20260827T211500
UID:J343011-20260827T180000@VHSMANNHEIM
SUMMARY:C1 Deutsch am Abend (J343011) 
LOCATION:U 1, Raum 102, U1, 16 - 19, 68161 Mannheim
END:VEVENT
BEGIN:VEVENT
DTSTAMP:20260421T074724
DTSTART;TZID=Europe/Berlin:20260831T180000
DTEND;TZID=Europe/Berlin:20260831T211500
UID:J343011-20260831T180000@VHSMANNHEIM
SUMMARY:C1 Deutsch am Abend (J343011) 
LOCATION:U 1, Raum 102, U1, 16 - 19, 68161 Mannheim
END:VEVENT
BEGIN:VEVENT
DTSTAMP:20260421T074724
DTSTART;TZID=Europe/Berlin:20260901T180000
DTEND;TZID=Europe/Berlin:20260901T211500
UID:J343011-20260901T180000@VHSMANNHEIM
SUMMARY:C1 Deutsch am Abend (J343011) 
LOCATION:U 1, Raum 102, U1, 16 - 19, 68161 Mannheim
END:VEVENT
BEGIN:VEVENT
DTSTAMP:20260421T074724
DTSTART;TZID=Europe/Berlin:20260903T180000
DTEND;TZID=Europe/Berlin:20260903T211500
UID:J343011-20260903T180000@VHSMANNHEIM
SUMMARY:C1 Deutsch am Abend (J343011) 
LOCATION:U 1, Raum 102, U1, 16 - 19, 68161 Mannheim
END:VEVENT
BEGIN:VEVENT
DTSTAMP:20260421T074724
DTSTART;TZID=Europe/Berlin:20260907T180000
DTEND;TZID=Europe/Berlin:20260907T211500
UID:J343011-20260907T180000@VHSMANNHEIM
SUMMARY:C1 Deutsch am Abend (J343011) 
LOCATION:U 1, Raum 102, U1, 16 - 19, 68161 Mannheim
END:VEVENT
BEGIN:VEVENT
DTSTAMP:20260421T074724
DTSTART;TZID=Europe/Berlin:20260908T180000
DTEND;TZID=Europe/Berlin:20260908T211500
UID:J343011-20260908T180000@VHSMANNHEIM
SUMMARY:C1 Deutsch am Abend (J343011) 
LOCATION:U 1, Raum 102, U1, 16 - 19, 68161 Mannheim
END:VEVENT
BEGIN:VEVENT
DTSTAMP:20260421T074724
DTSTART;TZID=Europe/Berlin:20260910T180000
DTEND;TZID=Europe/Berlin:20260910T211500
UID:J343011-20260910T180000@VHSMANNHEIM
SUMMARY:C1 Deutsch am Abend (J343011) 
LOCATION:U 1, Raum 102, U1, 16 - 19, 68161 Mannheim
END:VEVENT
BEGIN:VEVENT
DTSTAMP:20260421T074724
DTSTART;TZID=Europe/Berlin:20260914T180000
DTEND;TZID=Europe/Berlin:20260914T211500
UID:J343011-20260914T180000@VHSMANNHEIM
SUMMARY:C1 Deutsch am Abend (J343011) 
LOCATION:U 1, Raum 102, U1, 16 - 19, 68161 Mannheim
END:VEVENT
BEGIN:VEVENT
DTSTAMP:20260421T074724
DTSTART;TZID=Europe/Berlin:20260915T180000
DTEND;TZID=Europe/Berlin:20260915T211500
UID:J343011-20260915T180000@VHSMANNHEIM
SUMMARY:C1 Deutsch am Abend (J343011) 
LOCATION:U 1, Raum 102, U1, 16 - 19, 68161 Mannheim
END:VEVENT
BEGIN:VEVENT
DTSTAMP:20260421T074724
DTSTART;TZID=Europe/Berlin:20260917T180000
DTEND;TZID=Europe/Berlin:20260917T211500
UID:J343011-20260917T180000@VHSMANNHEIM
SUMMARY:C1 Deutsch am Abend (J343011) 
LOCATION:U 1, Raum 102, U1, 16 - 19, 68161 Mannheim
END:VEVENT
BEGIN:VEVENT
DTSTAMP:20260421T074724
DTSTART;TZID=Europe/Berlin:20260921T180000
DTEND;TZID=Europe/Berlin:20260921T211500
UID:J343011-20260921T180000@VHSMANNHEIM
SUMMARY:C1 Deutsch am Abend (J343011) 
LOCATION:U 1, Raum 102, U1, 16 - 19, 68161 Mannheim
END:VEVENT
BEGIN:VEVENT
DTSTAMP:20260421T074724
DTSTART;TZID=Europe/Berlin:20260922T180000
DTEND;TZID=Europe/Berlin:20260922T211500
UID:J343011-20260922T180000@VHSMANNHEIM
SUMMARY:C1 Deutsch am Abend (J343011) 
LOCATION:U 1, Raum 102, U1, 16 - 19, 68161 Mannheim
END:VEVENT
BEGIN:VEVENT
DTSTAMP:20260421T074724
DTSTART;TZID=Europe/Berlin:20260924T180000
DTEND;TZID=Europe/Berlin:20260924T211500
UID:J343011-20260924T180000@VHSMANNHEIM
SUMMARY:C1 Deutsch am Abend (J343011) 
LOCATION:U 1, Raum 102, U1, 16 - 19, 68161 Mannheim
END:VEVENT
BEGIN:VEVENT
DTSTAMP:20260421T074724
DTSTART;TZID=Europe/Berlin:20260928T180000
DTEND;TZID=Europe/Berlin:20260928T211500
UID:J343011-20260928T180000@VHSMANNHEIM
SUMMARY:C1 Deutsch am Abend (J343011) 
LOCATION:U 1, Raum 102, U1, 16 - 19, 68161 Mannheim
END:VEVENT
BEGIN:VEVENT
DTSTAMP:20260421T074724
DTSTART;TZID=Europe/Berlin:20260929T180000
DTEND;TZID=Europe/Berlin:20260929T211500
UID:J343011-20260929T180000@VHSMANNHEIM
SUMMARY:C1 Deutsch am Abend (J343011) 
LOCATION:U 1, Raum 102, U1, 16 - 19, 68161 Mannheim
END:VEVENT
BEGIN:VEVENT
DTSTAMP:20260421T074724
DTSTART;TZID=Europe/Berlin:20261001T180000
DTEND;TZID=Europe/Berlin:20261001T211500
UID:J343011-20261001T180000@VHSMANNHEIM
SUMMARY:C1 Deutsch am Abend (J343011) 
LOCATION:U 1, Raum 102, U1, 16 - 19, 68161 Mannheim
END:VEVENT
BEGIN:VEVENT
DTSTAMP:20260421T074724
DTSTART;TZID=Europe/Berlin:20261005T180000
DTEND;TZID=Europe/Berlin:20261005T211500
UID:J343011-20261005T180000@VHSMANNHEIM
SUMMARY:C1 Deutsch am Abend (J343011) 
LOCATION:U 1, Raum 102, U1, 16 - 19, 68161 Mannheim
END:VEVENT
BEGIN:VEVENT
DTSTAMP:20260421T074724
DTSTART;TZID=Europe/Berlin:20261006T180000
DTEND;TZID=Europe/Berlin:20261006T211500
UID:J343011-20261006T180000@VHSMANNHEIM
SUMMARY:C1 Deutsch am Abend (J343011) 
LOCATION:U 1, Raum 102, U1, 16 - 19, 68161 Mannheim
END:VEVENT
BEGIN:VEVENT
DTSTAMP:20260421T074724
DTSTART;TZID=Europe/Berlin:20261008T180000
DTEND;TZID=Europe/Berlin:20261008T211500
UID:J343011-20261008T180000@VHSMANNHEIM
SUMMARY:C1 Deutsch am Abend (J343011) 
LOCATION:U 1, Raum 102, U1, 16 - 19, 68161 Mannheim
END:VEVENT
BEGIN:VEVENT
DTSTAMP:20260421T074724
DTSTART;TZID=Europe/Berlin:20261012T180000
DTEND;TZID=Europe/Berlin:20261012T211500
UID:J343011-20261012T180000@VHSMANNHEIM
SUMMARY:C1 Deutsch am Abend (J343011) 
LOCATION:U 1, Raum 102, U1, 16 - 19, 68161 Mannheim
END:VEVENT
BEGIN:VEVENT
DTSTAMP:20260421T074724
DTSTART;TZID=Europe/Berlin:20261013T180000
DTEND;TZID=Europe/Berlin:20261013T211500
UID:J343011-20261013T180000@VHSMANNHEIM
SUMMARY:C1 Deutsch am Abend (J343011) 
LOCATION:U 1, Raum 102, U1, 16 - 19, 68161 Mannheim
END:VEVENT
BEGIN:VEVENT
DTSTAMP:20260421T074724
DTSTART;TZID=Europe/Berlin:20261015T180000
DTEND;TZID=Europe/Berlin:20261015T211500
UID:J343011-20261015T180000@VHSMANNHEIM
SUMMARY:C1 Deutsch am Abend (J343011) 
LOCATION:U 1, Raum 102, U1, 16 - 19, 68161 Mannheim
END:VEVENT
BEGIN:VEVENT
DTSTAMP:20260421T074724
DTSTART;TZID=Europe/Berlin:20261019T180000
DTEND;TZID=Europe/Berlin:20261019T211500
UID:J343011-20261019T180000@VHSMANNHEIM
SUMMARY:C1 Deutsch am Abend (J343011) 
LOCATION:U 1, Raum 102, U1, 16 - 19, 68161 Mannheim
END:VEVENT
BEGIN:VEVENT
DTSTAMP:20260421T074724
DTSTART;TZID=Europe/Berlin:20261020T180000
DTEND;TZID=Europe/Berlin:20261020T211500
UID:J343011-20261020T180000@VHSMANNHEIM
SUMMARY:C1 Deutsch am Abend (J343011) 
LOCATION:U 1, Raum 102, U1, 16 - 19, 68161 Mannheim
END:VEVENT
BEGIN:VEVENT
DTSTAMP:20260421T074724
DTSTART;TZID=Europe/Berlin:20261022T180000
DTEND;TZID=Europe/Berlin:20261022T211500
UID:J343011-20261022T180000@VHSMANNHEIM
SUMMARY:C1 Deutsch am Abend (J343011) 
LOCATION:U 1, Raum 102, U1, 16 - 19, 68161 Mannheim
END:VEVENT
BEGIN:VEVENT
DTSTAMP:20260421T074724
DTSTART;TZID=Europe/Berlin:20261026T180000
DTEND;TZID=Europe/Berlin:20261026T211500
UID:J343011-20261026T180000@VHSMANNHEIM
SUMMARY:C1 Deutsch am Abend (J343011) 
LOCATION:U 1, Raum 102, U1, 16 - 19, 68161 Mannheim
END:VEVENT
BEGIN:VEVENT
DTSTAMP:20260421T074724
DTSTART;TZID=Europe/Berlin:20261027T180000
DTEND;TZID=Europe/Berlin:20261027T211500
UID:J343011-20261027T180000@VHSMANNHEIM
SUMMARY:C1 Deutsch am Abend (J343011) 
LOCATION:U 1, Raum 102, U1, 16 - 19, 68161 Mannheim
END:VEVENT
BEGIN:VEVENT
DTSTAMP:20260421T074724
DTSTART;TZID=Europe/Berlin:20261029T180000
DTEND;TZID=Europe/Berlin:20261029T211500
UID:J343011-20261029T180000@VHSMANNHEIM
SUMMARY:C1 Deutsch am Abend (J343011) 
LOCATION:U 1, Raum 102, U1, 16 - 19, 68161 Mannheim
END:VEVENT
BEGIN:VEVENT
DTSTAMP:20260421T074724
DTSTART;TZID=Europe/Berlin:20261102T180000
DTEND;TZID=Europe/Berlin:20261102T211500
UID:J343011-20261102T180000@VHSMANNHEIM
SUMMARY:C1 Deutsch am Abend (J343011) 
LOCATION:U 1, Raum 102, U1, 16 - 19, 68161 Mannheim
END:VEVENT
BEGIN:VEVENT
DTSTAMP:20260421T074724
DTSTART;TZID=Europe/Berlin:20261103T180000
DTEND;TZID=Europe/Berlin:20261103T211500
UID:J343011-20261103T180000@VHSMANNHEIM
SUMMARY:C1 Deutsch am Abend (J343011) 
LOCATION:U 1, Raum 102, U1, 16 - 19, 68161 Mannheim
END:VEVENT
BEGIN:VEVENT
DTSTAMP:20260421T074724
DTSTART;TZID=Europe/Berlin:20261105T180000
DTEND;TZID=Europe/Berlin:20261105T211500
UID:J343011-20261105T180000@VHSMANNHEIM
SUMMARY:C1 Deutsch am Abend (J343011) 
LOCATION:U 1, Raum 102, U1, 16 - 19, 68161 Mannheim
END:VEVENT
BEGIN:VEVENT
DTSTAMP:20260421T074724
DTSTART;TZID=Europe/Berlin:20261109T180000
DTEND;TZID=Europe/Berlin:20261109T211500
UID:J343011-20261109T180000@VHSMANNHEIM
SUMMARY:C1 Deutsch am Abend (J343011) 
LOCATION:U 1, Raum 102, U1, 16 - 19, 68161 Mannheim
END:VEVENT
BEGIN:VEVENT
DTSTAMP:20260421T074724
DTSTART;TZID=Europe/Berlin:20261110T180000
DTEND;TZID=Europe/Berlin:20261110T211500
UID:J343011-20261110T180000@VHSMANNHEIM
SUMMARY:C1 Deutsch am Abend (J343011) 
LOCATION:U 1, Raum 102, U1, 16 - 19, 68161 Mannheim
END:VEVENT
BEGIN:VEVENT
DTSTAMP:20260421T074724
DTSTART;TZID=Europe/Berlin:20261112T180000
DTEND;TZID=Europe/Berlin:20261112T211500
UID:J343011-20261112T180000@VHSMANNHEIM
SUMMARY:C1 Deutsch am Abend (J343011) 
LOCATION:U 1, Raum 102, U1, 16 - 19, 68161 Mannheim
END:VEVENT
BEGIN:VEVENT
DTSTAMP:20260421T074724
DTSTART;TZID=Europe/Berlin:20261116T180000
DTEND;TZID=Europe/Berlin:20261116T211500
UID:J343011-20261116T180000@VHSMANNHEIM
SUMMARY:C1 Deutsch am Abend (J343011) 
LOCATION:U 1, Raum 102, U1, 16 - 19, 68161 Mannheim
END:VEVENT
BEGIN:VEVENT
DTSTAMP:20260421T074724
DTSTART;TZID=Europe/Berlin:20261117T180000
DTEND;TZID=Europe/Berlin:20261117T211500
UID:J343011-20261117T180000@VHSMANNHEIM
SUMMARY:C1 Deutsch am Abend (J343011) 
LOCATION:U 1, Raum 102, U1, 16 - 19, 68161 Mannheim
END:VEVENT
BEGIN:VEVENT
DTSTAMP:20260421T074724
DTSTART;TZID=Europe/Berlin:20261119T180000
DTEND;TZID=Europe/Berlin:20261119T211500
UID:J343011-20261119T180000@VHSMANNHEIM
SUMMARY:C1 Deutsch am Abend (J343011) 
LOCATION:U 1, Raum 102, U1, 16 - 19, 68161 Mannheim
END:VEVENT
BEGIN:VEVENT
DTSTAMP:20260421T074724
DTSTART;TZID=Europe/Berlin:20261123T180000
DTEND;TZID=Europe/Berlin:20261123T211500
UID:J343011-20261123T180000@VHSMANNHEIM
SUMMARY:C1 Deutsch am Abend (J343011) 
LOCATION:U 1, Raum 102, U1, 16 - 19, 68161 Mannheim
END:VEVENT
END:VCALENDAR