BEGIN:VCALENDAR
PRODID:http://www.kufer.de/kuferweb / DE
VERSION:2.0
METHOD:PUBLISH
CALSCALE:GREGORIAN
X-WR-TIMEZONE:Europe/Berlin
BEGIN:VTIMEZONE
TZID:Europe/Berlin
X-LIC-LOCATION:Europe/Berlin
BEGIN:DAYLIGHT
TZOFFSETFROM:+0100
TZOFFSETTO:+0200
TZNAME:CEST
DTSTART;TZID=Europe/Berlin:19700329T020000
RRULE:FREQ=YEARLY;INTERVAL=1;BYDAY=-1SU;BYMONTH=3
END:DAYLIGHT
BEGIN:STANDARD
TZOFFSETFROM:+0200
TZOFFSETTO:+0100
TZNAME:CET
DTSTART;TZID=Europe/Berlin:19701025T030000
RRULE:FREQ=YEARLY;INTERVAL=1;BYDAY=-1SU;BYMONTH=10
END:STANDARD
END:VTIMEZONE
BEGIN:VEVENT
DTSTAMP:20260423T095726
DTSTART;TZID=Europe/Berlin:20261126T180000
DTEND;TZID=Europe/Berlin:20261126T211500
UID:J343012-20261126T180000@VHSMANNHEIM
SUMMARY:Prüfungsvorbereitung auf die Prüfung telc Deutsch C1 Hochschule Zusatzmodul zu C1 Deutsch am Abend (J343012) 
LOCATION:U 1, Raum 102, U1, 16 - 19, 68161 Mannheim
END:VEVENT
BEGIN:VEVENT
DTSTAMP:20260423T095726
DTSTART;TZID=Europe/Berlin:20261130T180000
DTEND;TZID=Europe/Berlin:20261130T211500
UID:J343012-20261130T180000@VHSMANNHEIM
SUMMARY:Prüfungsvorbereitung auf die Prüfung telc Deutsch C1 Hochschule Zusatzmodul zu C1 Deutsch am Abend (J343012) 
LOCATION:U 1, Raum 102, U1, 16 - 19, 68161 Mannheim
END:VEVENT
BEGIN:VEVENT
DTSTAMP:20260423T095726
DTSTART;TZID=Europe/Berlin:20261201T180000
DTEND;TZID=Europe/Berlin:20261201T211500
UID:J343012-20261201T180000@VHSMANNHEIM
SUMMARY:Prüfungsvorbereitung auf die Prüfung telc Deutsch C1 Hochschule Zusatzmodul zu C1 Deutsch am Abend (J343012) 
LOCATION:U 1, Raum 102, U1, 16 - 19, 68161 Mannheim
END:VEVENT
BEGIN:VEVENT
DTSTAMP:20260423T095726
DTSTART;TZID=Europe/Berlin:20261203T180000
DTEND;TZID=Europe/Berlin:20261203T211500
UID:J343012-20261203T180000@VHSMANNHEIM
SUMMARY:Prüfungsvorbereitung auf die Prüfung telc Deutsch C1 Hochschule Zusatzmodul zu C1 Deutsch am Abend (J343012) 
LOCATION:U 1, Raum 102, U1, 16 - 19, 68161 Mannheim
END:VEVENT
BEGIN:VEVENT
DTSTAMP:20260423T095726
DTSTART;TZID=Europe/Berlin:20261207T180000
DTEND;TZID=Europe/Berlin:20261207T211500
UID:J343012-20261207T180000@VHSMANNHEIM
SUMMARY:Prüfungsvorbereitung auf die Prüfung telc Deutsch C1 Hochschule Zusatzmodul zu C1 Deutsch am Abend (J343012) 
LOCATION:U 1, Raum 102, U1, 16 - 19, 68161 Mannheim
END:VEVENT
BEGIN:VEVENT
DTSTAMP:20260423T095726
DTSTART;TZID=Europe/Berlin:20261208T180000
DTEND;TZID=Europe/Berlin:20261208T211500
UID:J343012-20261208T180000@VHSMANNHEIM
SUMMARY:Prüfungsvorbereitung auf die Prüfung telc Deutsch C1 Hochschule Zusatzmodul zu C1 Deutsch am Abend (J343012) 
LOCATION:U 1, Raum 102, U1, 16 - 19, 68161 Mannheim
END:VEVENT
BEGIN:VEVENT
DTSTAMP:20260423T095726
DTSTART;TZID=Europe/Berlin:20261210T180000
DTEND;TZID=Europe/Berlin:20261210T211500
UID:J343012-20261210T180000@VHSMANNHEIM
SUMMARY:Prüfungsvorbereitung auf die Prüfung telc Deutsch C1 Hochschule Zusatzmodul zu C1 Deutsch am Abend (J343012) 
LOCATION:U 1, Raum 102, U1, 16 - 19, 68161 Mannheim
END:VEVENT
BEGIN:VEVENT
DTSTAMP:20260423T095726
DTSTART;TZID=Europe/Berlin:20261214T180000
DTEND;TZID=Europe/Berlin:20261214T211500
UID:J343012-20261214T180000@VHSMANNHEIM
SUMMARY:Prüfungsvorbereitung auf die Prüfung telc Deutsch C1 Hochschule Zusatzmodul zu C1 Deutsch am Abend (J343012) 
LOCATION:U 1, Raum 102, U1, 16 - 19, 68161 Mannheim
END:VEVENT
BEGIN:VEVENT
DTSTAMP:20260423T095726
DTSTART;TZID=Europe/Berlin:20261215T180000
DTEND;TZID=Europe/Berlin:20261215T211500
UID:J343012-20261215T180000@VHSMANNHEIM
SUMMARY:Prüfungsvorbereitung auf die Prüfung telc Deutsch C1 Hochschule Zusatzmodul zu C1 Deutsch am Abend (J343012) 
LOCATION:U 1, Raum 102, U1, 16 - 19, 68161 Mannheim
END:VEVENT
END:VCALENDAR