BEGIN:VCALENDAR
PRODID:http://www.kufer.de/kuferweb / DE
VERSION:2.0
METHOD:PUBLISH
CALSCALE:GREGORIAN
X-WR-TIMEZONE:Europe/Berlin
BEGIN:VTIMEZONE
TZID:Europe/Berlin
X-LIC-LOCATION:Europe/Berlin
BEGIN:DAYLIGHT
TZOFFSETFROM:+0100
TZOFFSETTO:+0200
TZNAME:CEST
DTSTART;TZID=Europe/Berlin:19700329T020000
RRULE:FREQ=YEARLY;INTERVAL=1;BYDAY=-1SU;BYMONTH=3
END:DAYLIGHT
BEGIN:STANDARD
TZOFFSETFROM:+0200
TZOFFSETTO:+0100
TZNAME:CET
DTSTART;TZID=Europe/Berlin:19701025T030000
RRULE:FREQ=YEARLY;INTERVAL=1;BYDAY=-1SU;BYMONTH=10
END:STANDARD
END:VTIMEZONE
BEGIN:VEVENT
DTSTAMP:20260421T062319
DTSTART;TZID=Europe/Berlin:20260701T180000
DTEND;TZID=Europe/Berlin:20260701T211500
UID:J417020-20260701T180000@VHSMANNHEIM
SUMMARY:Finanzbuchhaltung Aufbaukurs (2) (J417020) 
LOCATION:U 1, Raum 520, U1, 16 - 19, 68161 Mannheim
END:VEVENT
BEGIN:VEVENT
DTSTAMP:20260421T062319
DTSTART;TZID=Europe/Berlin:20260704T090000
DTEND;TZID=Europe/Berlin:20260704T134500
UID:J417020-20260704T090000@VHSMANNHEIM
SUMMARY:Finanzbuchhaltung Aufbaukurs (2) (J417020) 
LOCATION:U 1, Raum 505, U1, 16 - 19, 68161 Mannheim
END:VEVENT
BEGIN:VEVENT
DTSTAMP:20260421T062319
DTSTART;TZID=Europe/Berlin:20260711T090000
DTEND;TZID=Europe/Berlin:20260711T134500
UID:J417020-20260711T090000@VHSMANNHEIM
SUMMARY:Finanzbuchhaltung Aufbaukurs (2) (J417020) 
LOCATION:U 1, Raum 505, U1, 16 - 19, 68161 Mannheim
END:VEVENT
BEGIN:VEVENT
DTSTAMP:20260421T062319
DTSTART;TZID=Europe/Berlin:20260715T180000
DTEND;TZID=Europe/Berlin:20260715T211500
UID:J417020-20260715T180000@VHSMANNHEIM
SUMMARY:Finanzbuchhaltung Aufbaukurs (2) (J417020) 
LOCATION:U 1, Raum 505, U1, 16 - 19, 68161 Mannheim
END:VEVENT
BEGIN:VEVENT
DTSTAMP:20260421T062319
DTSTART;TZID=Europe/Berlin:20260722T180000
DTEND;TZID=Europe/Berlin:20260722T211500
UID:J417020-20260722T180000@VHSMANNHEIM
SUMMARY:Finanzbuchhaltung Aufbaukurs (2) (J417020) 
LOCATION:U 1, Raum 505, U1, 16 - 19, 68161 Mannheim
END:VEVENT
BEGIN:VEVENT
DTSTAMP:20260421T062319
DTSTART;TZID=Europe/Berlin:20260725T090000
DTEND;TZID=Europe/Berlin:20260725T134500
UID:J417020-20260725T090000@VHSMANNHEIM
SUMMARY:Finanzbuchhaltung Aufbaukurs (2) (J417020) 
LOCATION:U 1, Raum 505, U1, 16 - 19, 68161 Mannheim
END:VEVENT
BEGIN:VEVENT
DTSTAMP:20260421T062319
DTSTART;TZID=Europe/Berlin:20260729T180000
DTEND;TZID=Europe/Berlin:20260729T211500
UID:J417020-20260729T180000@VHSMANNHEIM
SUMMARY:Finanzbuchhaltung Aufbaukurs (2) (J417020) 
LOCATION:U 1, Raum 505, U1, 16 - 19, 68161 Mannheim
END:VEVENT
BEGIN:VEVENT
DTSTAMP:20260421T062319
DTSTART;TZID=Europe/Berlin:20260912T090000
DTEND;TZID=Europe/Berlin:20260912T134500
UID:J417020-20260912T090000@VHSMANNHEIM
SUMMARY:Finanzbuchhaltung Aufbaukurs (2) (J417020) 
LOCATION:U 1, Raum 505, U1, 16 - 19, 68161 Mannheim
END:VEVENT
BEGIN:VEVENT
DTSTAMP:20260421T062319
DTSTART;TZID=Europe/Berlin:20260916T180000
DTEND;TZID=Europe/Berlin:20260916T211500
UID:J417020-20260916T180000@VHSMANNHEIM
SUMMARY:Finanzbuchhaltung Aufbaukurs (2) (J417020) 
LOCATION:U 1, Raum 505, U1, 16 - 19, 68161 Mannheim
END:VEVENT
BEGIN:VEVENT
DTSTAMP:20260421T062319
DTSTART;TZID=Europe/Berlin:20260923T180000
DTEND;TZID=Europe/Berlin:20260923T211500
UID:J417020-20260923T180000@VHSMANNHEIM
SUMMARY:Finanzbuchhaltung Aufbaukurs (2) (J417020) 
LOCATION:U 1, Raum 505, U1, 16 - 19, 68161 Mannheim
END:VEVENT
BEGIN:VEVENT
DTSTAMP:20260421T062319
DTSTART;TZID=Europe/Berlin:20260926T090000
DTEND;TZID=Europe/Berlin:20260926T134500
UID:J417020-20260926T090000@VHSMANNHEIM
SUMMARY:Finanzbuchhaltung Aufbaukurs (2) (J417020) 
LOCATION:U 1, Raum 505, U1, 16 - 19, 68161 Mannheim
END:VEVENT
BEGIN:VEVENT
DTSTAMP:20260421T062319
DTSTART;TZID=Europe/Berlin:20261017T090000
DTEND;TZID=Europe/Berlin:20261017T134500
UID:J417020-20261017T090000@VHSMANNHEIM
SUMMARY:Finanzbuchhaltung Aufbaukurs (2) (J417020) 
LOCATION:U 1, Raum 505, U1, 16 - 19, 68161 Mannheim
END:VEVENT
END:VCALENDAR