BEGIN:VCALENDAR
PRODID:http://www.kufer.de/kuferweb / DE
VERSION:2.0
METHOD:PUBLISH
CALSCALE:GREGORIAN
X-WR-TIMEZONE:Europe/Berlin
BEGIN:VTIMEZONE
TZID:Europe/Berlin
X-LIC-LOCATION:Europe/Berlin
BEGIN:DAYLIGHT
TZOFFSETFROM:+0100
TZOFFSETTO:+0200
TZNAME:CEST
DTSTART;TZID=Europe/Berlin:19700329T020000
RRULE:FREQ=YEARLY;INTERVAL=1;BYDAY=-1SU;BYMONTH=3
END:DAYLIGHT
BEGIN:STANDARD
TZOFFSETFROM:+0200
TZOFFSETTO:+0100
TZNAME:CET
DTSTART;TZID=Europe/Berlin:19701025T030000
RRULE:FREQ=YEARLY;INTERVAL=1;BYDAY=-1SU;BYMONTH=10
END:STANDARD
END:VTIMEZONE
BEGIN:VEVENT
DTSTAMP:20260421T032741
DTSTART;TZID=Europe/Berlin:20260623T170000
DTEND;TZID=Europe/Berlin:20260623T193000
UID:J421062-20260623T170000@VHSMANNHEIM
SUMMARY:Computerschreiben mit 10-Fingersystem für Jedermann ab 10 Jahren Begleitend zum Unterricht erhält jeder Teilnehmer*in ein Kursbuch mit Tastatur-Lernkarte und einem Zugang zu einem sehr guten Online-Tipptrainer (J421062) 
LOCATION:Online, , online
END:VEVENT
BEGIN:VEVENT
DTSTAMP:20260421T032741
DTSTART;TZID=Europe/Berlin:20260627T170000
DTEND;TZID=Europe/Berlin:20260627T193000
UID:J421062-20260627T170000@VHSMANNHEIM
SUMMARY:Computerschreiben mit 10-Fingersystem für Jedermann ab 10 Jahren Begleitend zum Unterricht erhält jeder Teilnehmer*in ein Kursbuch mit Tastatur-Lernkarte und einem Zugang zu einem sehr guten Online-Tipptrainer (J421062) 
LOCATION:Online, , online
END:VEVENT
BEGIN:VEVENT
DTSTAMP:20260421T032741
DTSTART;TZID=Europe/Berlin:20260630T170000
DTEND;TZID=Europe/Berlin:20260630T193000
UID:J421062-20260630T170000@VHSMANNHEIM
SUMMARY:Computerschreiben mit 10-Fingersystem für Jedermann ab 10 Jahren Begleitend zum Unterricht erhält jeder Teilnehmer*in ein Kursbuch mit Tastatur-Lernkarte und einem Zugang zu einem sehr guten Online-Tipptrainer (J421062) 
LOCATION:Online, , online
END:VEVENT
BEGIN:VEVENT
DTSTAMP:20260421T032741
DTSTART;TZID=Europe/Berlin:20260704T170000
DTEND;TZID=Europe/Berlin:20260704T193000
UID:J421062-20260704T170000@VHSMANNHEIM
SUMMARY:Computerschreiben mit 10-Fingersystem für Jedermann ab 10 Jahren Begleitend zum Unterricht erhält jeder Teilnehmer*in ein Kursbuch mit Tastatur-Lernkarte und einem Zugang zu einem sehr guten Online-Tipptrainer (J421062) 
LOCATION:Online, , online
END:VEVENT
END:VCALENDAR