BEGIN:VCALENDAR
PRODID:http://www.kufer.de/kuferweb / DE
VERSION:2.0
METHOD:PUBLISH
CALSCALE:GREGORIAN
X-WR-TIMEZONE:Europe/Berlin
BEGIN:VTIMEZONE
TZID:Europe/Berlin
X-LIC-LOCATION:Europe/Berlin
BEGIN:DAYLIGHT
TZOFFSETFROM:+0100
TZOFFSETTO:+0200
TZNAME:CEST
DTSTART;TZID=Europe/Berlin:19700329T020000
RRULE:FREQ=YEARLY;INTERVAL=1;BYDAY=-1SU;BYMONTH=3
END:DAYLIGHT
BEGIN:STANDARD
TZOFFSETFROM:+0200
TZOFFSETTO:+0100
TZNAME:CET
DTSTART;TZID=Europe/Berlin:19701025T030000
RRULE:FREQ=YEARLY;INTERVAL=1;BYDAY=-1SU;BYMONTH=10
END:STANDARD
END:VTIMEZONE
BEGIN:VEVENT
DTSTAMP:20260420T190607
DTSTART;TZID=Europe/Berlin:20260601T093000
DTEND;TZID=Europe/Berlin:20260601T120000
UID:J506002-20260601T093000@VHSMANNHEIM
SUMMARY:Förderkurs Deutsch  PFINGSTFERIEN, 4 - 6 Teilnehmer*innen  Für Schüler*innen der 2. bis 4. Klasse (J506002) 
LOCATION:U 1, Raum 405, U1, 16 - 19, 68161 Mannheim
END:VEVENT
BEGIN:VEVENT
DTSTAMP:20260420T190607
DTSTART;TZID=Europe/Berlin:20260602T093000
DTEND;TZID=Europe/Berlin:20260602T120000
UID:J506002-20260602T093000@VHSMANNHEIM
SUMMARY:Förderkurs Deutsch  PFINGSTFERIEN, 4 - 6 Teilnehmer*innen  Für Schüler*innen der 2. bis 4. Klasse (J506002) 
LOCATION:U 1, Raum 405, U1, 16 - 19, 68161 Mannheim
END:VEVENT
BEGIN:VEVENT
DTSTAMP:20260420T190607
DTSTART;TZID=Europe/Berlin:20260603T093000
DTEND;TZID=Europe/Berlin:20260603T120000
UID:J506002-20260603T093000@VHSMANNHEIM
SUMMARY:Förderkurs Deutsch  PFINGSTFERIEN, 4 - 6 Teilnehmer*innen  Für Schüler*innen der 2. bis 4. Klasse (J506002) 
LOCATION:U 1, Raum 405, U1, 16 - 19, 68161 Mannheim
END:VEVENT
END:VCALENDAR