BEGIN:VCALENDAR
PRODID:http://www.kufer.de/kuferweb / DE
VERSION:2.0
METHOD:PUBLISH
CALSCALE:GREGORIAN
X-WR-TIMEZONE:Europe/Berlin
BEGIN:VTIMEZONE
TZID:Europe/Berlin
X-LIC-LOCATION:Europe/Berlin
BEGIN:DAYLIGHT
TZOFFSETFROM:+0100
TZOFFSETTO:+0200
TZNAME:CEST
DTSTART;TZID=Europe/Berlin:19700329T020000
RRULE:FREQ=YEARLY;INTERVAL=1;BYDAY=-1SU;BYMONTH=3
END:DAYLIGHT
BEGIN:STANDARD
TZOFFSETFROM:+0200
TZOFFSETTO:+0100
TZNAME:CET
DTSTART;TZID=Europe/Berlin:19701025T030000
RRULE:FREQ=YEARLY;INTERVAL=1;BYDAY=-1SU;BYMONTH=10
END:STANDARD
END:VTIMEZONE
BEGIN:VEVENT
DTSTAMP:20260420T190652
DTSTART;TZID=Europe/Berlin:20260601T123000
DTEND;TZID=Europe/Berlin:20260601T150000
UID:J506012-20260601T123000@VHSMANNHEIM
SUMMARY:Förderkurs Deutsch - 5. bis 7. Klasse PFINGSTFERIEN, 4 - 6 Teilnehmer*innen  Für Schüler*innen der 5. bis 7. Klasse (J506012) 
LOCATION:U 1, Raum 405, U1, 16 - 19, 68161 Mannheim
END:VEVENT
BEGIN:VEVENT
DTSTAMP:20260420T190652
DTSTART;TZID=Europe/Berlin:20260602T123000
DTEND;TZID=Europe/Berlin:20260602T150000
UID:J506012-20260602T123000@VHSMANNHEIM
SUMMARY:Förderkurs Deutsch - 5. bis 7. Klasse PFINGSTFERIEN, 4 - 6 Teilnehmer*innen  Für Schüler*innen der 5. bis 7. Klasse (J506012) 
LOCATION:U 1, Raum 405, U1, 16 - 19, 68161 Mannheim
END:VEVENT
BEGIN:VEVENT
DTSTAMP:20260420T190652
DTSTART;TZID=Europe/Berlin:20260603T123000
DTEND;TZID=Europe/Berlin:20260603T150000
UID:J506012-20260603T123000@VHSMANNHEIM
SUMMARY:Förderkurs Deutsch - 5. bis 7. Klasse PFINGSTFERIEN, 4 - 6 Teilnehmer*innen  Für Schüler*innen der 5. bis 7. Klasse (J506012) 
LOCATION:U 1, Raum 405, U1, 16 - 19, 68161 Mannheim
END:VEVENT
END:VCALENDAR