BEGIN:VCALENDAR
PRODID:http://www.kufer.de/kuferweb / DE
VERSION:2.0
METHOD:PUBLISH
CALSCALE:GREGORIAN
X-WR-TIMEZONE:Europe/Berlin
BEGIN:VTIMEZONE
TZID:Europe/Berlin
X-LIC-LOCATION:Europe/Berlin
BEGIN:DAYLIGHT
TZOFFSETFROM:+0100
TZOFFSETTO:+0200
TZNAME:CEST
DTSTART;TZID=Europe/Berlin:19700329T020000
RRULE:FREQ=YEARLY;INTERVAL=1;BYDAY=-1SU;BYMONTH=3
END:DAYLIGHT
BEGIN:STANDARD
TZOFFSETFROM:+0200
TZOFFSETTO:+0100
TZNAME:CET
DTSTART;TZID=Europe/Berlin:19701025T030000
RRULE:FREQ=YEARLY;INTERVAL=1;BYDAY=-1SU;BYMONTH=10
END:STANDARD
END:VTIMEZONE
BEGIN:VEVENT
DTSTAMP:20260424T004239
DTSTART;TZID=Europe/Berlin:20260907T113000
DTEND;TZID=Europe/Berlin:20260907T131500
UID:J506013-20260907T113000@VHSMANNHEIM
SUMMARY:Förderkurs Deutsch  SOMMERFERIEN, 4 - 6 Teilnehmer*innen  Für Schüler*innen der 5. bis 7. Klasse (J506013) 
LOCATION:U 1, Raum 405, U1, 16 - 19, 68161 Mannheim
END:VEVENT
BEGIN:VEVENT
DTSTAMP:20260424T004239
DTSTART;TZID=Europe/Berlin:20260908T113000
DTEND;TZID=Europe/Berlin:20260908T131500
UID:J506013-20260908T113000@VHSMANNHEIM
SUMMARY:Förderkurs Deutsch  SOMMERFERIEN, 4 - 6 Teilnehmer*innen  Für Schüler*innen der 5. bis 7. Klasse (J506013) 
LOCATION:U 1, Raum 405, U1, 16 - 19, 68161 Mannheim
END:VEVENT
BEGIN:VEVENT
DTSTAMP:20260424T004239
DTSTART;TZID=Europe/Berlin:20260909T113000
DTEND;TZID=Europe/Berlin:20260909T131500
UID:J506013-20260909T113000@VHSMANNHEIM
SUMMARY:Förderkurs Deutsch  SOMMERFERIEN, 4 - 6 Teilnehmer*innen  Für Schüler*innen der 5. bis 7. Klasse (J506013) 
LOCATION:U 1, Raum 405, U1, 16 - 19, 68161 Mannheim
END:VEVENT
BEGIN:VEVENT
DTSTAMP:20260424T004239
DTSTART;TZID=Europe/Berlin:20260910T113000
DTEND;TZID=Europe/Berlin:20260910T131500
UID:J506013-20260910T113000@VHSMANNHEIM
SUMMARY:Förderkurs Deutsch  SOMMERFERIEN, 4 - 6 Teilnehmer*innen  Für Schüler*innen der 5. bis 7. Klasse (J506013) 
LOCATION:U 1, Raum 405, U1, 16 - 19, 68161 Mannheim
END:VEVENT
BEGIN:VEVENT
DTSTAMP:20260424T004239
DTSTART;TZID=Europe/Berlin:20260911T113000
DTEND;TZID=Europe/Berlin:20260911T131500
UID:J506013-20260911T113000@VHSMANNHEIM
SUMMARY:Förderkurs Deutsch  SOMMERFERIEN, 4 - 6 Teilnehmer*innen  Für Schüler*innen der 5. bis 7. Klasse (J506013) 
LOCATION:U 1, Raum 405, U1, 16 - 19, 68161 Mannheim
END:VEVENT
END:VCALENDAR