BEGIN:VCALENDAR
PRODID:http://www.kufer.de/kuferweb / DE
VERSION:2.0
METHOD:PUBLISH
CALSCALE:GREGORIAN
X-WR-TIMEZONE:Europe/Berlin
BEGIN:VTIMEZONE
TZID:Europe/Berlin
X-LIC-LOCATION:Europe/Berlin
BEGIN:DAYLIGHT
TZOFFSETFROM:+0100
TZOFFSETTO:+0200
TZNAME:CEST
DTSTART;TZID=Europe/Berlin:19700329T020000
RRULE:FREQ=YEARLY;INTERVAL=1;BYDAY=-1SU;BYMONTH=3
END:DAYLIGHT
BEGIN:STANDARD
TZOFFSETFROM:+0200
TZOFFSETTO:+0100
TZNAME:CET
DTSTART;TZID=Europe/Berlin:19701025T030000
RRULE:FREQ=YEARLY;INTERVAL=1;BYDAY=-1SU;BYMONTH=10
END:STANDARD
END:VTIMEZONE
BEGIN:VEVENT
DTSTAMP:20260423T171038
DTSTART;TZID=Europe/Berlin:20260831T130000
DTEND;TZID=Europe/Berlin:20260831T144500
UID:J508008-20260831T130000@VHSMANNHEIM
SUMMARY:Aufsatz- und Grammatiktraining - 5.-6.Klasse SOMMERFERIEN  4 - 7 Teilnehmer*innen (J508008) 
LOCATION:U 1, Raum 504, U1, 16 - 19, 68161 Mannheim
END:VEVENT
BEGIN:VEVENT
DTSTAMP:20260423T171038
DTSTART;TZID=Europe/Berlin:20260901T130000
DTEND;TZID=Europe/Berlin:20260901T144500
UID:J508008-20260901T130000@VHSMANNHEIM
SUMMARY:Aufsatz- und Grammatiktraining - 5.-6.Klasse SOMMERFERIEN  4 - 7 Teilnehmer*innen (J508008) 
LOCATION:U 1, Raum 504, U1, 16 - 19, 68161 Mannheim
END:VEVENT
BEGIN:VEVENT
DTSTAMP:20260423T171038
DTSTART;TZID=Europe/Berlin:20260902T130000
DTEND;TZID=Europe/Berlin:20260902T144500
UID:J508008-20260902T130000@VHSMANNHEIM
SUMMARY:Aufsatz- und Grammatiktraining - 5.-6.Klasse SOMMERFERIEN  4 - 7 Teilnehmer*innen (J508008) 
LOCATION:U 1, Raum 504, U1, 16 - 19, 68161 Mannheim
END:VEVENT
BEGIN:VEVENT
DTSTAMP:20260423T171038
DTSTART;TZID=Europe/Berlin:20260903T130000
DTEND;TZID=Europe/Berlin:20260903T144500
UID:J508008-20260903T130000@VHSMANNHEIM
SUMMARY:Aufsatz- und Grammatiktraining - 5.-6.Klasse SOMMERFERIEN  4 - 7 Teilnehmer*innen (J508008) 
LOCATION:U 1, Raum 504, U1, 16 - 19, 68161 Mannheim
END:VEVENT
BEGIN:VEVENT
DTSTAMP:20260423T171038
DTSTART;TZID=Europe/Berlin:20260904T130000
DTEND;TZID=Europe/Berlin:20260904T144500
UID:J508008-20260904T130000@VHSMANNHEIM
SUMMARY:Aufsatz- und Grammatiktraining - 5.-6.Klasse SOMMERFERIEN  4 - 7 Teilnehmer*innen (J508008) 
LOCATION:U 1, Raum 504, U1, 16 - 19, 68161 Mannheim
END:VEVENT
END:VCALENDAR