BEGIN:VCALENDAR
PRODID:http://www.kufer.de/kuferweb / DE
VERSION:2.0
METHOD:PUBLISH
CALSCALE:GREGORIAN
X-WR-TIMEZONE:Europe/Berlin
BEGIN:VTIMEZONE
TZID:Europe/Berlin
X-LIC-LOCATION:Europe/Berlin
BEGIN:DAYLIGHT
TZOFFSETFROM:+0100
TZOFFSETTO:+0200
TZNAME:CEST
DTSTART;TZID=Europe/Berlin:19700329T020000
RRULE:FREQ=YEARLY;INTERVAL=1;BYDAY=-1SU;BYMONTH=3
END:DAYLIGHT
BEGIN:STANDARD
TZOFFSETFROM:+0200
TZOFFSETTO:+0100
TZNAME:CET
DTSTART;TZID=Europe/Berlin:19701025T030000
RRULE:FREQ=YEARLY;INTERVAL=1;BYDAY=-1SU;BYMONTH=10
END:STANDARD
END:VTIMEZONE
BEGIN:VEVENT
DTSTAMP:20260421T020852
DTSTART;TZID=Europe/Berlin:20260601T143000
DTEND;TZID=Europe/Berlin:20260601T160000
UID:J508017-20260601T143000@VHSMANNHEIM
SUMMARY:Kreativ und stilsicher schreiben - Aufsatztraining für die 7. - 9.Klasse PFINGSTFERIEN: 4 - 6 Teilnehmer*innen (J508017) 
LOCATION:U 1, Raum 406, U1, 16 - 19, 68161 Mannheim
END:VEVENT
BEGIN:VEVENT
DTSTAMP:20260421T020852
DTSTART;TZID=Europe/Berlin:20260602T143000
DTEND;TZID=Europe/Berlin:20260602T160000
UID:J508017-20260602T143000@VHSMANNHEIM
SUMMARY:Kreativ und stilsicher schreiben - Aufsatztraining für die 7. - 9.Klasse PFINGSTFERIEN: 4 - 6 Teilnehmer*innen (J508017) 
LOCATION:U 1, Raum 406, U1, 16 - 19, 68161 Mannheim
END:VEVENT
BEGIN:VEVENT
DTSTAMP:20260421T020852
DTSTART;TZID=Europe/Berlin:20260603T143000
DTEND;TZID=Europe/Berlin:20260603T160000
UID:J508017-20260603T143000@VHSMANNHEIM
SUMMARY:Kreativ und stilsicher schreiben - Aufsatztraining für die 7. - 9.Klasse PFINGSTFERIEN: 4 - 6 Teilnehmer*innen (J508017) 
LOCATION:U 1, Raum 406, U1, 16 - 19, 68161 Mannheim
END:VEVENT
BEGIN:VEVENT
DTSTAMP:20260421T020852
DTSTART;TZID=Europe/Berlin:20260605T143000
DTEND;TZID=Europe/Berlin:20260605T160000
UID:J508017-20260605T143000@VHSMANNHEIM
SUMMARY:Kreativ und stilsicher schreiben - Aufsatztraining für die 7. - 9.Klasse PFINGSTFERIEN: 4 - 6 Teilnehmer*innen (J508017) 
LOCATION:U 1, Raum 406, U1, 16 - 19, 68161 Mannheim
END:VEVENT
BEGIN:VEVENT
DTSTAMP:20260421T020852
DTSTART;TZID=Europe/Berlin:20260606T143000
DTEND;TZID=Europe/Berlin:20260606T160000
UID:J508017-20260606T143000@VHSMANNHEIM
SUMMARY:Kreativ und stilsicher schreiben - Aufsatztraining für die 7. - 9.Klasse PFINGSTFERIEN: 4 - 6 Teilnehmer*innen (J508017) 
LOCATION:U 1, Raum 406, U1, 16 - 19, 68161 Mannheim
END:VEVENT
END:VCALENDAR