BEGIN:VCALENDAR
PRODID:http://www.kufer.de/kuferweb / DE
VERSION:2.0
METHOD:PUBLISH
CALSCALE:GREGORIAN
X-WR-TIMEZONE:Europe/Berlin
BEGIN:VTIMEZONE
TZID:Europe/Berlin
X-LIC-LOCATION:Europe/Berlin
BEGIN:DAYLIGHT
TZOFFSETFROM:+0100
TZOFFSETTO:+0200
TZNAME:CEST
DTSTART;TZID=Europe/Berlin:19700329T020000
RRULE:FREQ=YEARLY;INTERVAL=1;BYDAY=-1SU;BYMONTH=3
END:DAYLIGHT
BEGIN:STANDARD
TZOFFSETFROM:+0200
TZOFFSETTO:+0100
TZNAME:CET
DTSTART;TZID=Europe/Berlin:19701025T030000
RRULE:FREQ=YEARLY;INTERVAL=1;BYDAY=-1SU;BYMONTH=10
END:STANDARD
END:VTIMEZONE
BEGIN:VEVENT
DTSTAMP:20260423T155717
DTSTART;TZID=Europe/Berlin:20260831T113000
DTEND;TZID=Europe/Berlin:20260831T131500
UID:J508019-20260831T113000@VHSMANNHEIM
SUMMARY:Kreativ und stilsicher schreiben - Aufsatztraining für die 7. - 9. Klasse  SOMMERFERIEN: 4 - 7 Teilnehmer*innen (J508019) 
LOCATION:U 1, Raum 410, U1, 16 - 19, 68161 Mannheim
END:VEVENT
BEGIN:VEVENT
DTSTAMP:20260423T155717
DTSTART;TZID=Europe/Berlin:20260901T113000
DTEND;TZID=Europe/Berlin:20260901T131500
UID:J508019-20260901T113000@VHSMANNHEIM
SUMMARY:Kreativ und stilsicher schreiben - Aufsatztraining für die 7. - 9. Klasse  SOMMERFERIEN: 4 - 7 Teilnehmer*innen (J508019) 
LOCATION:U 1, Raum 410, U1, 16 - 19, 68161 Mannheim
END:VEVENT
BEGIN:VEVENT
DTSTAMP:20260423T155717
DTSTART;TZID=Europe/Berlin:20260902T113000
DTEND;TZID=Europe/Berlin:20260902T131500
UID:J508019-20260902T113000@VHSMANNHEIM
SUMMARY:Kreativ und stilsicher schreiben - Aufsatztraining für die 7. - 9. Klasse  SOMMERFERIEN: 4 - 7 Teilnehmer*innen (J508019) 
LOCATION:U 1, Raum 410, U1, 16 - 19, 68161 Mannheim
END:VEVENT
BEGIN:VEVENT
DTSTAMP:20260423T155717
DTSTART;TZID=Europe/Berlin:20260903T113000
DTEND;TZID=Europe/Berlin:20260903T131500
UID:J508019-20260903T113000@VHSMANNHEIM
SUMMARY:Kreativ und stilsicher schreiben - Aufsatztraining für die 7. - 9. Klasse  SOMMERFERIEN: 4 - 7 Teilnehmer*innen (J508019) 
LOCATION:U 1, Raum 410, U1, 16 - 19, 68161 Mannheim
END:VEVENT
BEGIN:VEVENT
DTSTAMP:20260423T155717
DTSTART;TZID=Europe/Berlin:20260904T113000
DTEND;TZID=Europe/Berlin:20260904T131500
UID:J508019-20260904T113000@VHSMANNHEIM
SUMMARY:Kreativ und stilsicher schreiben - Aufsatztraining für die 7. - 9. Klasse  SOMMERFERIEN: 4 - 7 Teilnehmer*innen (J508019) 
LOCATION:U 1, Raum 410, U1, 16 - 19, 68161 Mannheim
END:VEVENT
END:VCALENDAR