BEGIN:VCALENDAR
PRODID:http://www.kufer.de/kuferweb / DE
VERSION:2.0
METHOD:PUBLISH
CALSCALE:GREGORIAN
X-WR-TIMEZONE:Europe/Berlin
BEGIN:VTIMEZONE
TZID:Europe/Berlin
X-LIC-LOCATION:Europe/Berlin
BEGIN:DAYLIGHT
TZOFFSETFROM:+0100
TZOFFSETTO:+0200
TZNAME:CEST
DTSTART;TZID=Europe/Berlin:19700329T020000
RRULE:FREQ=YEARLY;INTERVAL=1;BYDAY=-1SU;BYMONTH=3
END:DAYLIGHT
BEGIN:STANDARD
TZOFFSETFROM:+0200
TZOFFSETTO:+0100
TZNAME:CET
DTSTART;TZID=Europe/Berlin:19701025T030000
RRULE:FREQ=YEARLY;INTERVAL=1;BYDAY=-1SU;BYMONTH=10
END:STANDARD
END:VTIMEZONE
BEGIN:VEVENT
DTSTAMP:20260421T185301
DTSTART;TZID=Europe/Berlin:20260601T141500
DTEND;TZID=Europe/Berlin:20260601T163000
UID:J510017-20260601T141500@VHSMANNHEIM
SUMMARY:Mathematik: 9. Klasse - Mitternachtsformel / ABC-Formel PFINGSTFERIEN: 4 - 7 Teilnehmer*innen (J510017) 
LOCATION:U 1, Raum 505, U1, 16 - 19, 68161 Mannheim
END:VEVENT
BEGIN:VEVENT
DTSTAMP:20260421T185301
DTSTART;TZID=Europe/Berlin:20260602T141500
DTEND;TZID=Europe/Berlin:20260602T163000
UID:J510017-20260602T141500@VHSMANNHEIM
SUMMARY:Mathematik: 9. Klasse - Mitternachtsformel / ABC-Formel PFINGSTFERIEN: 4 - 7 Teilnehmer*innen (J510017) 
LOCATION:U 1, Raum 505, U1, 16 - 19, 68161 Mannheim
END:VEVENT
BEGIN:VEVENT
DTSTAMP:20260421T185301
DTSTART;TZID=Europe/Berlin:20260603T141500
DTEND;TZID=Europe/Berlin:20260603T163000
UID:J510017-20260603T141500@VHSMANNHEIM
SUMMARY:Mathematik: 9. Klasse - Mitternachtsformel / ABC-Formel PFINGSTFERIEN: 4 - 7 Teilnehmer*innen (J510017) 
LOCATION:U 1, Raum 505, U1, 16 - 19, 68161 Mannheim
END:VEVENT
END:VCALENDAR