BEGIN:VCALENDAR
PRODID:http://www.kufer.de/kuferweb / DE
VERSION:2.0
METHOD:PUBLISH
CALSCALE:GREGORIAN
X-WR-TIMEZONE:Europe/Berlin
BEGIN:VTIMEZONE
TZID:Europe/Berlin
X-LIC-LOCATION:Europe/Berlin
BEGIN:DAYLIGHT
TZOFFSETFROM:+0100
TZOFFSETTO:+0200
TZNAME:CEST
DTSTART;TZID=Europe/Berlin:19700329T020000
RRULE:FREQ=YEARLY;INTERVAL=1;BYDAY=-1SU;BYMONTH=3
END:DAYLIGHT
BEGIN:STANDARD
TZOFFSETFROM:+0200
TZOFFSETTO:+0100
TZNAME:CET
DTSTART;TZID=Europe/Berlin:19701025T030000
RRULE:FREQ=YEARLY;INTERVAL=1;BYDAY=-1SU;BYMONTH=10
END:STANDARD
END:VTIMEZONE
BEGIN:VEVENT
DTSTAMP:20260421T185336
DTSTART;TZID=Europe/Berlin:20260601T123000
DTEND;TZID=Europe/Berlin:20260601T153000
UID:J510019-20260601T123000@VHSMANNHEIM
SUMMARY:Mathematik für die K1/J1 PFINGSTFERIEN (J510019) 
LOCATION:U 1, Raum 505, U1, 16 - 19, 68161 Mannheim
END:VEVENT
BEGIN:VEVENT
DTSTAMP:20260421T185336
DTSTART;TZID=Europe/Berlin:20260602T123000
DTEND;TZID=Europe/Berlin:20260602T153000
UID:J510019-20260602T123000@VHSMANNHEIM
SUMMARY:Mathematik für die K1/J1 PFINGSTFERIEN (J510019) 
LOCATION:U 1, Raum 505, U1, 16 - 19, 68161 Mannheim
END:VEVENT
BEGIN:VEVENT
DTSTAMP:20260421T185336
DTSTART;TZID=Europe/Berlin:20260603T123000
DTEND;TZID=Europe/Berlin:20260603T153000
UID:J510019-20260603T123000@VHSMANNHEIM
SUMMARY:Mathematik für die K1/J1 PFINGSTFERIEN (J510019) 
LOCATION:U 1, Raum 505, U1, 16 - 19, 68161 Mannheim
END:VEVENT
BEGIN:VEVENT
DTSTAMP:20260421T185336
DTSTART;TZID=Europe/Berlin:20260605T123000
DTEND;TZID=Europe/Berlin:20260605T153000
UID:J510019-20260605T123000@VHSMANNHEIM
SUMMARY:Mathematik für die K1/J1 PFINGSTFERIEN (J510019) 
LOCATION:U 1, Raum 505, U1, 16 - 19, 68161 Mannheim
END:VEVENT
BEGIN:VEVENT
DTSTAMP:20260421T185336
DTSTART;TZID=Europe/Berlin:20260606T123000
DTEND;TZID=Europe/Berlin:20260606T153000
UID:J510019-20260606T123000@VHSMANNHEIM
SUMMARY:Mathematik für die K1/J1 PFINGSTFERIEN (J510019) 
LOCATION:U 1, Raum 505, U1, 16 - 19, 68161 Mannheim
END:VEVENT
END:VCALENDAR