BEGIN:VCALENDAR
PRODID:http://www.kufer.de/kuferweb / DE
VERSION:2.0
METHOD:PUBLISH
CALSCALE:GREGORIAN
X-WR-TIMEZONE:Europe/Berlin
BEGIN:VTIMEZONE
TZID:Europe/Berlin
X-LIC-LOCATION:Europe/Berlin
BEGIN:DAYLIGHT
TZOFFSETFROM:+0100
TZOFFSETTO:+0200
TZNAME:CEST
DTSTART;TZID=Europe/Berlin:19700329T020000
RRULE:FREQ=YEARLY;INTERVAL=1;BYDAY=-1SU;BYMONTH=3
END:DAYLIGHT
BEGIN:STANDARD
TZOFFSETFROM:+0200
TZOFFSETTO:+0100
TZNAME:CET
DTSTART;TZID=Europe/Berlin:19701025T030000
RRULE:FREQ=YEARLY;INTERVAL=1;BYDAY=-1SU;BYMONTH=10
END:STANDARD
END:VTIMEZONE
BEGIN:VEVENT
DTSTAMP:20260420T191321
DTSTART;TZID=Europe/Berlin:20260601T113000
DTEND;TZID=Europe/Berlin:20260601T131500
UID:J512007-20260601T113000@VHSMANNHEIM
SUMMARY:Besser in Englisch - Fit für die 8. & 9. Klasse PFINGSTFERIEN: 4 - 7 Teilnehmer*innen Für Schüler*innen der 8. - 9. Klasse (J512007) 
LOCATION:U 1, Raum 304, U1, 16 - 19, 68161 Mannheim
END:VEVENT
BEGIN:VEVENT
DTSTAMP:20260420T191321
DTSTART;TZID=Europe/Berlin:20260602T113000
DTEND;TZID=Europe/Berlin:20260602T131500
UID:J512007-20260602T113000@VHSMANNHEIM
SUMMARY:Besser in Englisch - Fit für die 8. & 9. Klasse PFINGSTFERIEN: 4 - 7 Teilnehmer*innen Für Schüler*innen der 8. - 9. Klasse (J512007) 
LOCATION:U 1, Raum 304, U1, 16 - 19, 68161 Mannheim
END:VEVENT
BEGIN:VEVENT
DTSTAMP:20260420T191321
DTSTART;TZID=Europe/Berlin:20260603T113000
DTEND;TZID=Europe/Berlin:20260603T131500
UID:J512007-20260603T113000@VHSMANNHEIM
SUMMARY:Besser in Englisch - Fit für die 8. & 9. Klasse PFINGSTFERIEN: 4 - 7 Teilnehmer*innen Für Schüler*innen der 8. - 9. Klasse (J512007) 
LOCATION:U 1, Raum 304, U1, 16 - 19, 68161 Mannheim
END:VEVENT
BEGIN:VEVENT
DTSTAMP:20260420T191321
DTSTART;TZID=Europe/Berlin:20260605T113000
DTEND;TZID=Europe/Berlin:20260605T131500
UID:J512007-20260605T113000@VHSMANNHEIM
SUMMARY:Besser in Englisch - Fit für die 8. & 9. Klasse PFINGSTFERIEN: 4 - 7 Teilnehmer*innen Für Schüler*innen der 8. - 9. Klasse (J512007) 
LOCATION:U 1, Raum 304, U1, 16 - 19, 68161 Mannheim
END:VEVENT
BEGIN:VEVENT
DTSTAMP:20260420T191321
DTSTART;TZID=Europe/Berlin:20260606T113000
DTEND;TZID=Europe/Berlin:20260606T131500
UID:J512007-20260606T113000@VHSMANNHEIM
SUMMARY:Besser in Englisch - Fit für die 8. & 9. Klasse PFINGSTFERIEN: 4 - 7 Teilnehmer*innen Für Schüler*innen der 8. - 9. Klasse (J512007) 
LOCATION:U 1, Raum 304, U1, 16 - 19, 68161 Mannheim
END:VEVENT
END:VCALENDAR