BEGIN:VCALENDAR
PRODID:http://www.kufer.de/kuferweb / DE
VERSION:2.0
METHOD:PUBLISH
CALSCALE:GREGORIAN
X-WR-TIMEZONE:Europe/Berlin
BEGIN:VTIMEZONE
TZID:Europe/Berlin
X-LIC-LOCATION:Europe/Berlin
BEGIN:DAYLIGHT
TZOFFSETFROM:+0100
TZOFFSETTO:+0200
TZNAME:CEST
DTSTART;TZID=Europe/Berlin:19700329T020000
RRULE:FREQ=YEARLY;INTERVAL=1;BYDAY=-1SU;BYMONTH=3
END:DAYLIGHT
BEGIN:STANDARD
TZOFFSETFROM:+0200
TZOFFSETTO:+0100
TZNAME:CET
DTSTART;TZID=Europe/Berlin:19701025T030000
RRULE:FREQ=YEARLY;INTERVAL=1;BYDAY=-1SU;BYMONTH=10
END:STANDARD
END:VTIMEZONE
BEGIN:VEVENT
DTSTAMP:20260423T175950
DTSTART;TZID=Europe/Berlin:20260907T103000
DTEND;TZID=Europe/Berlin:20260907T120000
UID:J512008-20260907T103000@VHSMANNHEIM
SUMMARY:Besser in Englisch - Fit für die 8. - 9. Klasse SOMMERFERIEN: 4 - 7 Teilnehmer*innen Für Schüler*innen der 8. und 9.  Klasse im neuen Schuljahr (J512008) 
LOCATION:U 1, Raum 410, U1, 16 - 19, 68161 Mannheim
END:VEVENT
BEGIN:VEVENT
DTSTAMP:20260423T175950
DTSTART;TZID=Europe/Berlin:20260908T103000
DTEND;TZID=Europe/Berlin:20260908T120000
UID:J512008-20260908T103000@VHSMANNHEIM
SUMMARY:Besser in Englisch - Fit für die 8. - 9. Klasse SOMMERFERIEN: 4 - 7 Teilnehmer*innen Für Schüler*innen der 8. und 9.  Klasse im neuen Schuljahr (J512008) 
LOCATION:U 1, Raum 410, U1, 16 - 19, 68161 Mannheim
END:VEVENT
BEGIN:VEVENT
DTSTAMP:20260423T175950
DTSTART;TZID=Europe/Berlin:20260909T103000
DTEND;TZID=Europe/Berlin:20260909T120000
UID:J512008-20260909T103000@VHSMANNHEIM
SUMMARY:Besser in Englisch - Fit für die 8. - 9. Klasse SOMMERFERIEN: 4 - 7 Teilnehmer*innen Für Schüler*innen der 8. und 9.  Klasse im neuen Schuljahr (J512008) 
LOCATION:U 1, Raum 410, U1, 16 - 19, 68161 Mannheim
END:VEVENT
BEGIN:VEVENT
DTSTAMP:20260423T175950
DTSTART;TZID=Europe/Berlin:20260910T103000
DTEND;TZID=Europe/Berlin:20260910T120000
UID:J512008-20260910T103000@VHSMANNHEIM
SUMMARY:Besser in Englisch - Fit für die 8. - 9. Klasse SOMMERFERIEN: 4 - 7 Teilnehmer*innen Für Schüler*innen der 8. und 9.  Klasse im neuen Schuljahr (J512008) 
LOCATION:U 1, Raum 410, U1, 16 - 19, 68161 Mannheim
END:VEVENT
BEGIN:VEVENT
DTSTAMP:20260423T175950
DTSTART;TZID=Europe/Berlin:20260911T103000
DTEND;TZID=Europe/Berlin:20260911T120000
UID:J512008-20260911T103000@VHSMANNHEIM
SUMMARY:Besser in Englisch - Fit für die 8. - 9. Klasse SOMMERFERIEN: 4 - 7 Teilnehmer*innen Für Schüler*innen der 8. und 9.  Klasse im neuen Schuljahr (J512008) 
LOCATION:U 1, Raum 410, U1, 16 - 19, 68161 Mannheim
END:VEVENT
END:VCALENDAR