BEGIN:VCALENDAR
PRODID:http://www.kufer.de/kuferweb / DE
VERSION:2.0
METHOD:PUBLISH
CALSCALE:GREGORIAN
X-WR-TIMEZONE:Europe/Berlin
BEGIN:VTIMEZONE
TZID:Europe/Berlin
X-LIC-LOCATION:Europe/Berlin
BEGIN:DAYLIGHT
TZOFFSETFROM:+0100
TZOFFSETTO:+0200
TZNAME:CEST
DTSTART;TZID=Europe/Berlin:19700329T020000
RRULE:FREQ=YEARLY;INTERVAL=1;BYDAY=-1SU;BYMONTH=3
END:DAYLIGHT
BEGIN:STANDARD
TZOFFSETFROM:+0200
TZOFFSETTO:+0100
TZNAME:CET
DTSTART;TZID=Europe/Berlin:19701025T030000
RRULE:FREQ=YEARLY;INTERVAL=1;BYDAY=-1SU;BYMONTH=10
END:STANDARD
END:VTIMEZONE
BEGIN:VEVENT
DTSTAMP:20260420T220208
DTSTART;TZID=Europe/Berlin:20260601T143000
DTEND;TZID=Europe/Berlin:20260601T173000
UID:J516004-20260601T143000@VHSMANNHEIM
SUMMARY:Latein Intensivkurs: NUR 1. und 2. Lernjahr Pfingstferien (J516004) 
LOCATION:U 1, Raum 502, U1, 16 - 19, 68161 Mannheim
END:VEVENT
BEGIN:VEVENT
DTSTAMP:20260420T220208
DTSTART;TZID=Europe/Berlin:20260602T143000
DTEND;TZID=Europe/Berlin:20260602T173000
UID:J516004-20260602T143000@VHSMANNHEIM
SUMMARY:Latein Intensivkurs: NUR 1. und 2. Lernjahr Pfingstferien (J516004) 
LOCATION:U 1, Raum 502, U1, 16 - 19, 68161 Mannheim
END:VEVENT
BEGIN:VEVENT
DTSTAMP:20260420T220208
DTSTART;TZID=Europe/Berlin:20260603T143000
DTEND;TZID=Europe/Berlin:20260603T173000
UID:J516004-20260603T143000@VHSMANNHEIM
SUMMARY:Latein Intensivkurs: NUR 1. und 2. Lernjahr Pfingstferien (J516004) 
LOCATION:U 1, Raum 502, U1, 16 - 19, 68161 Mannheim
END:VEVENT
BEGIN:VEVENT
DTSTAMP:20260420T220208
DTSTART;TZID=Europe/Berlin:20260605T143000
DTEND;TZID=Europe/Berlin:20260605T173000
UID:J516004-20260605T143000@VHSMANNHEIM
SUMMARY:Latein Intensivkurs: NUR 1. und 2. Lernjahr Pfingstferien (J516004) 
LOCATION:U 1, Raum 502, U1, 16 - 19, 68161 Mannheim
END:VEVENT
BEGIN:VEVENT
DTSTAMP:20260420T220208
DTSTART;TZID=Europe/Berlin:20260606T143000
DTEND;TZID=Europe/Berlin:20260606T173000
UID:J516004-20260606T143000@VHSMANNHEIM
SUMMARY:Latein Intensivkurs: NUR 1. und 2. Lernjahr Pfingstferien (J516004) 
LOCATION:U 1, Raum 502, U1, 16 - 19, 68161 Mannheim
END:VEVENT
END:VCALENDAR