BEGIN:VCALENDAR
PRODID:http://www.kufer.de/kuferweb / DE
VERSION:2.0
METHOD:PUBLISH
CALSCALE:GREGORIAN
X-WR-TIMEZONE:Europe/Berlin
BEGIN:VTIMEZONE
TZID:Europe/Berlin
X-LIC-LOCATION:Europe/Berlin
BEGIN:DAYLIGHT
TZOFFSETFROM:+0100
TZOFFSETTO:+0200
TZNAME:CEST
DTSTART;TZID=Europe/Berlin:19700329T020000
RRULE:FREQ=YEARLY;INTERVAL=1;BYDAY=-1SU;BYMONTH=3
END:DAYLIGHT
BEGIN:STANDARD
TZOFFSETFROM:+0200
TZOFFSETTO:+0100
TZNAME:CET
DTSTART;TZID=Europe/Berlin:19701025T030000
RRULE:FREQ=YEARLY;INTERVAL=1;BYDAY=-1SU;BYMONTH=10
END:STANDARD
END:VTIMEZONE
BEGIN:VEVENT
DTSTAMP:20260420T230747
DTSTART;TZID=Europe/Berlin:20260526T093000
DTEND;TZID=Europe/Berlin:20260526T131500
UID:J532010-20260526T093000@VHSMANNHEIM
SUMMARY:Vorbereitung auf das mündliche Abitur 2026 Mathematik - Grundkurs Pfingstferien (J532010) 
LOCATION:U 1, Raum 503, U1, 16 - 19, 68161 Mannheim
END:VEVENT
BEGIN:VEVENT
DTSTAMP:20260420T230747
DTSTART;TZID=Europe/Berlin:20260527T093000
DTEND;TZID=Europe/Berlin:20260527T131500
UID:J532010-20260527T093000@VHSMANNHEIM
SUMMARY:Vorbereitung auf das mündliche Abitur 2026 Mathematik - Grundkurs Pfingstferien (J532010) 
LOCATION:U 1, Raum 503, U1, 16 - 19, 68161 Mannheim
END:VEVENT
BEGIN:VEVENT
DTSTAMP:20260420T230747
DTSTART;TZID=Europe/Berlin:20260528T093000
DTEND;TZID=Europe/Berlin:20260528T131500
UID:J532010-20260528T093000@VHSMANNHEIM
SUMMARY:Vorbereitung auf das mündliche Abitur 2026 Mathematik - Grundkurs Pfingstferien (J532010) 
LOCATION:U 1, Raum 503, U1, 16 - 19, 68161 Mannheim
END:VEVENT
BEGIN:VEVENT
DTSTAMP:20260420T230747
DTSTART;TZID=Europe/Berlin:20260529T093000
DTEND;TZID=Europe/Berlin:20260529T131500
UID:J532010-20260529T093000@VHSMANNHEIM
SUMMARY:Vorbereitung auf das mündliche Abitur 2026 Mathematik - Grundkurs Pfingstferien (J532010) 
LOCATION:U 1, Raum 503, U1, 16 - 19, 68161 Mannheim
END:VEVENT
END:VCALENDAR