BEGIN:VCALENDAR
PRODID:http://www.kufer.de/kuferweb / DE
VERSION:2.0
METHOD:PUBLISH
CALSCALE:GREGORIAN
X-WR-TIMEZONE:Europe/Berlin
BEGIN:VTIMEZONE
TZID:Europe/Berlin
X-LIC-LOCATION:Europe/Berlin
BEGIN:DAYLIGHT
TZOFFSETFROM:+0100
TZOFFSETTO:+0200
TZNAME:CEST
DTSTART;TZID=Europe/Berlin:19700329T020000
RRULE:FREQ=YEARLY;INTERVAL=1;BYDAY=-1SU;BYMONTH=3
END:DAYLIGHT
BEGIN:STANDARD
TZOFFSETFROM:+0200
TZOFFSETTO:+0100
TZNAME:CET
DTSTART;TZID=Europe/Berlin:19701025T030000
RRULE:FREQ=YEARLY;INTERVAL=1;BYDAY=-1SU;BYMONTH=10
END:STANDARD
END:VTIMEZONE
BEGIN:VEVENT
DTSTAMP:20260421T161344
DTSTART;TZID=Europe/Berlin:20260303T093000
DTEND;TZID=Europe/Berlin:20260303T114500
UID:J560002-20260303T093000@VHSMANNHEIM
SUMMARY:Schreibtraining und Grammatik -  gemeinsam Lesen und Schreiben lernen für Alltag und Beruf (J560002) 
LOCATION:U 1, Raum 501, U1, 16 - 19, 68161 Mannheim
END:VEVENT
BEGIN:VEVENT
DTSTAMP:20260421T161344
DTSTART;TZID=Europe/Berlin:20260304T093000
DTEND;TZID=Europe/Berlin:20260304T114500
UID:J560002-20260304T093000@VHSMANNHEIM
SUMMARY:Schreibtraining und Grammatik -  gemeinsam Lesen und Schreiben lernen für Alltag und Beruf (J560002) 
LOCATION:U 1, Raum 501, U1, 16 - 19, 68161 Mannheim
END:VEVENT
BEGIN:VEVENT
DTSTAMP:20260421T161344
DTSTART;TZID=Europe/Berlin:20260310T093000
DTEND;TZID=Europe/Berlin:20260310T114500
UID:J560002-20260310T093000@VHSMANNHEIM
SUMMARY:Schreibtraining und Grammatik -  gemeinsam Lesen und Schreiben lernen für Alltag und Beruf (J560002) 
LOCATION:U 1, Raum 501, U1, 16 - 19, 68161 Mannheim
END:VEVENT
BEGIN:VEVENT
DTSTAMP:20260421T161344
DTSTART;TZID=Europe/Berlin:20260311T093000
DTEND;TZID=Europe/Berlin:20260311T114500
UID:J560002-20260311T093000@VHSMANNHEIM
SUMMARY:Schreibtraining und Grammatik -  gemeinsam Lesen und Schreiben lernen für Alltag und Beruf (J560002) 
LOCATION:U 1, Raum 501, U1, 16 - 19, 68161 Mannheim
END:VEVENT
BEGIN:VEVENT
DTSTAMP:20260421T161344
DTSTART;TZID=Europe/Berlin:20260317T093000
DTEND;TZID=Europe/Berlin:20260317T114500
UID:J560002-20260317T093000@VHSMANNHEIM
SUMMARY:Schreibtraining und Grammatik -  gemeinsam Lesen und Schreiben lernen für Alltag und Beruf (J560002) 
LOCATION:U 1, Raum 501, U1, 16 - 19, 68161 Mannheim
END:VEVENT
BEGIN:VEVENT
DTSTAMP:20260421T161344
DTSTART;TZID=Europe/Berlin:20260318T093000
DTEND;TZID=Europe/Berlin:20260318T114500
UID:J560002-20260318T093000@VHSMANNHEIM
SUMMARY:Schreibtraining und Grammatik -  gemeinsam Lesen und Schreiben lernen für Alltag und Beruf (J560002) 
LOCATION:U 1, Raum 501, U1, 16 - 19, 68161 Mannheim
END:VEVENT
BEGIN:VEVENT
DTSTAMP:20260421T161344
DTSTART;TZID=Europe/Berlin:20260324T093000
DTEND;TZID=Europe/Berlin:20260324T114500
UID:J560002-20260324T093000@VHSMANNHEIM
SUMMARY:Schreibtraining und Grammatik -  gemeinsam Lesen und Schreiben lernen für Alltag und Beruf (J560002) 
LOCATION:U 1, Raum 501, U1, 16 - 19, 68161 Mannheim
END:VEVENT
BEGIN:VEVENT
DTSTAMP:20260421T161344
DTSTART;TZID=Europe/Berlin:20260408T093000
DTEND;TZID=Europe/Berlin:20260408T114500
UID:J560002-20260408T093000@VHSMANNHEIM
SUMMARY:Schreibtraining und Grammatik -  gemeinsam Lesen und Schreiben lernen für Alltag und Beruf (J560002) 
LOCATION:U 1, Raum 504, U1, 16 - 19, 68161 Mannheim
END:VEVENT
BEGIN:VEVENT
DTSTAMP:20260421T161344
DTSTART;TZID=Europe/Berlin:20260414T093000
DTEND;TZID=Europe/Berlin:20260414T114500
UID:J560002-20260414T093000@VHSMANNHEIM
SUMMARY:Schreibtraining und Grammatik -  gemeinsam Lesen und Schreiben lernen für Alltag und Beruf (J560002) 
LOCATION:U 1, Raum 501, U1, 16 - 19, 68161 Mannheim
END:VEVENT
BEGIN:VEVENT
DTSTAMP:20260421T161344
DTSTART;TZID=Europe/Berlin:20260415T093000
DTEND;TZID=Europe/Berlin:20260415T114500
UID:J560002-20260415T093000@VHSMANNHEIM
SUMMARY:Schreibtraining und Grammatik -  gemeinsam Lesen und Schreiben lernen für Alltag und Beruf (J560002) 
LOCATION:U 1, Raum 501, U1, 16 - 19, 68161 Mannheim
END:VEVENT
BEGIN:VEVENT
DTSTAMP:20260421T161344
DTSTART;TZID=Europe/Berlin:20260421T093000
DTEND;TZID=Europe/Berlin:20260421T114500
UID:J560002-20260421T093000@VHSMANNHEIM
SUMMARY:Schreibtraining und Grammatik -  gemeinsam Lesen und Schreiben lernen für Alltag und Beruf (J560002) 
LOCATION:U 1, Raum 501, U1, 16 - 19, 68161 Mannheim
END:VEVENT
BEGIN:VEVENT
DTSTAMP:20260421T161344
DTSTART;TZID=Europe/Berlin:20260422T093000
DTEND;TZID=Europe/Berlin:20260422T114500
UID:J560002-20260422T093000@VHSMANNHEIM
SUMMARY:Schreibtraining und Grammatik -  gemeinsam Lesen und Schreiben lernen für Alltag und Beruf (J560002) 
LOCATION:U 1, Raum 501, U1, 16 - 19, 68161 Mannheim
END:VEVENT
BEGIN:VEVENT
DTSTAMP:20260421T161344
DTSTART;TZID=Europe/Berlin:20260428T093000
DTEND;TZID=Europe/Berlin:20260428T114500
UID:J560002-20260428T093000@VHSMANNHEIM
SUMMARY:Schreibtraining und Grammatik -  gemeinsam Lesen und Schreiben lernen für Alltag und Beruf (J560002) 
LOCATION:U 1, Raum 501, U1, 16 - 19, 68161 Mannheim
END:VEVENT
BEGIN:VEVENT
DTSTAMP:20260421T161344
DTSTART;TZID=Europe/Berlin:20260429T093000
DTEND;TZID=Europe/Berlin:20260429T114500
UID:J560002-20260429T093000@VHSMANNHEIM
SUMMARY:Schreibtraining und Grammatik -  gemeinsam Lesen und Schreiben lernen für Alltag und Beruf (J560002) 
LOCATION:U 1, Raum 501, U1, 16 - 19, 68161 Mannheim
END:VEVENT
BEGIN:VEVENT
DTSTAMP:20260421T161344
DTSTART;TZID=Europe/Berlin:20260505T093000
DTEND;TZID=Europe/Berlin:20260505T114500
UID:J560002-20260505T093000@VHSMANNHEIM
SUMMARY:Schreibtraining und Grammatik -  gemeinsam Lesen und Schreiben lernen für Alltag und Beruf (J560002) 
LOCATION:U 1, Raum 501, U1, 16 - 19, 68161 Mannheim
END:VEVENT
BEGIN:VEVENT
DTSTAMP:20260421T161344
DTSTART;TZID=Europe/Berlin:20260506T093000
DTEND;TZID=Europe/Berlin:20260506T114500
UID:J560002-20260506T093000@VHSMANNHEIM
SUMMARY:Schreibtraining und Grammatik -  gemeinsam Lesen und Schreiben lernen für Alltag und Beruf (J560002) 
LOCATION:U 1, Raum 501, U1, 16 - 19, 68161 Mannheim
END:VEVENT
BEGIN:VEVENT
DTSTAMP:20260421T161344
DTSTART;TZID=Europe/Berlin:20260512T093000
DTEND;TZID=Europe/Berlin:20260512T114500
UID:J560002-20260512T093000@VHSMANNHEIM
SUMMARY:Schreibtraining und Grammatik -  gemeinsam Lesen und Schreiben lernen für Alltag und Beruf (J560002) 
LOCATION:U 1, Raum 501, U1, 16 - 19, 68161 Mannheim
END:VEVENT
BEGIN:VEVENT
DTSTAMP:20260421T161344
DTSTART;TZID=Europe/Berlin:20260513T093000
DTEND;TZID=Europe/Berlin:20260513T114500
UID:J560002-20260513T093000@VHSMANNHEIM
SUMMARY:Schreibtraining und Grammatik -  gemeinsam Lesen und Schreiben lernen für Alltag und Beruf (J560002) 
LOCATION:U 1, Raum 501, U1, 16 - 19, 68161 Mannheim
END:VEVENT
BEGIN:VEVENT
DTSTAMP:20260421T161344
DTSTART;TZID=Europe/Berlin:20260519T093000
DTEND;TZID=Europe/Berlin:20260519T114500
UID:J560002-20260519T093000@VHSMANNHEIM
SUMMARY:Schreibtraining und Grammatik -  gemeinsam Lesen und Schreiben lernen für Alltag und Beruf (J560002) 
LOCATION:U 1, Raum 501, U1, 16 - 19, 68161 Mannheim
END:VEVENT
BEGIN:VEVENT
DTSTAMP:20260421T161344
DTSTART;TZID=Europe/Berlin:20260520T093000
DTEND;TZID=Europe/Berlin:20260520T114500
UID:J560002-20260520T093000@VHSMANNHEIM
SUMMARY:Schreibtraining und Grammatik -  gemeinsam Lesen und Schreiben lernen für Alltag und Beruf (J560002) 
LOCATION:U 1, Raum 501, U1, 16 - 19, 68161 Mannheim
END:VEVENT
BEGIN:VEVENT
DTSTAMP:20260421T161344
DTSTART;TZID=Europe/Berlin:20260609T093000
DTEND;TZID=Europe/Berlin:20260609T114500
UID:J560002-20260609T093000@VHSMANNHEIM
SUMMARY:Schreibtraining und Grammatik -  gemeinsam Lesen und Schreiben lernen für Alltag und Beruf (J560002) 
LOCATION:U 1, Raum 501, U1, 16 - 19, 68161 Mannheim
END:VEVENT
BEGIN:VEVENT
DTSTAMP:20260421T161344
DTSTART;TZID=Europe/Berlin:20260610T093000
DTEND;TZID=Europe/Berlin:20260610T114500
UID:J560002-20260610T093000@VHSMANNHEIM
SUMMARY:Schreibtraining und Grammatik -  gemeinsam Lesen und Schreiben lernen für Alltag und Beruf (J560002) 
LOCATION:U 1, Raum 501, U1, 16 - 19, 68161 Mannheim
END:VEVENT
BEGIN:VEVENT
DTSTAMP:20260421T161344
DTSTART;TZID=Europe/Berlin:20260616T093000
DTEND;TZID=Europe/Berlin:20260616T114500
UID:J560002-20260616T093000@VHSMANNHEIM
SUMMARY:Schreibtraining und Grammatik -  gemeinsam Lesen und Schreiben lernen für Alltag und Beruf (J560002) 
LOCATION:U 1, Raum 501, U1, 16 - 19, 68161 Mannheim
END:VEVENT
BEGIN:VEVENT
DTSTAMP:20260421T161344
DTSTART;TZID=Europe/Berlin:20260617T093000
DTEND;TZID=Europe/Berlin:20260617T114500
UID:J560002-20260617T093000@VHSMANNHEIM
SUMMARY:Schreibtraining und Grammatik -  gemeinsam Lesen und Schreiben lernen für Alltag und Beruf (J560002) 
LOCATION:U 1, Raum 501, U1, 16 - 19, 68161 Mannheim
END:VEVENT
BEGIN:VEVENT
DTSTAMP:20260421T161344
DTSTART;TZID=Europe/Berlin:20260623T093000
DTEND;TZID=Europe/Berlin:20260623T114500
UID:J560002-20260623T093000@VHSMANNHEIM
SUMMARY:Schreibtraining und Grammatik -  gemeinsam Lesen und Schreiben lernen für Alltag und Beruf (J560002) 
LOCATION:U 1, Raum 501, U1, 16 - 19, 68161 Mannheim
END:VEVENT
BEGIN:VEVENT
DTSTAMP:20260421T161344
DTSTART;TZID=Europe/Berlin:20260624T093000
DTEND;TZID=Europe/Berlin:20260624T114500
UID:J560002-20260624T093000@VHSMANNHEIM
SUMMARY:Schreibtraining und Grammatik -  gemeinsam Lesen und Schreiben lernen für Alltag und Beruf (J560002) 
LOCATION:U 1, Raum 501, U1, 16 - 19, 68161 Mannheim
END:VEVENT
BEGIN:VEVENT
DTSTAMP:20260421T161344
DTSTART;TZID=Europe/Berlin:20260630T093000
DTEND;TZID=Europe/Berlin:20260630T110000
UID:J560002-20260630T093000@VHSMANNHEIM
SUMMARY:Schreibtraining und Grammatik -  gemeinsam Lesen und Schreiben lernen für Alltag und Beruf (J560002) 
LOCATION:U 1, Raum 501, U1, 16 - 19, 68161 Mannheim
END:VEVENT
END:VCALENDAR