BEGIN:VCALENDAR
PRODID:http://www.kufer.de/kuferweb / DE
VERSION:2.0
METHOD:PUBLISH
CALSCALE:GREGORIAN
X-WR-TIMEZONE:Europe/Berlin
BEGIN:VTIMEZONE
TZID:Europe/Berlin
X-LIC-LOCATION:Europe/Berlin
BEGIN:DAYLIGHT
TZOFFSETFROM:+0100
TZOFFSETTO:+0200
TZNAME:CEST
DTSTART;TZID=Europe/Berlin:19700329T020000
RRULE:FREQ=YEARLY;INTERVAL=1;BYDAY=-1SU;BYMONTH=3
END:DAYLIGHT
BEGIN:STANDARD
TZOFFSETFROM:+0200
TZOFFSETTO:+0100
TZNAME:CET
DTSTART;TZID=Europe/Berlin:19701025T030000
RRULE:FREQ=YEARLY;INTERVAL=1;BYDAY=-1SU;BYMONTH=10
END:STANDARD
END:VTIMEZONE
BEGIN:VEVENT
DTSTAMP:20260423T120310
DTSTART;TZID=Europe/Berlin:20260303T173000
DTEND;TZID=Europe/Berlin:20260303T194500
UID:J562024-20260303T173000@VHSMANNHEIM
SUMMARY:Schreibwerkstatt: Lesen und Schreiben von Anfang an  - am Abend (J562024) 
LOCATION:U 1, Raum 501, U1, 16 - 19, 68161 Mannheim
END:VEVENT
BEGIN:VEVENT
DTSTAMP:20260423T120310
DTSTART;TZID=Europe/Berlin:20260305T173000
DTEND;TZID=Europe/Berlin:20260305T194500
UID:J562024-20260305T173000@VHSMANNHEIM
SUMMARY:Schreibwerkstatt: Lesen und Schreiben von Anfang an  - am Abend (J562024) 
LOCATION:U 1, Raum 501, U1, 16 - 19, 68161 Mannheim
END:VEVENT
BEGIN:VEVENT
DTSTAMP:20260423T120310
DTSTART;TZID=Europe/Berlin:20260310T173000
DTEND;TZID=Europe/Berlin:20260310T194500
UID:J562024-20260310T173000@VHSMANNHEIM
SUMMARY:Schreibwerkstatt: Lesen und Schreiben von Anfang an  - am Abend (J562024) 
LOCATION:U 1, Raum 501, U1, 16 - 19, 68161 Mannheim
END:VEVENT
BEGIN:VEVENT
DTSTAMP:20260423T120310
DTSTART;TZID=Europe/Berlin:20260312T173000
DTEND;TZID=Europe/Berlin:20260312T194500
UID:J562024-20260312T173000@VHSMANNHEIM
SUMMARY:Schreibwerkstatt: Lesen und Schreiben von Anfang an  - am Abend (J562024) 
LOCATION:U 1, Raum 501, U1, 16 - 19, 68161 Mannheim
END:VEVENT
BEGIN:VEVENT
DTSTAMP:20260423T120310
DTSTART;TZID=Europe/Berlin:20260317T173000
DTEND;TZID=Europe/Berlin:20260317T194500
UID:J562024-20260317T173000@VHSMANNHEIM
SUMMARY:Schreibwerkstatt: Lesen und Schreiben von Anfang an  - am Abend (J562024) 
LOCATION:U 1, Raum 501, U1, 16 - 19, 68161 Mannheim
END:VEVENT
BEGIN:VEVENT
DTSTAMP:20260423T120310
DTSTART;TZID=Europe/Berlin:20260319T173000
DTEND;TZID=Europe/Berlin:20260319T194500
UID:J562024-20260319T173000@VHSMANNHEIM
SUMMARY:Schreibwerkstatt: Lesen und Schreiben von Anfang an  - am Abend (J562024) 
LOCATION:U 1, Raum 501, U1, 16 - 19, 68161 Mannheim
END:VEVENT
BEGIN:VEVENT
DTSTAMP:20260423T120310
DTSTART;TZID=Europe/Berlin:20260324T173000
DTEND;TZID=Europe/Berlin:20260324T194500
UID:J562024-20260324T173000@VHSMANNHEIM
SUMMARY:Schreibwerkstatt: Lesen und Schreiben von Anfang an  - am Abend (J562024) 
LOCATION:U 1, Raum 501, U1, 16 - 19, 68161 Mannheim
END:VEVENT
BEGIN:VEVENT
DTSTAMP:20260423T120310
DTSTART;TZID=Europe/Berlin:20260326T173000
DTEND;TZID=Europe/Berlin:20260326T194500
UID:J562024-20260326T173000@VHSMANNHEIM
SUMMARY:Schreibwerkstatt: Lesen und Schreiben von Anfang an  - am Abend (J562024) 
LOCATION:U 1, Raum 501, U1, 16 - 19, 68161 Mannheim
END:VEVENT
BEGIN:VEVENT
DTSTAMP:20260423T120310
DTSTART;TZID=Europe/Berlin:20260414T173000
DTEND;TZID=Europe/Berlin:20260414T194500
UID:J562024-20260414T173000@VHSMANNHEIM
SUMMARY:Schreibwerkstatt: Lesen und Schreiben von Anfang an  - am Abend (J562024) 
LOCATION:U 1, Raum 501, U1, 16 - 19, 68161 Mannheim
END:VEVENT
BEGIN:VEVENT
DTSTAMP:20260423T120310
DTSTART;TZID=Europe/Berlin:20260416T173000
DTEND;TZID=Europe/Berlin:20260416T194500
UID:J562024-20260416T173000@VHSMANNHEIM
SUMMARY:Schreibwerkstatt: Lesen und Schreiben von Anfang an  - am Abend (J562024) 
LOCATION:U 1, Raum 501, U1, 16 - 19, 68161 Mannheim
END:VEVENT
BEGIN:VEVENT
DTSTAMP:20260423T120310
DTSTART;TZID=Europe/Berlin:20260421T173000
DTEND;TZID=Europe/Berlin:20260421T194500
UID:J562024-20260421T173000@VHSMANNHEIM
SUMMARY:Schreibwerkstatt: Lesen und Schreiben von Anfang an  - am Abend (J562024) 
LOCATION:U 1, Raum 501, U1, 16 - 19, 68161 Mannheim
END:VEVENT
BEGIN:VEVENT
DTSTAMP:20260423T120310
DTSTART;TZID=Europe/Berlin:20260423T173000
DTEND;TZID=Europe/Berlin:20260423T194500
UID:J562024-20260423T173000@VHSMANNHEIM
SUMMARY:Schreibwerkstatt: Lesen und Schreiben von Anfang an  - am Abend (J562024) 
LOCATION:U 1, Raum 501, U1, 16 - 19, 68161 Mannheim
END:VEVENT
BEGIN:VEVENT
DTSTAMP:20260423T120310
DTSTART;TZID=Europe/Berlin:20260428T173000
DTEND;TZID=Europe/Berlin:20260428T194500
UID:J562024-20260428T173000@VHSMANNHEIM
SUMMARY:Schreibwerkstatt: Lesen und Schreiben von Anfang an  - am Abend (J562024) 
LOCATION:U 1, Raum 501, U1, 16 - 19, 68161 Mannheim
END:VEVENT
BEGIN:VEVENT
DTSTAMP:20260423T120310
DTSTART;TZID=Europe/Berlin:20260430T173000
DTEND;TZID=Europe/Berlin:20260430T194500
UID:J562024-20260430T173000@VHSMANNHEIM
SUMMARY:Schreibwerkstatt: Lesen und Schreiben von Anfang an  - am Abend (J562024) 
LOCATION:U 1, Raum 501, U1, 16 - 19, 68161 Mannheim
END:VEVENT
BEGIN:VEVENT
DTSTAMP:20260423T120310
DTSTART;TZID=Europe/Berlin:20260505T173000
DTEND;TZID=Europe/Berlin:20260505T194500
UID:J562024-20260505T173000@VHSMANNHEIM
SUMMARY:Schreibwerkstatt: Lesen und Schreiben von Anfang an  - am Abend (J562024) 
LOCATION:U 1, Raum 501, U1, 16 - 19, 68161 Mannheim
END:VEVENT
BEGIN:VEVENT
DTSTAMP:20260423T120310
DTSTART;TZID=Europe/Berlin:20260507T173000
DTEND;TZID=Europe/Berlin:20260507T194500
UID:J562024-20260507T173000@VHSMANNHEIM
SUMMARY:Schreibwerkstatt: Lesen und Schreiben von Anfang an  - am Abend (J562024) 
LOCATION:U 1, Raum 501, U1, 16 - 19, 68161 Mannheim
END:VEVENT
BEGIN:VEVENT
DTSTAMP:20260423T120310
DTSTART;TZID=Europe/Berlin:20260512T173000
DTEND;TZID=Europe/Berlin:20260512T194500
UID:J562024-20260512T173000@VHSMANNHEIM
SUMMARY:Schreibwerkstatt: Lesen und Schreiben von Anfang an  - am Abend (J562024) 
LOCATION:U 1, Raum 501, U1, 16 - 19, 68161 Mannheim
END:VEVENT
BEGIN:VEVENT
DTSTAMP:20260423T120310
DTSTART;TZID=Europe/Berlin:20260519T173000
DTEND;TZID=Europe/Berlin:20260519T194500
UID:J562024-20260519T173000@VHSMANNHEIM
SUMMARY:Schreibwerkstatt: Lesen und Schreiben von Anfang an  - am Abend (J562024) 
LOCATION:U 1, Raum 501, U1, 16 - 19, 68161 Mannheim
END:VEVENT
BEGIN:VEVENT
DTSTAMP:20260423T120310
DTSTART;TZID=Europe/Berlin:20260521T173000
DTEND;TZID=Europe/Berlin:20260521T194500
UID:J562024-20260521T173000@VHSMANNHEIM
SUMMARY:Schreibwerkstatt: Lesen und Schreiben von Anfang an  - am Abend (J562024) 
LOCATION:U 1, Raum 501, U1, 16 - 19, 68161 Mannheim
END:VEVENT
BEGIN:VEVENT
DTSTAMP:20260423T120310
DTSTART;TZID=Europe/Berlin:20260609T173000
DTEND;TZID=Europe/Berlin:20260609T194500
UID:J562024-20260609T173000@VHSMANNHEIM
SUMMARY:Schreibwerkstatt: Lesen und Schreiben von Anfang an  - am Abend (J562024) 
LOCATION:U 1, Raum 501, U1, 16 - 19, 68161 Mannheim
END:VEVENT
BEGIN:VEVENT
DTSTAMP:20260423T120310
DTSTART;TZID=Europe/Berlin:20260611T173000
DTEND;TZID=Europe/Berlin:20260611T194500
UID:J562024-20260611T173000@VHSMANNHEIM
SUMMARY:Schreibwerkstatt: Lesen und Schreiben von Anfang an  - am Abend (J562024) 
LOCATION:U 1, Raum 501, U1, 16 - 19, 68161 Mannheim
END:VEVENT
BEGIN:VEVENT
DTSTAMP:20260423T120310
DTSTART;TZID=Europe/Berlin:20260616T173000
DTEND;TZID=Europe/Berlin:20260616T194500
UID:J562024-20260616T173000@VHSMANNHEIM
SUMMARY:Schreibwerkstatt: Lesen und Schreiben von Anfang an  - am Abend (J562024) 
LOCATION:U 1, Raum 501, U1, 16 - 19, 68161 Mannheim
END:VEVENT
BEGIN:VEVENT
DTSTAMP:20260423T120310
DTSTART;TZID=Europe/Berlin:20260618T173000
DTEND;TZID=Europe/Berlin:20260618T194500
UID:J562024-20260618T173000@VHSMANNHEIM
SUMMARY:Schreibwerkstatt: Lesen und Schreiben von Anfang an  - am Abend (J562024) 
LOCATION:U 1, Raum 501, U1, 16 - 19, 68161 Mannheim
END:VEVENT
BEGIN:VEVENT
DTSTAMP:20260423T120310
DTSTART;TZID=Europe/Berlin:20260623T173000
DTEND;TZID=Europe/Berlin:20260623T194500
UID:J562024-20260623T173000@VHSMANNHEIM
SUMMARY:Schreibwerkstatt: Lesen und Schreiben von Anfang an  - am Abend (J562024) 
LOCATION:U 1, Raum 501, U1, 16 - 19, 68161 Mannheim
END:VEVENT
BEGIN:VEVENT
DTSTAMP:20260423T120310
DTSTART;TZID=Europe/Berlin:20260625T173000
DTEND;TZID=Europe/Berlin:20260625T194500
UID:J562024-20260625T173000@VHSMANNHEIM
SUMMARY:Schreibwerkstatt: Lesen und Schreiben von Anfang an  - am Abend (J562024) 
LOCATION:U 1, Raum 501, U1, 16 - 19, 68161 Mannheim
END:VEVENT
BEGIN:VEVENT
DTSTAMP:20260423T120310
DTSTART;TZID=Europe/Berlin:20260630T173000
DTEND;TZID=Europe/Berlin:20260630T194500
UID:J562024-20260630T173000@VHSMANNHEIM
SUMMARY:Schreibwerkstatt: Lesen und Schreiben von Anfang an  - am Abend (J562024) 
LOCATION:U 1, Raum 501, U1, 16 - 19, 68161 Mannheim
END:VEVENT
BEGIN:VEVENT
DTSTAMP:20260423T120310
DTSTART;TZID=Europe/Berlin:20260702T173000
DTEND;TZID=Europe/Berlin:20260702T194500
UID:J562024-20260702T173000@VHSMANNHEIM
SUMMARY:Schreibwerkstatt: Lesen und Schreiben von Anfang an  - am Abend (J562024) 
LOCATION:U 1, Raum 501, U1, 16 - 19, 68161 Mannheim
END:VEVENT
BEGIN:VEVENT
DTSTAMP:20260423T120310
DTSTART;TZID=Europe/Berlin:20260707T173000
DTEND;TZID=Europe/Berlin:20260707T194500
UID:J562024-20260707T173000@VHSMANNHEIM
SUMMARY:Schreibwerkstatt: Lesen und Schreiben von Anfang an  - am Abend (J562024) 
LOCATION:U 1, Raum 501, U1, 16 - 19, 68161 Mannheim
END:VEVENT
BEGIN:VEVENT
DTSTAMP:20260423T120310
DTSTART;TZID=Europe/Berlin:20260709T173000
DTEND;TZID=Europe/Berlin:20260709T194500
UID:J562024-20260709T173000@VHSMANNHEIM
SUMMARY:Schreibwerkstatt: Lesen und Schreiben von Anfang an  - am Abend (J562024) 
LOCATION:U 1, Raum 501, U1, 16 - 19, 68161 Mannheim
END:VEVENT
BEGIN:VEVENT
DTSTAMP:20260423T120310
DTSTART;TZID=Europe/Berlin:20260714T173000
DTEND;TZID=Europe/Berlin:20260714T194500
UID:J562024-20260714T173000@VHSMANNHEIM
SUMMARY:Schreibwerkstatt: Lesen und Schreiben von Anfang an  - am Abend (J562024) 
LOCATION:U 1, Raum 501, U1, 16 - 19, 68161 Mannheim
END:VEVENT
BEGIN:VEVENT
DTSTAMP:20260423T120310
DTSTART;TZID=Europe/Berlin:20260716T173000
DTEND;TZID=Europe/Berlin:20260716T194500
UID:J562024-20260716T173000@VHSMANNHEIM
SUMMARY:Schreibwerkstatt: Lesen und Schreiben von Anfang an  - am Abend (J562024) 
LOCATION:U 1, Raum 501, U1, 16 - 19, 68161 Mannheim
END:VEVENT
BEGIN:VEVENT
DTSTAMP:20260423T120310
DTSTART;TZID=Europe/Berlin:20260721T173000
DTEND;TZID=Europe/Berlin:20260721T194500
UID:J562024-20260721T173000@VHSMANNHEIM
SUMMARY:Schreibwerkstatt: Lesen und Schreiben von Anfang an  - am Abend (J562024) 
LOCATION:U 1, Raum 501, U1, 16 - 19, 68161 Mannheim
END:VEVENT
BEGIN:VEVENT
DTSTAMP:20260423T120310
DTSTART;TZID=Europe/Berlin:20260723T173000
DTEND;TZID=Europe/Berlin:20260723T194500
UID:J562024-20260723T173000@VHSMANNHEIM
SUMMARY:Schreibwerkstatt: Lesen und Schreiben von Anfang an  - am Abend (J562024) 
LOCATION:U 1, Raum 501, U1, 16 - 19, 68161 Mannheim
END:VEVENT
BEGIN:VEVENT
DTSTAMP:20260423T120310
DTSTART;TZID=Europe/Berlin:20260728T173000
DTEND;TZID=Europe/Berlin:20260728T194500
UID:J562024-20260728T173000@VHSMANNHEIM
SUMMARY:Schreibwerkstatt: Lesen und Schreiben von Anfang an  - am Abend (J562024) 
LOCATION:U 1, Raum 501, U1, 16 - 19, 68161 Mannheim
END:VEVENT
END:VCALENDAR