BEGIN:VCALENDAR
PRODID:http://www.kufer.de/kuferweb / DE
VERSION:2.0
METHOD:PUBLISH
CALSCALE:GREGORIAN
X-WR-TIMEZONE:Europe/Berlin
BEGIN:VTIMEZONE
TZID:Europe/Berlin
X-LIC-LOCATION:Europe/Berlin
BEGIN:DAYLIGHT
TZOFFSETFROM:+0100
TZOFFSETTO:+0200
TZNAME:CEST
DTSTART;TZID=Europe/Berlin:19700329T020000
RRULE:FREQ=YEARLY;INTERVAL=1;BYDAY=-1SU;BYMONTH=3
END:DAYLIGHT
BEGIN:STANDARD
TZOFFSETFROM:+0200
TZOFFSETTO:+0100
TZNAME:CET
DTSTART;TZID=Europe/Berlin:19701025T030000
RRULE:FREQ=YEARLY;INTERVAL=1;BYDAY=-1SU;BYMONTH=10
END:STANDARD
END:VTIMEZONE
BEGIN:VEVENT
DTSTAMP:20260420T105951
DTSTART;TZID=Europe/Berlin:20260504T093000
DTEND;TZID=Europe/Berlin:20260504T114500
UID:J566001-20260504T093000@VHSMANNHEIM
SUMMARY:Fit in Rechtschreibung und Grammatik! - für Alltag und Beruf (J566001) 
LOCATION:U 1, Raum 501, U1, 16 - 19, 68161 Mannheim
END:VEVENT
BEGIN:VEVENT
DTSTAMP:20260420T105951
DTSTART;TZID=Europe/Berlin:20260511T093000
DTEND;TZID=Europe/Berlin:20260511T114500
UID:J566001-20260511T093000@VHSMANNHEIM
SUMMARY:Fit in Rechtschreibung und Grammatik! - für Alltag und Beruf (J566001) 
LOCATION:U 1, Raum 501, U1, 16 - 19, 68161 Mannheim
END:VEVENT
BEGIN:VEVENT
DTSTAMP:20260420T105951
DTSTART;TZID=Europe/Berlin:20260518T093000
DTEND;TZID=Europe/Berlin:20260518T114500
UID:J566001-20260518T093000@VHSMANNHEIM
SUMMARY:Fit in Rechtschreibung und Grammatik! - für Alltag und Beruf (J566001) 
LOCATION:U 1, Raum 501, U1, 16 - 19, 68161 Mannheim
END:VEVENT
BEGIN:VEVENT
DTSTAMP:20260420T105951
DTSTART;TZID=Europe/Berlin:20260608T093000
DTEND;TZID=Europe/Berlin:20260608T114500
UID:J566001-20260608T093000@VHSMANNHEIM
SUMMARY:Fit in Rechtschreibung und Grammatik! - für Alltag und Beruf (J566001) 
LOCATION:U 1, Raum 501, U1, 16 - 19, 68161 Mannheim
END:VEVENT
BEGIN:VEVENT
DTSTAMP:20260420T105951
DTSTART;TZID=Europe/Berlin:20260615T093000
DTEND;TZID=Europe/Berlin:20260615T114500
UID:J566001-20260615T093000@VHSMANNHEIM
SUMMARY:Fit in Rechtschreibung und Grammatik! - für Alltag und Beruf (J566001) 
LOCATION:U 1, Raum 501, U1, 16 - 19, 68161 Mannheim
END:VEVENT
BEGIN:VEVENT
DTSTAMP:20260420T105951
DTSTART;TZID=Europe/Berlin:20260622T093000
DTEND;TZID=Europe/Berlin:20260622T114500
UID:J566001-20260622T093000@VHSMANNHEIM
SUMMARY:Fit in Rechtschreibung und Grammatik! - für Alltag und Beruf (J566001) 
LOCATION:U 1, Raum 501, U1, 16 - 19, 68161 Mannheim
END:VEVENT
BEGIN:VEVENT
DTSTAMP:20260420T105951
DTSTART;TZID=Europe/Berlin:20260629T093000
DTEND;TZID=Europe/Berlin:20260629T114500
UID:J566001-20260629T093000@VHSMANNHEIM
SUMMARY:Fit in Rechtschreibung und Grammatik! - für Alltag und Beruf (J566001) 
LOCATION:U 1, Raum 501, U1, 16 - 19, 68161 Mannheim
END:VEVENT
BEGIN:VEVENT
DTSTAMP:20260420T105951
DTSTART;TZID=Europe/Berlin:20260706T093000
DTEND;TZID=Europe/Berlin:20260706T114500
UID:J566001-20260706T093000@VHSMANNHEIM
SUMMARY:Fit in Rechtschreibung und Grammatik! - für Alltag und Beruf (J566001) 
LOCATION:U 1, Raum 501, U1, 16 - 19, 68161 Mannheim
END:VEVENT
BEGIN:VEVENT
DTSTAMP:20260420T105951
DTSTART;TZID=Europe/Berlin:20260713T093000
DTEND;TZID=Europe/Berlin:20260713T114500
UID:J566001-20260713T093000@VHSMANNHEIM
SUMMARY:Fit in Rechtschreibung und Grammatik! - für Alltag und Beruf (J566001) 
LOCATION:U 1, Raum 501, U1, 16 - 19, 68161 Mannheim
END:VEVENT
BEGIN:VEVENT
DTSTAMP:20260420T105951
DTSTART;TZID=Europe/Berlin:20260720T093000
DTEND;TZID=Europe/Berlin:20260720T114500
UID:J566001-20260720T093000@VHSMANNHEIM
SUMMARY:Fit in Rechtschreibung und Grammatik! - für Alltag und Beruf (J566001) 
LOCATION:U 1, Raum 501, U1, 16 - 19, 68161 Mannheim
END:VEVENT
END:VCALENDAR