BEGIN:VCALENDAR
PRODID:http://www.kufer.de/kuferweb / DE
VERSION:2.0
METHOD:PUBLISH
CALSCALE:GREGORIAN
X-WR-TIMEZONE:Europe/Berlin
BEGIN:VTIMEZONE
TZID:Europe/Berlin
X-LIC-LOCATION:Europe/Berlin
BEGIN:DAYLIGHT
TZOFFSETFROM:+0100
TZOFFSETTO:+0200
TZNAME:CEST
DTSTART;TZID=Europe/Berlin:19700329T020000
RRULE:FREQ=YEARLY;INTERVAL=1;BYDAY=-1SU;BYMONTH=3
END:DAYLIGHT
BEGIN:STANDARD
TZOFFSETFROM:+0200
TZOFFSETTO:+0100
TZNAME:CET
DTSTART;TZID=Europe/Berlin:19701025T030000
RRULE:FREQ=YEARLY;INTERVAL=1;BYDAY=-1SU;BYMONTH=10
END:STANDARD
END:VTIMEZONE
BEGIN:VEVENT
DTSTAMP:20260422T145115
DTSTART;TZID=Europe/Berlin:20260504T173000
DTEND;TZID=Europe/Berlin:20260504T194500
UID:J566020-20260504T173000@VHSMANNHEIM
SUMMARY:Fit in Rechtschreibung und Grammatik! - für Alltag und Beruf (J566020) 
LOCATION:U 1, Raum 502, U1, 16 - 19, 68161 Mannheim
END:VEVENT
BEGIN:VEVENT
DTSTAMP:20260422T145115
DTSTART;TZID=Europe/Berlin:20260511T173000
DTEND;TZID=Europe/Berlin:20260511T194500
UID:J566020-20260511T173000@VHSMANNHEIM
SUMMARY:Fit in Rechtschreibung und Grammatik! - für Alltag und Beruf (J566020) 
LOCATION:U 1, Raum 502, U1, 16 - 19, 68161 Mannheim
END:VEVENT
BEGIN:VEVENT
DTSTAMP:20260422T145115
DTSTART;TZID=Europe/Berlin:20260518T173000
DTEND;TZID=Europe/Berlin:20260518T194500
UID:J566020-20260518T173000@VHSMANNHEIM
SUMMARY:Fit in Rechtschreibung und Grammatik! - für Alltag und Beruf (J566020) 
LOCATION:U 1, Raum 502, U1, 16 - 19, 68161 Mannheim
END:VEVENT
BEGIN:VEVENT
DTSTAMP:20260422T145115
DTSTART;TZID=Europe/Berlin:20260608T173000
DTEND;TZID=Europe/Berlin:20260608T194500
UID:J566020-20260608T173000@VHSMANNHEIM
SUMMARY:Fit in Rechtschreibung und Grammatik! - für Alltag und Beruf (J566020) 
LOCATION:U 1, Raum 502, U1, 16 - 19, 68161 Mannheim
END:VEVENT
BEGIN:VEVENT
DTSTAMP:20260422T145115
DTSTART;TZID=Europe/Berlin:20260615T173000
DTEND;TZID=Europe/Berlin:20260615T194500
UID:J566020-20260615T173000@VHSMANNHEIM
SUMMARY:Fit in Rechtschreibung und Grammatik! - für Alltag und Beruf (J566020) 
LOCATION:U 1, Raum 502, U1, 16 - 19, 68161 Mannheim
END:VEVENT
BEGIN:VEVENT
DTSTAMP:20260422T145115
DTSTART;TZID=Europe/Berlin:20260622T173000
DTEND;TZID=Europe/Berlin:20260622T194500
UID:J566020-20260622T173000@VHSMANNHEIM
SUMMARY:Fit in Rechtschreibung und Grammatik! - für Alltag und Beruf (J566020) 
LOCATION:U 1, Raum 502, U1, 16 - 19, 68161 Mannheim
END:VEVENT
BEGIN:VEVENT
DTSTAMP:20260422T145115
DTSTART;TZID=Europe/Berlin:20260629T173000
DTEND;TZID=Europe/Berlin:20260629T194500
UID:J566020-20260629T173000@VHSMANNHEIM
SUMMARY:Fit in Rechtschreibung und Grammatik! - für Alltag und Beruf (J566020) 
LOCATION:U 1, Raum 502, U1, 16 - 19, 68161 Mannheim
END:VEVENT
BEGIN:VEVENT
DTSTAMP:20260422T145115
DTSTART;TZID=Europe/Berlin:20260706T173000
DTEND;TZID=Europe/Berlin:20260706T194500
UID:J566020-20260706T173000@VHSMANNHEIM
SUMMARY:Fit in Rechtschreibung und Grammatik! - für Alltag und Beruf (J566020) 
LOCATION:U 1, Raum 502, U1, 16 - 19, 68161 Mannheim
END:VEVENT
BEGIN:VEVENT
DTSTAMP:20260422T145115
DTSTART;TZID=Europe/Berlin:20260713T173000
DTEND;TZID=Europe/Berlin:20260713T194500
UID:J566020-20260713T173000@VHSMANNHEIM
SUMMARY:Fit in Rechtschreibung und Grammatik! - für Alltag und Beruf (J566020) 
LOCATION:U 1, Raum 502, U1, 16 - 19, 68161 Mannheim
END:VEVENT
BEGIN:VEVENT
DTSTAMP:20260422T145115
DTSTART;TZID=Europe/Berlin:20260720T173000
DTEND;TZID=Europe/Berlin:20260720T194500
UID:J566020-20260720T173000@VHSMANNHEIM
SUMMARY:Fit in Rechtschreibung und Grammatik! - für Alltag und Beruf (J566020) 
LOCATION:U 1, Raum 502, U1, 16 - 19, 68161 Mannheim
END:VEVENT
END:VCALENDAR