BEGIN:VCALENDAR
PRODID:http://www.kufer.de/kuferweb / DE
VERSION:2.0
METHOD:PUBLISH
CALSCALE:GREGORIAN
X-WR-TIMEZONE:Europe/Berlin
BEGIN:VTIMEZONE
TZID:Europe/Berlin
X-LIC-LOCATION:Europe/Berlin
BEGIN:DAYLIGHT
TZOFFSETFROM:+0100
TZOFFSETTO:+0200
TZNAME:CEST
DTSTART;TZID=Europe/Berlin:19700329T020000
RRULE:FREQ=YEARLY;INTERVAL=1;BYDAY=-1SU;BYMONTH=3
END:DAYLIGHT
BEGIN:STANDARD
TZOFFSETFROM:+0200
TZOFFSETTO:+0100
TZNAME:CET
DTSTART;TZID=Europe/Berlin:19701025T030000
RRULE:FREQ=YEARLY;INTERVAL=1;BYDAY=-1SU;BYMONTH=10
END:STANDARD
END:VTIMEZONE
BEGIN:VEVENT
DTSTAMP:20260421T024639
DTSTART;TZID=Europe/Berlin:20260616T163000
DTEND;TZID=Europe/Berlin:20260616T180000
UID:J570004-20260616T163000@VHSMANNHEIM
SUMMARY:Die Druckwerkstatt Neckarau (J570004) 
LOCATION:Johannes-Calvin-Haus, Rheingoldstraße 22-24, MA-Neckarau, , 
END:VEVENT
BEGIN:VEVENT
DTSTAMP:20260421T024639
DTSTART;TZID=Europe/Berlin:20260623T163000
DTEND;TZID=Europe/Berlin:20260623T180000
UID:J570004-20260623T163000@VHSMANNHEIM
SUMMARY:Die Druckwerkstatt Neckarau (J570004) 
LOCATION:Johannes-Calvin-Haus, Rheingoldstraße 22-24, MA-Neckarau, , 
END:VEVENT
BEGIN:VEVENT
DTSTAMP:20260421T024639
DTSTART;TZID=Europe/Berlin:20260630T163000
DTEND;TZID=Europe/Berlin:20260630T180000
UID:J570004-20260630T163000@VHSMANNHEIM
SUMMARY:Die Druckwerkstatt Neckarau (J570004) 
LOCATION:Johannes-Calvin-Haus, Rheingoldstraße 22-24, MA-Neckarau, , 
END:VEVENT
BEGIN:VEVENT
DTSTAMP:20260421T024639
DTSTART;TZID=Europe/Berlin:20260707T163000
DTEND;TZID=Europe/Berlin:20260707T180000
UID:J570004-20260707T163000@VHSMANNHEIM
SUMMARY:Die Druckwerkstatt Neckarau (J570004) 
LOCATION:Johannes-Calvin-Haus, Rheingoldstraße 22-24, MA-Neckarau, , 
END:VEVENT
BEGIN:VEVENT
DTSTAMP:20260421T024639
DTSTART;TZID=Europe/Berlin:20260714T163000
DTEND;TZID=Europe/Berlin:20260714T180000
UID:J570004-20260714T163000@VHSMANNHEIM
SUMMARY:Die Druckwerkstatt Neckarau (J570004) 
LOCATION:Johannes-Calvin-Haus, Rheingoldstraße 22-24, MA-Neckarau, , 
END:VEVENT
BEGIN:VEVENT
DTSTAMP:20260421T024639
DTSTART;TZID=Europe/Berlin:20260721T163000
DTEND;TZID=Europe/Berlin:20260721T180000
UID:J570004-20260721T163000@VHSMANNHEIM
SUMMARY:Die Druckwerkstatt Neckarau (J570004) 
LOCATION:Johannes-Calvin-Haus, Rheingoldstraße 22-24, MA-Neckarau, , 
END:VEVENT
END:VCALENDAR