BEGIN:VCALENDAR
PRODID:http://www.kufer.de/kuferweb / DE
VERSION:2.0
METHOD:PUBLISH
CALSCALE:GREGORIAN
X-WR-TIMEZONE:Europe/Berlin
BEGIN:VTIMEZONE
TZID:Europe/Berlin
X-LIC-LOCATION:Europe/Berlin
BEGIN:DAYLIGHT
TZOFFSETFROM:+0100
TZOFFSETTO:+0200
TZNAME:CEST
DTSTART;TZID=Europe/Berlin:19700329T020000
RRULE:FREQ=YEARLY;INTERVAL=1;BYDAY=-1SU;BYMONTH=3
END:DAYLIGHT
BEGIN:STANDARD
TZOFFSETFROM:+0200
TZOFFSETTO:+0100
TZNAME:CET
DTSTART;TZID=Europe/Berlin:19701025T030000
RRULE:FREQ=YEARLY;INTERVAL=1;BYDAY=-1SU;BYMONTH=10
END:STANDARD
END:VTIMEZONE
BEGIN:VEVENT
DTSTAMP:20260423T104051
DTSTART;TZID=Europe/Berlin:20260825T160000
DTEND;TZID=Europe/Berlin:20260825T181500
UID:J612362-20260825T160000@VHSMANNHEIM
SUMMARY:A2.2 Englisch Intensiv - Teil 2 (J612362) 
LOCATION:U 1, Raum 510, U1, 16 - 19, 68161 Mannheim
END:VEVENT
BEGIN:VEVENT
DTSTAMP:20260423T104051
DTSTART;TZID=Europe/Berlin:20260901T160000
DTEND;TZID=Europe/Berlin:20260901T181500
UID:J612362-20260901T160000@VHSMANNHEIM
SUMMARY:A2.2 Englisch Intensiv - Teil 2 (J612362) 
LOCATION:U 1, Raum 510, U1, 16 - 19, 68161 Mannheim
END:VEVENT
BEGIN:VEVENT
DTSTAMP:20260423T104051
DTSTART;TZID=Europe/Berlin:20260908T160000
DTEND;TZID=Europe/Berlin:20260908T181500
UID:J612362-20260908T160000@VHSMANNHEIM
SUMMARY:A2.2 Englisch Intensiv - Teil 2 (J612362) 
LOCATION:U 1, Raum 510, U1, 16 - 19, 68161 Mannheim
END:VEVENT
BEGIN:VEVENT
DTSTAMP:20260423T104051
DTSTART;TZID=Europe/Berlin:20260915T160000
DTEND;TZID=Europe/Berlin:20260915T181500
UID:J612362-20260915T160000@VHSMANNHEIM
SUMMARY:A2.2 Englisch Intensiv - Teil 2 (J612362) 
LOCATION:U 1, Raum 510, U1, 16 - 19, 68161 Mannheim
END:VEVENT
BEGIN:VEVENT
DTSTAMP:20260423T104051
DTSTART;TZID=Europe/Berlin:20260922T160000
DTEND;TZID=Europe/Berlin:20260922T181500
UID:J612362-20260922T160000@VHSMANNHEIM
SUMMARY:A2.2 Englisch Intensiv - Teil 2 (J612362) 
LOCATION:U 1, Raum 510, U1, 16 - 19, 68161 Mannheim
END:VEVENT
BEGIN:VEVENT
DTSTAMP:20260423T104051
DTSTART;TZID=Europe/Berlin:20260929T160000
DTEND;TZID=Europe/Berlin:20260929T181500
UID:J612362-20260929T160000@VHSMANNHEIM
SUMMARY:A2.2 Englisch Intensiv - Teil 2 (J612362) 
LOCATION:U 1, Raum 510, U1, 16 - 19, 68161 Mannheim
END:VEVENT
BEGIN:VEVENT
DTSTAMP:20260423T104051
DTSTART;TZID=Europe/Berlin:20261006T160000
DTEND;TZID=Europe/Berlin:20261006T181500
UID:J612362-20261006T160000@VHSMANNHEIM
SUMMARY:A2.2 Englisch Intensiv - Teil 2 (J612362) 
LOCATION:U 1, Raum 510, U1, 16 - 19, 68161 Mannheim
END:VEVENT
BEGIN:VEVENT
DTSTAMP:20260423T104051
DTSTART;TZID=Europe/Berlin:20261013T160000
DTEND;TZID=Europe/Berlin:20261013T181500
UID:J612362-20261013T160000@VHSMANNHEIM
SUMMARY:A2.2 Englisch Intensiv - Teil 2 (J612362) 
LOCATION:U 1, Raum 510, U1, 16 - 19, 68161 Mannheim
END:VEVENT
END:VCALENDAR