BEGIN:VCALENDAR
PRODID:http://www.kufer.de/kuferweb / DE
VERSION:2.0
METHOD:PUBLISH
CALSCALE:GREGORIAN
X-WR-TIMEZONE:Europe/Berlin
BEGIN:VTIMEZONE
TZID:Europe/Berlin
X-LIC-LOCATION:Europe/Berlin
BEGIN:DAYLIGHT
TZOFFSETFROM:+0100
TZOFFSETTO:+0200
TZNAME:CEST
DTSTART;TZID=Europe/Berlin:19700329T020000
RRULE:FREQ=YEARLY;INTERVAL=1;BYDAY=-1SU;BYMONTH=3
END:DAYLIGHT
BEGIN:STANDARD
TZOFFSETFROM:+0200
TZOFFSETTO:+0100
TZNAME:CET
DTSTART;TZID=Europe/Berlin:19701025T030000
RRULE:FREQ=YEARLY;INTERVAL=1;BYDAY=-1SU;BYMONTH=10
END:STANDARD
END:VTIMEZONE
BEGIN:VEVENT
DTSTAMP:20260421T081259
DTSTART;TZID=Europe/Berlin:20260303T160000
DTEND;TZID=Europe/Berlin:20260303T173000
UID:J614550-20260303T160000@VHSMANNHEIM
SUMMARY:B1.2 English - Teil 1 Auffrischungskurs (J614550) 
LOCATION:U 1, Raum 313, U1, 16 - 19, 68161 Mannheim
END:VEVENT
BEGIN:VEVENT
DTSTAMP:20260421T081259
DTSTART;TZID=Europe/Berlin:20260317T160000
DTEND;TZID=Europe/Berlin:20260317T173000
UID:J614550-20260317T160000@VHSMANNHEIM
SUMMARY:B1.2 English - Teil 1 Auffrischungskurs (J614550) 
LOCATION:U 1, Raum 313, U1, 16 - 19, 68161 Mannheim
END:VEVENT
BEGIN:VEVENT
DTSTAMP:20260421T081259
DTSTART;TZID=Europe/Berlin:20260324T160000
DTEND;TZID=Europe/Berlin:20260324T173000
UID:J614550-20260324T160000@VHSMANNHEIM
SUMMARY:B1.2 English - Teil 1 Auffrischungskurs (J614550) 
LOCATION:U 1, Raum 313, U1, 16 - 19, 68161 Mannheim
END:VEVENT
BEGIN:VEVENT
DTSTAMP:20260421T081259
DTSTART;TZID=Europe/Berlin:20260414T160000
DTEND;TZID=Europe/Berlin:20260414T173000
UID:J614550-20260414T160000@VHSMANNHEIM
SUMMARY:B1.2 English - Teil 1 Auffrischungskurs (J614550) 
LOCATION:U 1, Raum 313, U1, 16 - 19, 68161 Mannheim
END:VEVENT
BEGIN:VEVENT
DTSTAMP:20260421T081259
DTSTART;TZID=Europe/Berlin:20260421T160000
DTEND;TZID=Europe/Berlin:20260421T173000
UID:J614550-20260421T160000@VHSMANNHEIM
SUMMARY:B1.2 English - Teil 1 Auffrischungskurs (J614550) 
LOCATION:U 1, Raum 313, U1, 16 - 19, 68161 Mannheim
END:VEVENT
BEGIN:VEVENT
DTSTAMP:20260421T081259
DTSTART;TZID=Europe/Berlin:20260428T160000
DTEND;TZID=Europe/Berlin:20260428T173000
UID:J614550-20260428T160000@VHSMANNHEIM
SUMMARY:B1.2 English - Teil 1 Auffrischungskurs (J614550) 
LOCATION:U 1, Raum 313, U1, 16 - 19, 68161 Mannheim
END:VEVENT
BEGIN:VEVENT
DTSTAMP:20260421T081259
DTSTART;TZID=Europe/Berlin:20260505T160000
DTEND;TZID=Europe/Berlin:20260505T173000
UID:J614550-20260505T160000@VHSMANNHEIM
SUMMARY:B1.2 English - Teil 1 Auffrischungskurs (J614550) 
LOCATION:U 1, Raum 313, U1, 16 - 19, 68161 Mannheim
END:VEVENT
BEGIN:VEVENT
DTSTAMP:20260421T081259
DTSTART;TZID=Europe/Berlin:20260512T160000
DTEND;TZID=Europe/Berlin:20260512T173000
UID:J614550-20260512T160000@VHSMANNHEIM
SUMMARY:B1.2 English - Teil 1 Auffrischungskurs (J614550) 
LOCATION:U 1, Raum 313, U1, 16 - 19, 68161 Mannheim
END:VEVENT
BEGIN:VEVENT
DTSTAMP:20260421T081259
DTSTART;TZID=Europe/Berlin:20260519T160000
DTEND;TZID=Europe/Berlin:20260519T173000
UID:J614550-20260519T160000@VHSMANNHEIM
SUMMARY:B1.2 English - Teil 1 Auffrischungskurs (J614550) 
LOCATION:U 1, Raum 313, U1, 16 - 19, 68161 Mannheim
END:VEVENT
BEGIN:VEVENT
DTSTAMP:20260421T081259
DTSTART;TZID=Europe/Berlin:20260609T160000
DTEND;TZID=Europe/Berlin:20260609T173000
UID:J614550-20260609T160000@VHSMANNHEIM
SUMMARY:B1.2 English - Teil 1 Auffrischungskurs (J614550) 
LOCATION:U 1, Raum 313, U1, 16 - 19, 68161 Mannheim
END:VEVENT
BEGIN:VEVENT
DTSTAMP:20260421T081259
DTSTART;TZID=Europe/Berlin:20260616T160000
DTEND;TZID=Europe/Berlin:20260616T173000
UID:J614550-20260616T160000@VHSMANNHEIM
SUMMARY:B1.2 English - Teil 1 Auffrischungskurs (J614550) 
LOCATION:U 1, Raum 313, U1, 16 - 19, 68161 Mannheim
END:VEVENT
END:VCALENDAR