BEGIN:VCALENDAR
PRODID:http://www.kufer.de/kuferweb / DE
VERSION:2.0
METHOD:PUBLISH
CALSCALE:GREGORIAN
X-WR-TIMEZONE:Europe/Berlin
BEGIN:VTIMEZONE
TZID:Europe/Berlin
X-LIC-LOCATION:Europe/Berlin
BEGIN:DAYLIGHT
TZOFFSETFROM:+0100
TZOFFSETTO:+0200
TZNAME:CEST
DTSTART;TZID=Europe/Berlin:19700329T020000
RRULE:FREQ=YEARLY;INTERVAL=1;BYDAY=-1SU;BYMONTH=3
END:DAYLIGHT
BEGIN:STANDARD
TZOFFSETFROM:+0200
TZOFFSETTO:+0100
TZNAME:CET
DTSTART;TZID=Europe/Berlin:19701025T030000
RRULE:FREQ=YEARLY;INTERVAL=1;BYDAY=-1SU;BYMONTH=10
END:STANDARD
END:VTIMEZONE
BEGIN:VEVENT
DTSTAMP:20260424T183927
DTSTART;TZID=Europe/Berlin:20260722T130000
DTEND;TZID=Europe/Berlin:20260722T143000
UID:J616540-20260722T130000@VHSMANNHEIM
SUMMARY: B1 English Conversation Online-Konversationskurs (Zoom) (J616540) 
LOCATION:Online, , online
END:VEVENT
BEGIN:VEVENT
DTSTAMP:20260424T183927
DTSTART;TZID=Europe/Berlin:20260729T130000
DTEND;TZID=Europe/Berlin:20260729T143000
UID:J616540-20260729T130000@VHSMANNHEIM
SUMMARY: B1 English Conversation Online-Konversationskurs (Zoom) (J616540) 
LOCATION:Online, , online
END:VEVENT
BEGIN:VEVENT
DTSTAMP:20260424T183927
DTSTART;TZID=Europe/Berlin:20260805T130000
DTEND;TZID=Europe/Berlin:20260805T143000
UID:J616540-20260805T130000@VHSMANNHEIM
SUMMARY: B1 English Conversation Online-Konversationskurs (Zoom) (J616540) 
LOCATION:Online, , online
END:VEVENT
BEGIN:VEVENT
DTSTAMP:20260424T183927
DTSTART;TZID=Europe/Berlin:20260812T130000
DTEND;TZID=Europe/Berlin:20260812T143000
UID:J616540-20260812T130000@VHSMANNHEIM
SUMMARY: B1 English Conversation Online-Konversationskurs (Zoom) (J616540) 
LOCATION:Online, , online
END:VEVENT
BEGIN:VEVENT
DTSTAMP:20260424T183927
DTSTART;TZID=Europe/Berlin:20260819T130000
DTEND;TZID=Europe/Berlin:20260819T143000
UID:J616540-20260819T130000@VHSMANNHEIM
SUMMARY: B1 English Conversation Online-Konversationskurs (Zoom) (J616540) 
LOCATION:Online, , online
END:VEVENT
BEGIN:VEVENT
DTSTAMP:20260424T183927
DTSTART;TZID=Europe/Berlin:20260826T130000
DTEND;TZID=Europe/Berlin:20260826T143000
UID:J616540-20260826T130000@VHSMANNHEIM
SUMMARY: B1 English Conversation Online-Konversationskurs (Zoom) (J616540) 
LOCATION:Online, , online
END:VEVENT
BEGIN:VEVENT
DTSTAMP:20260424T183927
DTSTART;TZID=Europe/Berlin:20260902T130000
DTEND;TZID=Europe/Berlin:20260902T143000
UID:J616540-20260902T130000@VHSMANNHEIM
SUMMARY: B1 English Conversation Online-Konversationskurs (Zoom) (J616540) 
LOCATION:Online, , online
END:VEVENT
END:VCALENDAR