BEGIN:VCALENDAR
PRODID:http://www.kufer.de/kuferweb / DE
VERSION:2.0
METHOD:PUBLISH
CALSCALE:GREGORIAN
X-WR-TIMEZONE:Europe/Berlin
BEGIN:VTIMEZONE
TZID:Europe/Berlin
X-LIC-LOCATION:Europe/Berlin
BEGIN:DAYLIGHT
TZOFFSETFROM:+0100
TZOFFSETTO:+0200
TZNAME:CEST
DTSTART;TZID=Europe/Berlin:19700329T020000
RRULE:FREQ=YEARLY;INTERVAL=1;BYDAY=-1SU;BYMONTH=3
END:DAYLIGHT
BEGIN:STANDARD
TZOFFSETFROM:+0200
TZOFFSETTO:+0100
TZNAME:CET
DTSTART;TZID=Europe/Berlin:19701025T030000
RRULE:FREQ=YEARLY;INTERVAL=1;BYDAY=-1SU;BYMONTH=10
END:STANDARD
END:VTIMEZONE
BEGIN:VEVENT
DTSTAMP:20260421T141909
DTSTART;TZID=Europe/Berlin:20260413T110000
DTEND;TZID=Europe/Berlin:20260413T123000
UID:J630225-20260413T110000@VHSMANNHEIM
SUMMARY:A1.3 Spanisch  Anfänger mit Vorkenntnissen (J630225) 
LOCATION:U 1, Raum 306, U1, 16 - 19, 68161 Mannheim
END:VEVENT
BEGIN:VEVENT
DTSTAMP:20260421T141909
DTSTART;TZID=Europe/Berlin:20260420T110000
DTEND;TZID=Europe/Berlin:20260420T123000
UID:J630225-20260420T110000@VHSMANNHEIM
SUMMARY:A1.3 Spanisch  Anfänger mit Vorkenntnissen (J630225) 
LOCATION:U 1, Raum 306, U1, 16 - 19, 68161 Mannheim
END:VEVENT
BEGIN:VEVENT
DTSTAMP:20260421T141909
DTSTART;TZID=Europe/Berlin:20260504T110000
DTEND;TZID=Europe/Berlin:20260504T123000
UID:J630225-20260504T110000@VHSMANNHEIM
SUMMARY:A1.3 Spanisch  Anfänger mit Vorkenntnissen (J630225) 
LOCATION:U 1, Raum 306, U1, 16 - 19, 68161 Mannheim
END:VEVENT
BEGIN:VEVENT
DTSTAMP:20260421T141909
DTSTART;TZID=Europe/Berlin:20260511T110000
DTEND;TZID=Europe/Berlin:20260511T123000
UID:J630225-20260511T110000@VHSMANNHEIM
SUMMARY:A1.3 Spanisch  Anfänger mit Vorkenntnissen (J630225) 
LOCATION:U 1, Raum 306, U1, 16 - 19, 68161 Mannheim
END:VEVENT
BEGIN:VEVENT
DTSTAMP:20260421T141909
DTSTART;TZID=Europe/Berlin:20260518T110000
DTEND;TZID=Europe/Berlin:20260518T123000
UID:J630225-20260518T110000@VHSMANNHEIM
SUMMARY:A1.3 Spanisch  Anfänger mit Vorkenntnissen (J630225) 
LOCATION:U 1, Raum 306, U1, 16 - 19, 68161 Mannheim
END:VEVENT
BEGIN:VEVENT
DTSTAMP:20260421T141909
DTSTART;TZID=Europe/Berlin:20260601T110000
DTEND;TZID=Europe/Berlin:20260601T123000
UID:J630225-20260601T110000@VHSMANNHEIM
SUMMARY:A1.3 Spanisch  Anfänger mit Vorkenntnissen (J630225) 
LOCATION:U 1, Raum 306, U1, 16 - 19, 68161 Mannheim
END:VEVENT
BEGIN:VEVENT
DTSTAMP:20260421T141909
DTSTART;TZID=Europe/Berlin:20260608T110000
DTEND;TZID=Europe/Berlin:20260608T123000
UID:J630225-20260608T110000@VHSMANNHEIM
SUMMARY:A1.3 Spanisch  Anfänger mit Vorkenntnissen (J630225) 
LOCATION:U 1, Raum 306, U1, 16 - 19, 68161 Mannheim
END:VEVENT
BEGIN:VEVENT
DTSTAMP:20260421T141909
DTSTART;TZID=Europe/Berlin:20260615T110000
DTEND;TZID=Europe/Berlin:20260615T123000
UID:J630225-20260615T110000@VHSMANNHEIM
SUMMARY:A1.3 Spanisch  Anfänger mit Vorkenntnissen (J630225) 
LOCATION:U 1, Raum 306, U1, 16 - 19, 68161 Mannheim
END:VEVENT
BEGIN:VEVENT
DTSTAMP:20260421T141909
DTSTART;TZID=Europe/Berlin:20260622T110000
DTEND;TZID=Europe/Berlin:20260622T123000
UID:J630225-20260622T110000@VHSMANNHEIM
SUMMARY:A1.3 Spanisch  Anfänger mit Vorkenntnissen (J630225) 
LOCATION:U 1, Raum 306, U1, 16 - 19, 68161 Mannheim
END:VEVENT
BEGIN:VEVENT
DTSTAMP:20260421T141909
DTSTART;TZID=Europe/Berlin:20260629T110000
DTEND;TZID=Europe/Berlin:20260629T123000
UID:J630225-20260629T110000@VHSMANNHEIM
SUMMARY:A1.3 Spanisch  Anfänger mit Vorkenntnissen (J630225) 
LOCATION:U 1, Raum 306, U1, 16 - 19, 68161 Mannheim
END:VEVENT
BEGIN:VEVENT
DTSTAMP:20260421T141909
DTSTART;TZID=Europe/Berlin:20260706T110000
DTEND;TZID=Europe/Berlin:20260706T123000
UID:J630225-20260706T110000@VHSMANNHEIM
SUMMARY:A1.3 Spanisch  Anfänger mit Vorkenntnissen (J630225) 
LOCATION:U 1, Raum 306, U1, 16 - 19, 68161 Mannheim
END:VEVENT
BEGIN:VEVENT
DTSTAMP:20260421T141909
DTSTART;TZID=Europe/Berlin:20260713T110000
DTEND;TZID=Europe/Berlin:20260713T123000
UID:J630225-20260713T110000@VHSMANNHEIM
SUMMARY:A1.3 Spanisch  Anfänger mit Vorkenntnissen (J630225) 
LOCATION:U 1, Raum 306, U1, 16 - 19, 68161 Mannheim
END:VEVENT
END:VCALENDAR