BEGIN:VCALENDAR
PRODID:http://www.kufer.de/kuferweb / DE
VERSION:2.0
METHOD:PUBLISH
CALSCALE:GREGORIAN
X-WR-TIMEZONE:Europe/Berlin
BEGIN:VTIMEZONE
TZID:Europe/Berlin
X-LIC-LOCATION:Europe/Berlin
BEGIN:DAYLIGHT
TZOFFSETFROM:+0100
TZOFFSETTO:+0200
TZNAME:CEST
DTSTART;TZID=Europe/Berlin:19700329T020000
RRULE:FREQ=YEARLY;INTERVAL=1;BYDAY=-1SU;BYMONTH=3
END:DAYLIGHT
BEGIN:STANDARD
TZOFFSETFROM:+0200
TZOFFSETTO:+0100
TZNAME:CET
DTSTART;TZID=Europe/Berlin:19701025T030000
RRULE:FREQ=YEARLY;INTERVAL=1;BYDAY=-1SU;BYMONTH=10
END:STANDARD
END:VTIMEZONE
BEGIN:VEVENT
DTSTAMP:20260420T230732
DTSTART;TZID=Europe/Berlin:20260606T103000
DTEND;TZID=Europe/Berlin:20260606T124500
UID:J632160-20260606T103000@VHSMANNHEIM
SUMMARY:A1.2 Spanisch Intensiv Anfänger*innen mit Vorkenntnissen (J632160) 
LOCATION:U 1, Raum 404, U1, 16 - 19, 68161 Mannheim
END:VEVENT
BEGIN:VEVENT
DTSTAMP:20260420T230732
DTSTART;TZID=Europe/Berlin:20260613T103000
DTEND;TZID=Europe/Berlin:20260613T124500
UID:J632160-20260613T103000@VHSMANNHEIM
SUMMARY:A1.2 Spanisch Intensiv Anfänger*innen mit Vorkenntnissen (J632160) 
LOCATION:U 1, Raum 404, U1, 16 - 19, 68161 Mannheim
END:VEVENT
BEGIN:VEVENT
DTSTAMP:20260420T230732
DTSTART;TZID=Europe/Berlin:20260620T103000
DTEND;TZID=Europe/Berlin:20260620T124500
UID:J632160-20260620T103000@VHSMANNHEIM
SUMMARY:A1.2 Spanisch Intensiv Anfänger*innen mit Vorkenntnissen (J632160) 
LOCATION:U 1, Raum 404, U1, 16 - 19, 68161 Mannheim
END:VEVENT
BEGIN:VEVENT
DTSTAMP:20260420T230732
DTSTART;TZID=Europe/Berlin:20260627T103000
DTEND;TZID=Europe/Berlin:20260627T124500
UID:J632160-20260627T103000@VHSMANNHEIM
SUMMARY:A1.2 Spanisch Intensiv Anfänger*innen mit Vorkenntnissen (J632160) 
LOCATION:U 1, Raum 404, U1, 16 - 19, 68161 Mannheim
END:VEVENT
BEGIN:VEVENT
DTSTAMP:20260420T230732
DTSTART;TZID=Europe/Berlin:20260704T103000
DTEND;TZID=Europe/Berlin:20260704T124500
UID:J632160-20260704T103000@VHSMANNHEIM
SUMMARY:A1.2 Spanisch Intensiv Anfänger*innen mit Vorkenntnissen (J632160) 
LOCATION:U 1, Raum 404, U1, 16 - 19, 68161 Mannheim
END:VEVENT
BEGIN:VEVENT
DTSTAMP:20260420T230732
DTSTART;TZID=Europe/Berlin:20260711T103000
DTEND;TZID=Europe/Berlin:20260711T124500
UID:J632160-20260711T103000@VHSMANNHEIM
SUMMARY:A1.2 Spanisch Intensiv Anfänger*innen mit Vorkenntnissen (J632160) 
LOCATION:U 1, Raum 404, U1, 16 - 19, 68161 Mannheim
END:VEVENT
BEGIN:VEVENT
DTSTAMP:20260420T230732
DTSTART;TZID=Europe/Berlin:20260718T103000
DTEND;TZID=Europe/Berlin:20260718T124500
UID:J632160-20260718T103000@VHSMANNHEIM
SUMMARY:A1.2 Spanisch Intensiv Anfänger*innen mit Vorkenntnissen (J632160) 
LOCATION:U 1, Raum 404, U1, 16 - 19, 68161 Mannheim
END:VEVENT
BEGIN:VEVENT
DTSTAMP:20260420T230732
DTSTART;TZID=Europe/Berlin:20260725T103000
DTEND;TZID=Europe/Berlin:20260725T124500
UID:J632160-20260725T103000@VHSMANNHEIM
SUMMARY:A1.2 Spanisch Intensiv Anfänger*innen mit Vorkenntnissen (J632160) 
LOCATION:U 1, Raum 404, U1, 16 - 19, 68161 Mannheim
END:VEVENT
END:VCALENDAR