BEGIN:VCALENDAR
PRODID:http://www.kufer.de/kuferweb / DE
VERSION:2.0
METHOD:PUBLISH
CALSCALE:GREGORIAN
X-WR-TIMEZONE:Europe/Berlin
BEGIN:VTIMEZONE
TZID:Europe/Berlin
X-LIC-LOCATION:Europe/Berlin
BEGIN:DAYLIGHT
TZOFFSETFROM:+0100
TZOFFSETTO:+0200
TZNAME:CEST
DTSTART;TZID=Europe/Berlin:19700329T020000
RRULE:FREQ=YEARLY;INTERVAL=1;BYDAY=-1SU;BYMONTH=3
END:DAYLIGHT
BEGIN:STANDARD
TZOFFSETFROM:+0200
TZOFFSETTO:+0100
TZNAME:CET
DTSTART;TZID=Europe/Berlin:19701025T030000
RRULE:FREQ=YEARLY;INTERVAL=1;BYDAY=-1SU;BYMONTH=10
END:STANDARD
END:VTIMEZONE
BEGIN:VEVENT
DTSTAMP:20260421T141933
DTSTART;TZID=Europe/Berlin:20260413T103000
DTEND;TZID=Europe/Berlin:20260413T120000
UID:J636289-20260413T103000@VHSMANNHEIM
SUMMARY:A2 Spanisch - Lektüre und Konversation (J636289) 
LOCATION:U 1, Raum 308, U1, 16 - 19, 68161 Mannheim
END:VEVENT
BEGIN:VEVENT
DTSTAMP:20260421T141933
DTSTART;TZID=Europe/Berlin:20260420T103000
DTEND;TZID=Europe/Berlin:20260420T120000
UID:J636289-20260420T103000@VHSMANNHEIM
SUMMARY:A2 Spanisch - Lektüre und Konversation (J636289) 
LOCATION:U 1, Raum 308, U1, 16 - 19, 68161 Mannheim
END:VEVENT
BEGIN:VEVENT
DTSTAMP:20260421T141933
DTSTART;TZID=Europe/Berlin:20260427T103000
DTEND;TZID=Europe/Berlin:20260427T120000
UID:J636289-20260427T103000@VHSMANNHEIM
SUMMARY:A2 Spanisch - Lektüre und Konversation (J636289) 
LOCATION:U 1, Raum 308, U1, 16 - 19, 68161 Mannheim
END:VEVENT
BEGIN:VEVENT
DTSTAMP:20260421T141933
DTSTART;TZID=Europe/Berlin:20260504T103000
DTEND;TZID=Europe/Berlin:20260504T120000
UID:J636289-20260504T103000@VHSMANNHEIM
SUMMARY:A2 Spanisch - Lektüre und Konversation (J636289) 
LOCATION:U 1, Raum 308, U1, 16 - 19, 68161 Mannheim
END:VEVENT
BEGIN:VEVENT
DTSTAMP:20260421T141933
DTSTART;TZID=Europe/Berlin:20260511T103000
DTEND;TZID=Europe/Berlin:20260511T120000
UID:J636289-20260511T103000@VHSMANNHEIM
SUMMARY:A2 Spanisch - Lektüre und Konversation (J636289) 
LOCATION:U 1, Raum 308, U1, 16 - 19, 68161 Mannheim
END:VEVENT
BEGIN:VEVENT
DTSTAMP:20260421T141933
DTSTART;TZID=Europe/Berlin:20260518T103000
DTEND;TZID=Europe/Berlin:20260518T120000
UID:J636289-20260518T103000@VHSMANNHEIM
SUMMARY:A2 Spanisch - Lektüre und Konversation (J636289) 
LOCATION:U 1, Raum 308, U1, 16 - 19, 68161 Mannheim
END:VEVENT
BEGIN:VEVENT
DTSTAMP:20260421T141933
DTSTART;TZID=Europe/Berlin:20260608T103000
DTEND;TZID=Europe/Berlin:20260608T120000
UID:J636289-20260608T103000@VHSMANNHEIM
SUMMARY:A2 Spanisch - Lektüre und Konversation (J636289) 
LOCATION:U 1, Raum 308, U1, 16 - 19, 68161 Mannheim
END:VEVENT
BEGIN:VEVENT
DTSTAMP:20260421T141933
DTSTART;TZID=Europe/Berlin:20260615T103000
DTEND;TZID=Europe/Berlin:20260615T120000
UID:J636289-20260615T103000@VHSMANNHEIM
SUMMARY:A2 Spanisch - Lektüre und Konversation (J636289) 
LOCATION:U 1, Raum 308, U1, 16 - 19, 68161 Mannheim
END:VEVENT
BEGIN:VEVENT
DTSTAMP:20260421T141933
DTSTART;TZID=Europe/Berlin:20260622T103000
DTEND;TZID=Europe/Berlin:20260622T120000
UID:J636289-20260622T103000@VHSMANNHEIM
SUMMARY:A2 Spanisch - Lektüre und Konversation (J636289) 
LOCATION:U 1, Raum 308, U1, 16 - 19, 68161 Mannheim
END:VEVENT
BEGIN:VEVENT
DTSTAMP:20260421T141933
DTSTART;TZID=Europe/Berlin:20260629T103000
DTEND;TZID=Europe/Berlin:20260629T120000
UID:J636289-20260629T103000@VHSMANNHEIM
SUMMARY:A2 Spanisch - Lektüre und Konversation (J636289) 
LOCATION:U 1, Raum 308, U1, 16 - 19, 68161 Mannheim
END:VEVENT
BEGIN:VEVENT
DTSTAMP:20260421T141933
DTSTART;TZID=Europe/Berlin:20260706T103000
DTEND;TZID=Europe/Berlin:20260706T120000
UID:J636289-20260706T103000@VHSMANNHEIM
SUMMARY:A2 Spanisch - Lektüre und Konversation (J636289) 
LOCATION:U 1, Raum 308, U1, 16 - 19, 68161 Mannheim
END:VEVENT
BEGIN:VEVENT
DTSTAMP:20260421T141933
DTSTART;TZID=Europe/Berlin:20260713T103000
DTEND;TZID=Europe/Berlin:20260713T120000
UID:J636289-20260713T103000@VHSMANNHEIM
SUMMARY:A2 Spanisch - Lektüre und Konversation (J636289) 
LOCATION:U 1, Raum 308, U1, 16 - 19, 68161 Mannheim
END:VEVENT
BEGIN:VEVENT
DTSTAMP:20260421T141933
DTSTART;TZID=Europe/Berlin:20260720T103000
DTEND;TZID=Europe/Berlin:20260720T120000
UID:J636289-20260720T103000@VHSMANNHEIM
SUMMARY:A2 Spanisch - Lektüre und Konversation (J636289) 
LOCATION:U 1, Raum 308, U1, 16 - 19, 68161 Mannheim
END:VEVENT
END:VCALENDAR