BEGIN:VCALENDAR
PRODID:http://www.kufer.de/kuferweb / DE
VERSION:2.0
METHOD:PUBLISH
CALSCALE:GREGORIAN
X-WR-TIMEZONE:Europe/Berlin
BEGIN:VTIMEZONE
TZID:Europe/Berlin
X-LIC-LOCATION:Europe/Berlin
BEGIN:DAYLIGHT
TZOFFSETFROM:+0100
TZOFFSETTO:+0200
TZNAME:CEST
DTSTART;TZID=Europe/Berlin:19700329T020000
RRULE:FREQ=YEARLY;INTERVAL=1;BYDAY=-1SU;BYMONTH=3
END:DAYLIGHT
BEGIN:STANDARD
TZOFFSETFROM:+0200
TZOFFSETTO:+0100
TZNAME:CET
DTSTART;TZID=Europe/Berlin:19701025T030000
RRULE:FREQ=YEARLY;INTERVAL=1;BYDAY=-1SU;BYMONTH=10
END:STANDARD
END:VTIMEZONE
BEGIN:VEVENT
DTSTAMP:20260421T014653
DTSTART;TZID=Europe/Berlin:20260610T161500
DTEND;TZID=Europe/Berlin:20260610T174500
UID:J636650-20260610T161500@VHSMANNHEIM
SUMMARY:B1/B2 Spanisch - Sprache und Kultur Konversationskurs (J636650) 
LOCATION:U 1, Raum 306, U1, 16 - 19, 68161 Mannheim
END:VEVENT
BEGIN:VEVENT
DTSTAMP:20260421T014653
DTSTART;TZID=Europe/Berlin:20260617T161500
DTEND;TZID=Europe/Berlin:20260617T174500
UID:J636650-20260617T161500@VHSMANNHEIM
SUMMARY:B1/B2 Spanisch - Sprache und Kultur Konversationskurs (J636650) 
LOCATION:U 1, Raum 306, U1, 16 - 19, 68161 Mannheim
END:VEVENT
BEGIN:VEVENT
DTSTAMP:20260421T014653
DTSTART;TZID=Europe/Berlin:20260624T161500
DTEND;TZID=Europe/Berlin:20260624T174500
UID:J636650-20260624T161500@VHSMANNHEIM
SUMMARY:B1/B2 Spanisch - Sprache und Kultur Konversationskurs (J636650) 
LOCATION:U 1, Raum 306, U1, 16 - 19, 68161 Mannheim
END:VEVENT
BEGIN:VEVENT
DTSTAMP:20260421T014653
DTSTART;TZID=Europe/Berlin:20260701T161500
DTEND;TZID=Europe/Berlin:20260701T174500
UID:J636650-20260701T161500@VHSMANNHEIM
SUMMARY:B1/B2 Spanisch - Sprache und Kultur Konversationskurs (J636650) 
LOCATION:U 1, Raum 306, U1, 16 - 19, 68161 Mannheim
END:VEVENT
BEGIN:VEVENT
DTSTAMP:20260421T014653
DTSTART;TZID=Europe/Berlin:20260708T161500
DTEND;TZID=Europe/Berlin:20260708T174500
UID:J636650-20260708T161500@VHSMANNHEIM
SUMMARY:B1/B2 Spanisch - Sprache und Kultur Konversationskurs (J636650) 
LOCATION:U 1, Raum 306, U1, 16 - 19, 68161 Mannheim
END:VEVENT
BEGIN:VEVENT
DTSTAMP:20260421T014653
DTSTART;TZID=Europe/Berlin:20260715T161500
DTEND;TZID=Europe/Berlin:20260715T174500
UID:J636650-20260715T161500@VHSMANNHEIM
SUMMARY:B1/B2 Spanisch - Sprache und Kultur Konversationskurs (J636650) 
LOCATION:U 1, Raum 306, U1, 16 - 19, 68161 Mannheim
END:VEVENT
BEGIN:VEVENT
DTSTAMP:20260421T014653
DTSTART;TZID=Europe/Berlin:20260722T161500
DTEND;TZID=Europe/Berlin:20260722T174500
UID:J636650-20260722T161500@VHSMANNHEIM
SUMMARY:B1/B2 Spanisch - Sprache und Kultur Konversationskurs (J636650) 
LOCATION:U 1, Raum 306, U1, 16 - 19, 68161 Mannheim
END:VEVENT
BEGIN:VEVENT
DTSTAMP:20260421T014653
DTSTART;TZID=Europe/Berlin:20260729T161500
DTEND;TZID=Europe/Berlin:20260729T174500
UID:J636650-20260729T161500@VHSMANNHEIM
SUMMARY:B1/B2 Spanisch - Sprache und Kultur Konversationskurs (J636650) 
LOCATION:U 1, Raum 306, U1, 16 - 19, 68161 Mannheim
END:VEVENT
END:VCALENDAR