BEGIN:VCALENDAR
PRODID:http://www.kufer.de/kuferweb / DE
VERSION:2.0
METHOD:PUBLISH
CALSCALE:GREGORIAN
X-WR-TIMEZONE:Europe/Berlin
BEGIN:VTIMEZONE
TZID:Europe/Berlin
X-LIC-LOCATION:Europe/Berlin
BEGIN:DAYLIGHT
TZOFFSETFROM:+0100
TZOFFSETTO:+0200
TZNAME:CEST
DTSTART;TZID=Europe/Berlin:19700329T020000
RRULE:FREQ=YEARLY;INTERVAL=1;BYDAY=-1SU;BYMONTH=3
END:DAYLIGHT
BEGIN:STANDARD
TZOFFSETFROM:+0200
TZOFFSETTO:+0100
TZNAME:CET
DTSTART;TZID=Europe/Berlin:19701025T030000
RRULE:FREQ=YEARLY;INTERVAL=1;BYDAY=-1SU;BYMONTH=10
END:STANDARD
END:VTIMEZONE
BEGIN:VEVENT
DTSTAMP:20260422T235120
DTSTART;TZID=Europe/Berlin:20260622T181500
DTEND;TZID=Europe/Berlin:20260622T194500
UID:J644550-20260622T181500@VHSMANNHEIM
SUMMARY:B1.1 Italienisch Auffrischung Auffrischungskurs (J644550) 
LOCATION:U 1, Raum 308, U1, 16 - 19, 68161 Mannheim
END:VEVENT
BEGIN:VEVENT
DTSTAMP:20260422T235120
DTSTART;TZID=Europe/Berlin:20260629T181500
DTEND;TZID=Europe/Berlin:20260629T194500
UID:J644550-20260629T181500@VHSMANNHEIM
SUMMARY:B1.1 Italienisch Auffrischung Auffrischungskurs (J644550) 
LOCATION:U 1, Raum 308, U1, 16 - 19, 68161 Mannheim
END:VEVENT
BEGIN:VEVENT
DTSTAMP:20260422T235120
DTSTART;TZID=Europe/Berlin:20260706T181500
DTEND;TZID=Europe/Berlin:20260706T194500
UID:J644550-20260706T181500@VHSMANNHEIM
SUMMARY:B1.1 Italienisch Auffrischung Auffrischungskurs (J644550) 
LOCATION:U 1, Raum 308, U1, 16 - 19, 68161 Mannheim
END:VEVENT
BEGIN:VEVENT
DTSTAMP:20260422T235120
DTSTART;TZID=Europe/Berlin:20260713T181500
DTEND;TZID=Europe/Berlin:20260713T194500
UID:J644550-20260713T181500@VHSMANNHEIM
SUMMARY:B1.1 Italienisch Auffrischung Auffrischungskurs (J644550) 
LOCATION:U 1, Raum 308, U1, 16 - 19, 68161 Mannheim
END:VEVENT
BEGIN:VEVENT
DTSTAMP:20260422T235120
DTSTART;TZID=Europe/Berlin:20260720T181500
DTEND;TZID=Europe/Berlin:20260720T194500
UID:J644550-20260720T181500@VHSMANNHEIM
SUMMARY:B1.1 Italienisch Auffrischung Auffrischungskurs (J644550) 
LOCATION:U 1, Raum 308, U1, 16 - 19, 68161 Mannheim
END:VEVENT
BEGIN:VEVENT
DTSTAMP:20260422T235120
DTSTART;TZID=Europe/Berlin:20260727T181500
DTEND;TZID=Europe/Berlin:20260727T194500
UID:J644550-20260727T181500@VHSMANNHEIM
SUMMARY:B1.1 Italienisch Auffrischung Auffrischungskurs (J644550) 
LOCATION:U 1, Raum 308, U1, 16 - 19, 68161 Mannheim
END:VEVENT
END:VCALENDAR