BEGIN:VCALENDAR
PRODID:http://www.kufer.de/kuferweb / DE
VERSION:2.0
METHOD:PUBLISH
CALSCALE:GREGORIAN
X-WR-TIMEZONE:Europe/Berlin
BEGIN:VTIMEZONE
TZID:Europe/Berlin
X-LIC-LOCATION:Europe/Berlin
BEGIN:DAYLIGHT
TZOFFSETFROM:+0100
TZOFFSETTO:+0200
TZNAME:CEST
DTSTART;TZID=Europe/Berlin:19700329T020000
RRULE:FREQ=YEARLY;INTERVAL=1;BYDAY=-1SU;BYMONTH=3
END:DAYLIGHT
BEGIN:STANDARD
TZOFFSETFROM:+0200
TZOFFSETTO:+0100
TZNAME:CET
DTSTART;TZID=Europe/Berlin:19701025T030000
RRULE:FREQ=YEARLY;INTERVAL=1;BYDAY=-1SU;BYMONTH=10
END:STANDARD
END:VTIMEZONE
BEGIN:VEVENT
DTSTAMP:20260421T141916
DTSTART;TZID=Europe/Berlin:20260302T193000
DTEND;TZID=Europe/Berlin:20260302T210000
UID:J661110-20260302T193000@VHSMANNHEIM
SUMMARY:A1.1 Neugriechisch Anfänger*innen ohne Vorkenntnisse (J661110) 
LOCATION:Karl-Friedrich-Gymnasium, Raum 107, Roonstraße 4 - 6, 68165 Mannheim-Schwetzingerstadt
END:VEVENT
BEGIN:VEVENT
DTSTAMP:20260421T141916
DTSTART;TZID=Europe/Berlin:20260309T193000
DTEND;TZID=Europe/Berlin:20260309T210000
UID:J661110-20260309T193000@VHSMANNHEIM
SUMMARY:A1.1 Neugriechisch Anfänger*innen ohne Vorkenntnisse (J661110) 
LOCATION:Karl-Friedrich-Gymnasium, Raum 112, Roonstraße 4 - 6, 68165 Mannheim-Schwetzingerstadt
END:VEVENT
BEGIN:VEVENT
DTSTAMP:20260421T141916
DTSTART;TZID=Europe/Berlin:20260316T193000
DTEND;TZID=Europe/Berlin:20260316T210000
UID:J661110-20260316T193000@VHSMANNHEIM
SUMMARY:A1.1 Neugriechisch Anfänger*innen ohne Vorkenntnisse (J661110) 
LOCATION:Karl-Friedrich-Gymnasium, Raum 112, Roonstraße 4 - 6, 68165 Mannheim-Schwetzingerstadt
END:VEVENT
BEGIN:VEVENT
DTSTAMP:20260421T141916
DTSTART;TZID=Europe/Berlin:20260323T193000
DTEND;TZID=Europe/Berlin:20260323T210000
UID:J661110-20260323T193000@VHSMANNHEIM
SUMMARY:A1.1 Neugriechisch Anfänger*innen ohne Vorkenntnisse (J661110) 
LOCATION:Karl-Friedrich-Gymnasium, Raum 112, Roonstraße 4 - 6, 68165 Mannheim-Schwetzingerstadt
END:VEVENT
BEGIN:VEVENT
DTSTAMP:20260421T141916
DTSTART;TZID=Europe/Berlin:20260413T193000
DTEND;TZID=Europe/Berlin:20260413T210000
UID:J661110-20260413T193000@VHSMANNHEIM
SUMMARY:A1.1 Neugriechisch Anfänger*innen ohne Vorkenntnisse (J661110) 
LOCATION:Karl-Friedrich-Gymnasium, Raum 112, Roonstraße 4 - 6, 68165 Mannheim-Schwetzingerstadt
END:VEVENT
BEGIN:VEVENT
DTSTAMP:20260421T141916
DTSTART;TZID=Europe/Berlin:20260420T193000
DTEND;TZID=Europe/Berlin:20260420T210000
UID:J661110-20260420T193000@VHSMANNHEIM
SUMMARY:A1.1 Neugriechisch Anfänger*innen ohne Vorkenntnisse (J661110) 
LOCATION:Karl-Friedrich-Gymnasium, Raum 112, Roonstraße 4 - 6, 68165 Mannheim-Schwetzingerstadt
END:VEVENT
BEGIN:VEVENT
DTSTAMP:20260421T141916
DTSTART;TZID=Europe/Berlin:20260427T193000
DTEND;TZID=Europe/Berlin:20260427T210000
UID:J661110-20260427T193000@VHSMANNHEIM
SUMMARY:A1.1 Neugriechisch Anfänger*innen ohne Vorkenntnisse (J661110) 
LOCATION:Karl-Friedrich-Gymnasium, Raum 112, Roonstraße 4 - 6, 68165 Mannheim-Schwetzingerstadt
END:VEVENT
BEGIN:VEVENT
DTSTAMP:20260421T141916
DTSTART;TZID=Europe/Berlin:20260504T193000
DTEND;TZID=Europe/Berlin:20260504T210000
UID:J661110-20260504T193000@VHSMANNHEIM
SUMMARY:A1.1 Neugriechisch Anfänger*innen ohne Vorkenntnisse (J661110) 
LOCATION:Karl-Friedrich-Gymnasium, Raum 112, Roonstraße 4 - 6, 68165 Mannheim-Schwetzingerstadt
END:VEVENT
BEGIN:VEVENT
DTSTAMP:20260421T141916
DTSTART;TZID=Europe/Berlin:20260511T193000
DTEND;TZID=Europe/Berlin:20260511T210000
UID:J661110-20260511T193000@VHSMANNHEIM
SUMMARY:A1.1 Neugriechisch Anfänger*innen ohne Vorkenntnisse (J661110) 
LOCATION:Karl-Friedrich-Gymnasium, Raum 112, Roonstraße 4 - 6, 68165 Mannheim-Schwetzingerstadt
END:VEVENT
BEGIN:VEVENT
DTSTAMP:20260421T141916
DTSTART;TZID=Europe/Berlin:20260518T193000
DTEND;TZID=Europe/Berlin:20260518T210000
UID:J661110-20260518T193000@VHSMANNHEIM
SUMMARY:A1.1 Neugriechisch Anfänger*innen ohne Vorkenntnisse (J661110) 
LOCATION:Karl-Friedrich-Gymnasium, Raum 112, Roonstraße 4 - 6, 68165 Mannheim-Schwetzingerstadt
END:VEVENT
BEGIN:VEVENT
DTSTAMP:20260421T141916
DTSTART;TZID=Europe/Berlin:20260608T193000
DTEND;TZID=Europe/Berlin:20260608T210000
UID:J661110-20260608T193000@VHSMANNHEIM
SUMMARY:A1.1 Neugriechisch Anfänger*innen ohne Vorkenntnisse (J661110) 
LOCATION:Karl-Friedrich-Gymnasium, Raum 112, Roonstraße 4 - 6, 68165 Mannheim-Schwetzingerstadt
END:VEVENT
BEGIN:VEVENT
DTSTAMP:20260421T141916
DTSTART;TZID=Europe/Berlin:20260615T193000
DTEND;TZID=Europe/Berlin:20260615T210000
UID:J661110-20260615T193000@VHSMANNHEIM
SUMMARY:A1.1 Neugriechisch Anfänger*innen ohne Vorkenntnisse (J661110) 
LOCATION:Karl-Friedrich-Gymnasium, Raum 112, Roonstraße 4 - 6, 68165 Mannheim-Schwetzingerstadt
END:VEVENT
BEGIN:VEVENT
DTSTAMP:20260421T141916
DTSTART;TZID=Europe/Berlin:20260622T193000
DTEND;TZID=Europe/Berlin:20260622T210000
UID:J661110-20260622T193000@VHSMANNHEIM
SUMMARY:A1.1 Neugriechisch Anfänger*innen ohne Vorkenntnisse (J661110) 
LOCATION:Karl-Friedrich-Gymnasium, Raum 112, Roonstraße 4 - 6, 68165 Mannheim-Schwetzingerstadt
END:VEVENT
BEGIN:VEVENT
DTSTAMP:20260421T141916
DTSTART;TZID=Europe/Berlin:20260629T193000
DTEND;TZID=Europe/Berlin:20260629T210000
UID:J661110-20260629T193000@VHSMANNHEIM
SUMMARY:A1.1 Neugriechisch Anfänger*innen ohne Vorkenntnisse (J661110) 
LOCATION:Karl-Friedrich-Gymnasium, Raum 112, Roonstraße 4 - 6, 68165 Mannheim-Schwetzingerstadt
END:VEVENT
BEGIN:VEVENT
DTSTAMP:20260421T141916
DTSTART;TZID=Europe/Berlin:20260706T193000
DTEND;TZID=Europe/Berlin:20260706T210000
UID:J661110-20260706T193000@VHSMANNHEIM
SUMMARY:A1.1 Neugriechisch Anfänger*innen ohne Vorkenntnisse (J661110) 
LOCATION:Karl-Friedrich-Gymnasium, Raum 112, Roonstraße 4 - 6, 68165 Mannheim-Schwetzingerstadt
END:VEVENT
END:VCALENDAR